Workbook

Sheet   SÜPER LİG OLUŞUM
A1: 1 | B1: FATİH KAYA | C1: =A1 -> 1 | F1: 1 | J1: 1-12
A2: 2 | B2: MUSTAFA DEMİR | C2: =A2 -> 2 | F2: 2 | J2: 2-11
A3: 3 | B3: RAMAZAN KAPTANOĞLU | C3: =A3 -> 3 | F3: 3 | J3: 3-10
A4: 4 | B4: FATİH YENİSOLAK | C4: =A4 -> 4 | F4: 4 | J4: 4-9
A5: 5 | B5: ALADDİN ÖZDEMİR | C5: =A5 -> 5 | F5: 5 | J5: 5-8
A6: 6 | B6: SELİM ERTUĞTUL | C6: =A6 -> 6 | F6: 6 | J6: 6-7
A7: 7 | B7: MURAT ÖZKARS | C7: =A7 -> 7 | F7: 7 | J7: 11-1
A8: 8 | B8: MUSTAFA KURTUL | C8: =A8 -> 8 | F8: 8 | J8: 12-10
A9: 9 | B9: KAMİL BÖRÜBAN | C9: =A9 -> 9 | F9: 9 | J9: 2-9
A10: 10 | B10: ÇETİN KAPTANOĞLU | C10: =A10 -> 10 | F10: 10 | J10: 3-8
A11: 11 | B11: HAMDİ ÖZKAN | C11: =A11 -> 11 | F11: 11 | J11: 4-7
A12: 12 | B12: SELÇUK KURT | C12: =A12 -> 12 | F12: 12 | J12: 5-6
J13: 1-10
J14: 11-9
J15: 12-8
J16: 2-7
J17: 3-6
J18: 4-5
J19: 9-1
J20: 10-8
J21: 11-7
J22: 12-6
J23: 2-5
J24: 3-4
... J66: 7-8

Sheet  MAÇLAR
A1: Maç No | B1: Grup/Tur | C1: 1. Oyuncu | D1: 2. Oyuncu | E1: Tarih | F1: Saat | G1: Masa
A2: 1 | B2: SÜPER LİG 1. ETAP.1. TUR | C2: =FİKSTÜR!Z4 -> FATİH KAYA | D2: =FİKSTÜR!AA4 -> SELÇUK KURT | E2: 45278 | F2: =FİKSTÜR!X4 -> 0.75 | G2: =FİKSTÜR!Y4 -> 1
A3: 2 | B3: SÜPER LİG 1. ETAP.1. TUR | C3: =FİKSTÜR!Z5 -> MUSTAFA DEMİR | D3: =FİKSTÜR!AA5 -> HAMDİ ÖZKAN | E3: 45278 | F3: =FİKSTÜR!X5 -> 0.75 | G3: =FİKSTÜR!Y5 -> 2
A4: 3 | B4: SÜPER LİG 1. ETAP.1. TUR | C4: =FİKSTÜR!Z6 -> RAMAZAN KAPTANOĞLU | D4: =FİKSTÜR!AA6 -> ÇETİN KAPTANOĞLU | E4: 45278 | F4: =FİKSTÜR!X6 -> 0.75 | G4: =FİKSTÜR!Y6 -> 3
A5: 4 | B5: SÜPER LİG 1. ETAP.1. TUR | C5: =FİKSTÜR!Z7 -> FATİH YENİSOLAK | D5: =FİKSTÜR!AA7 -> KAMİL BÖRÜBAN | E5: 45278 | F5: =FİKSTÜR!X7 -> 0.75 | G5: =FİKSTÜR!Y7 -> 4
A6: 5 | B6: SÜPER LİG 1. ETAP.1. TUR | C6: =FİKSTÜR!Z8 -> ALADDİN ÖZDEMİR | D6: =FİKSTÜR!AA8 -> MUSTAFA KURTUL | E6: 45278 | F6: =FİKSTÜR!X8 -> 0.75 | G6: =FİKSTÜR!Y8 -> 5
A7: 6 | B7: SÜPER LİG 1. ETAP.1. TUR | C7: =FİKSTÜR!Z9 -> SELİM ERTUĞTUL | D7: =FİKSTÜR!AA9 -> MURAT ÖZKARS | E7: 45278 | F7: =FİKSTÜR!X9 -> 0.75 | G7: =FİKSTÜR!Y9 -> 6
A8: 7 | B8: SÜPER LİG 1. ETAP 2. TUR | C8: =FİKSTÜR!Z10 -> HAMDİ ÖZKAN | D8: =FİKSTÜR!AA10 -> FATİH KAYA | E8: 45278 | F8: =FİKSTÜR!X10 -> 0.79166667 | G8: =FİKSTÜR!Y10 -> 2
A9: 8 | B9: SÜPER LİG 1. ETAP 2. TUR | C9: =FİKSTÜR!Z11 -> SELÇUK KURT | D9: =FİKSTÜR!AA11 -> ÇETİN KAPTANOĞLU | E9: 45278 | F9: =FİKSTÜR!X11 -> 0.79166667 | G9: =FİKSTÜR!Y11 -> 3
A10: 9 | B10: SÜPER LİG 1. ETAP 2. TUR | C10: =FİKSTÜR!Z12 -> MUSTAFA DEMİR | D10: =FİKSTÜR!AA12 -> KAMİL BÖRÜBAN | E10: 45278 | F10: =FİKSTÜR!X12 -> 0.79166667 | G10: =FİKSTÜR!Y12 -> 4
A11: 10 | B11: SÜPER LİG 1. ETAP 2. TUR | C11: =FİKSTÜR!Z13 -> RAMAZAN KAPTANOĞLU | D11: =FİKSTÜR!AA13 -> MUSTAFA KURTUL | E11: 45278 | F11: =FİKSTÜR!X13 -> 0.79166667 | G11: =FİKSTÜR!Y13 -> 5
A12: 11 | B12: SÜPER LİG 1. ETAP 2. TUR | C12: =FİKSTÜR!Z14 -> FATİH YENİSOLAK | D12: =FİKSTÜR!AA14 -> MURAT ÖZKARS | E12: 45278 | F12: =FİKSTÜR!X14 -> 0.79166667 | G12: =FİKSTÜR!Y14 -> 6
A13: 12 | B13: SÜPER LİG 1. ETAP 2. TUR | C13: =FİKSTÜR!Z15 -> ALADDİN ÖZDEMİR | D13: =FİKSTÜR!AA15 -> SELİM ERTUĞTUL | E13: 45278 | F13: =FİKSTÜR!X15 -> 0.79166667 | G13: =FİKSTÜR!Y15 -> 1
... A19: 18 | B19: SÜPER LİG 1. ETAP.3. TUR | C19: =FİKSTÜR!Z21 -> FATİH YENİSOLAK | D19: =FİKSTÜR!AA21 -> ALADDİN ÖZDEMİR | E19: 45278 | F19: =FİKSTÜR!X21 -> 0.83333333 | G19: =FİKSTÜR!Y21 -> 2
A20: 19 | B20: SÜPER LİG 1. ETAP 4. TUR | C20: =FİKSTÜR!Z22 -> KAMİL BÖRÜBAN | D20: =FİKSTÜR!AA22 -> FATİH KAYA | E20: 45278 | F20: 0.875 | G20: =FİKSTÜR!Y22 -> 4
A21: 20 | B21: SÜPER LİG 1. ETAP 4. TUR | C21: =FİKSTÜR!Z23 -> ÇETİN KAPTANOĞLU | D21: =FİKSTÜR!AA23 -> MUSTAFA KURTUL | E21: 45278 | F21: 0.875 | G21: =FİKSTÜR!Y23 -> 5
A22: 21 | B22: SÜPER LİG 1. ETAP 4. TUR | C22: =FİKSTÜR!Z24 -> HAMDİ ÖZKAN | D22: =FİKSTÜR!AA24 -> MURAT ÖZKARS | E22: 45278 | F22: 0.875 | G22: =FİKSTÜR!Y24 -> 6
A23: 22 | B23: SÜPER LİG 1. ETAP 4. TUR | C23: =FİKSTÜR!Z25 -> SELÇUK KURT | D23: =FİKSTÜR!AA25 -> SELİM ERTUĞTUL | E23: 45278 | F23: 0.875 | G23: =FİKSTÜR!Y25 -> 1
A24: 23 | B24: SÜPER LİG 1. ETAP 4. TUR | C24: =FİKSTÜR!Z26 -> MUSTAFA DEMİR | D24: =FİKSTÜR!AA26 -> ALADDİN ÖZDEMİR | E24: 45278 | F24: 0.875 | G24: =FİKSTÜR!Y26 -> 2
A25: 24 | B25: SÜPER LİG 1. ETAP 4. TUR | C25: =FİKSTÜR!Z27 -> RAMAZAN KAPTANOĞLU | D25: =FİKSTÜR!AA27 -> FATİH YENİSOLAK | E25: 45278 | F25: 0.875 | G25: =FİKSTÜR!Y27 -> 3
A26: 25 | B26: SÜPER LİG 2. ETAP 1. TUR | C26: =FİKSTÜR!Z28 -> FATİH KAYA | D26: =FİKSTÜR!AA28 -> MUSTAFA KURTUL | E26: 45280 | F26: =FİKSTÜR!X28 -> 0.75 | G26: =FİKSTÜR!Y28 -> 5
A27: 26 | B27: SÜPER LİG 2. ETAP 1. TUR | C27: =FİKSTÜR!Z29 -> KAMİL BÖRÜBAN | D27: =FİKSTÜR!AA29 -> MURAT ÖZKARS | E27: 45280 | F27: =FİKSTÜR!X29 -> 0.75 | G27: =FİKSTÜR!Y29 -> 6
A28: 27 | B28: SÜPER LİG 2. ETAP 1. TUR | C28: =FİKSTÜR!Z30 -> ÇETİN KAPTANOĞLU | D28: =FİKSTÜR!AA30 -> SELİM ERTUĞTUL | E28: 45280 | F28: =FİKSTÜR!X30 -> 0.75 | G28: =FİKSTÜR!Y30 -> 1
A29: 28 | B29: SÜPER LİG 2. ETAP 1. TUR | C29: =FİKSTÜR!Z31 -> HAMDİ ÖZKAN | D29: =FİKSTÜR!AA31 -> ALADDİN ÖZDEMİR | E29: 45280 | F29: =FİKSTÜR!X31 -> 0.75 | G29: =FİKSTÜR!Y31 -> 2
A30: 29 | B30: SÜPER LİG 2. ETAP 1. TUR | C30: =FİKSTÜR!Z32 -> SELÇUK KURT | D30: =FİKSTÜR!AA32 -> FATİH YENİSOLAK | E30: 45280 | F30: =FİKSTÜR!X32 -> 0.75 | G30: =FİKSTÜR!Y32 -> 3
A31: 30 | B31: SÜPER LİG 2. ETAP 1. TUR | C31: =FİKSTÜR!Z33 -> MUSTAFA DEMİR | D31: =FİKSTÜR!AA33 -> RAMAZAN KAPTANOĞLU | E31: 45280 | F31: =FİKSTÜR!X33 -> 0.75 | G31: =FİKSTÜR!Y33 -> 4
A32: 31 | B32: SÜPER LİG 2. ETAP 2. TUR | C32: =FİKSTÜR!Z34 -> MURAT ÖZKARS | D32: =FİKSTÜR!AA34 -> FATİH KAYA | E32: 45280 | F32: =FİKSTÜR!X34 -> 0.79166667 | G32: =FİKSTÜR!Y34 -> 6
A33: 32 | B33: SÜPER LİG 2. ETAP 2. TUR | C33: =FİKSTÜR!Z35 -> MUSTAFA KURTUL | D33: =FİKSTÜR!AA35 -> SELİM ERTUĞTUL | E33: 45280 | F33: =FİKSTÜR!X35 -> 0.79166667 | G33: =FİKSTÜR!Y35 -> 1
A34: 33 | B34: SÜPER LİG 2. ETAP 2. TUR | C34: =FİKSTÜR!Z36 -> KAMİL BÖRÜBAN | D34: =FİKSTÜR!AA36 -> ALADDİN ÖZDEMİR | E34: 45280 | F34: =FİKSTÜR!X36 -> 0.79166667 | G34: =FİKSTÜR!Y36 -> 2
A35: 34 | B35: SÜPER LİG 2. ETAP 2. TUR | C35: =FİKSTÜR!Z37 -> ÇETİN KAPTANOĞLU | D35: =FİKSTÜR!AA37 -> FATİH YENİSOLAK | E35: 45280 | F35: =FİKSTÜR!X37 -> 0.79166667 | G35: =FİKSTÜR!Y37 -> 3
A36: 35 | B36: SÜPER LİG 2. ETAP 2. TUR | C36: =FİKSTÜR!Z38 -> HAMDİ ÖZKAN | D36: =FİKSTÜR!AA38 -> RAMAZAN KAPTANOĞLU | E36: 45280 | F36: =FİKSTÜR!X38 -> 0.79166667 | G36: =FİKSTÜR!Y38 -> 4
A37: 36 | B37: SÜPER LİG 2. ETAP 2. TUR | C37: =FİKSTÜR!Z39 -> SELÇUK KURT | D37: =FİKSTÜR!AA39 -> MUSTAFA DEMİR | E37: 45280 | F37: =FİKSTÜR!X39 -> 0.79166667 | G37: =FİKSTÜR!Y39 -> 5
... A43: 42 | B43: SÜPER LİG 2. ETAP 3. TUR | C43: =FİKSTÜR!Z45 -> HAMDİ ÖZKAN | D43: =FİKSTÜR!AA45 -> SELÇUK KURT | E43: 45280 | F43: =FİKSTÜR!X45 -> 0.83333333 | G43: =FİKSTÜR!Y45 -> 6
A44: 43 | B44: SÜPER LİG 2. ETAP 4. TUR | C44: =FİKSTÜR!Z46 -> ALADDİN ÖZDEMİR | D44: =FİKSTÜR!AA46 -> FATİH KAYA | E44: 45280 | F44: 0.875 | G44: =FİKSTÜR!Y46 -> 2
A45: 44 | B45: SÜPER LİG 2. ETAP 4. TUR | C45: =FİKSTÜR!Z47 -> SELİM ERTUĞTUL | D45: =FİKSTÜR!AA47 -> FATİH YENİSOLAK | E45: 45280 | F45: 0.875 | G45: =FİKSTÜR!Y47 -> 3
A46: 45 | B46: SÜPER LİG 2. ETAP 4. TUR | C46: =FİKSTÜR!Z48 -> MURAT ÖZKARS | D46: =FİKSTÜR!AA48 -> RAMAZAN KAPTANOĞLU | E46: 45280 | F46: 0.875 | G46: =FİKSTÜR!Y48 -> 4
A47: 46 | B47: SÜPER LİG 2. ETAP 4. TUR | C47: =FİKSTÜR!Z49 -> MUSTAFA KURTUL | D47: =FİKSTÜR!AA49 -> MUSTAFA DEMİR | E47: 45280 | F47: 0.875 | G47: =FİKSTÜR!Y49 -> 5
A48: 47 | B48: SÜPER LİG 2. ETAP 4. TUR | C48: =FİKSTÜR!Z50 -> KAMİL BÖRÜBAN | D48: =FİKSTÜR!AA50 -> SELÇUK KURT | E48: 45280 | F48: 0.875 | G48: =FİKSTÜR!Y50 -> 6
A49: 48 | B49: SÜPER LİG 2. ETAP 4. TUR | C49: =FİKSTÜR!Z51 -> ÇETİN KAPTANOĞLU | D49: =FİKSTÜR!AA51 -> HAMDİ ÖZKAN | E49: 45280 | F49: 0.875 | G49: =FİKSTÜR!Y51 -> 1
A50: 49 | B50: SÜPER LİG 3. ETAP 1. TUR | C50: =FİKSTÜR!Z52 -> FATİH KAYA | D50: =FİKSTÜR!AA52 -> FATİH YENİSOLAK | E50: 45282 | F50: =FİKSTÜR!X52 -> 0.75 | G50: =FİKSTÜR!Y52 -> 3
...

Sheet FİKSTÜR
A1: SÜPER LİG | U1: =A1 -> SÜPER LİG
BU2: 2 | BW2: 3 | BY2: 4 | CA2: 5 | CC2: 6 | CE2: 7 | CG2: 8 | CI2: 9 | CK2: 10 | CM2: 11 | CO2: 12 | CR2: 2 | CT2: 3 | CV2: 4 | CX2: 5 | CZ2: 6 | DB2: 7 | DD2: 8 | DF2: 9 | DH2: 10 | DJ2: 11
A3: Adı Soyadı | C3: 1 | D3: 2 | E3: 3 | F3: 4 | G3: 5 | H3: 6 | I3: 7 | J3: 8 | K3: 9 | L3: 10 | M3: 11 | N3: 12 | O3: G | P3: M | Q3: P | R3: S | S3: S | U3: S.No | W3: Tarih | X3: Saat | Y3: Masa | Z3: Adı Soyadı | AA3: Adı Soyadı | AB3: Skor | AD3: 1. Set | AF3: 2. Set | AH3: 3. Set | AJ3: 4. Set | AL3: 5. Set | AN3: 6. Set | AP3: 7. Set | AT3: 1 | AV3: 2 | AX3: 3 | AZ3: 4 | BB3: 5 | BD3: 6 | BF3: 7 | DC3: V | DD3: L | DE3: V | DF3: L | DG3: V | DH3: L | DI3: V | DJ3: L | DK3: V | DL3: L | DM3: V | DN3: L | DO3: V | DP3: L | DQ3: V | DR3: L | DS3: V | DT3: L | DU3: V | DV3: L | DW3: V | DX3: L | DZ3: V | EA3: L | EB3: V | EC3: L | ED3: V | EE3: L | EF3: V | EG3: L | EH3: V | EI3: L | EJ3: V | EK3: L | EL3: V | EM3: L | EN3: V | EO3: L | EP3: V | EQ3: L
A4: 1 | B4: FATİH KAYA | D4: =TEXT($AB$64,$AB$64)&TEXT("-","-")&TEXT($AC$64,$AC$64) -> - | E4: =TEXT($AC$58,$AC$58)&TEXT("-","-")&TEXT($AB$58,$AB$58) -> - | F4: =TEXT($AB$52,$AB$52)&TEXT("-","-")&TEXT($AC$52,$AC$52) -> - | G4: =TEXT($AC$46,$AC$46)&TEXT("-","-")&TEXT($AB$46,$AB$46) -> - | H4: =TEXT($AB$40,$AB$40)&TEXT("-","-")&TEXT($AC$40,$AC$40) -> - | I4: =TEXT($AC$34,$AC$34)&TEXT("-","-")&TEXT($AB$34,$AB$34) -> - | J4: =TEXT($AB$28,$AB$28)&TEXT("-","-")&TEXT($AC$28,$AC$28) -> - | K4: =TEXT($AC$22,$AC$22)&TEXT("-","-")&TEXT($AB$22,$AB$22) -> 3-0 | L4: =TEXT($AB$16,$AB$16)&TEXT("-","-")&TEXT($AC$16,$AC$16) -> 3-1 | M4: =TEXT($AC$10,$AC$10)&TEXT("-","-")&TEXT($AB$10,$AB$10) -> 3-1 | N4: =TEXT($AB$4,$AB$4)&TEXT("-","-")&TEXT($AC$4,$AC$4) -> 3-0 | O4: =SUM(DC4+DE4+DG4+DI4+DK4+DM4+DO4+DQ4+DS4+DU4+DW4) -> 4 | P4: =SUM(DD4+DF4+DH4+DJ4+DL4+DN4+DP4+DR4+DT4+DV4+DX4) -> 0 | Q4: =SUM(O4*2+P4*1) -> 8 | R4: =RANK(Q4,$Q$4:$Q$15,0) -> 1 | S4: =R4 -> 1 | U4: 1 | V4: 1-12 | W4: 45278 | X4: 0.75 | Y4: 1 | Z4: =REPT($B$4,1) -> FATİH KAYA | AA4: =REPT($B$15,1) -> SELÇUK KURT | AB4: 3 | AC4: 0 | AD4: 11 | AE4: 9 | AF4: 12 | AG4: 10 | AH4: 11 | AI4: 4 | AT4: =IF(AD4>AE4,1,0) -> 1 | AU4: =IF(AE4>AD4,1,0) -> 0 | AV4: =IF(AF4>AG4,1,0) -> 1 | AW4: =IF(AG4>AF4,1,0) -> 0 | AX4: =IF(AH4>AI4,1,0) -> 1 | AY4: =IF(AI4>AH4,1,0) -> 0 | AZ4: =IF(AJ4>AK4,1,0) -> 0 | BA4: =IF(AK4>AJ4,1,0) -> 0 | BB4: =IF(AL4>AM4,1,0) -> 0 | BC4: =IF(AM4>AL4,1,0) -> 0 | BD4: =IF(AN4>AO4,1,0) -> 0 | BE4: =IF(AO4>AN4,1,0) -> 0 | BF4: =IF(AP4>AQ4,1,0) -> 0 | BG4: =IF(AQ4>AP4,1,0) -> 0 | BI4: =IF(AB4>AC4,1,0) -> 1 | BJ4: =IF(AB4<AC4,1,0) -> 0 | DB4: 1 | DC4: =IF($AB$64>$AC$64,1,0) -> 0 | DD4: =IF($AB$64<$AC$64,1,0) -> 0 | DE4: =IF($AC$58>$AB$58,1,0) -> 0 | DF4: =IF($AC$58<$AB$58,1,0) -> 0 | DG4: =IF($AB$52>$AC$52,1,0) -> 0 | DH4: =IF($AB$52<$AC$52,1,0) -> 0 | DI4: =IF($AC$46>$AB$46,1,0) -> 0 | DJ4: =IF($AC$46<$AB$46,1,0) -> 0 | DK4: =IF($AB$40>$AC$40,1,0) -> 0 | DL4: =IF($AB$40<$AC$40,1,0) -> 0 | DM4: =IF($AC$34>$AB$34,1,0) -> 0 | DN4: =IF($AC$34<$AB$34,1,0) -> 0 | DO4: =IF($AB$28>$AC$28,1,0) -> 0 | DP4: =IF($AB$28<$AC$28,1,0) -> 0 | DQ4: =IF($AC$22>$AB$22,1,0) -> 1 | DR4: =IF($AC$22<$AB$22,1,0) -> 0 | DS4: =IF($AB$16>$AC$16,1,0) -> 1 | DT4: =IF($AB$16<$AC$16,1,0) -> 0 | DU4: =IF($AC$10>$AB$10,1,0) -> 1 | DV4: =IF($AC$10<$AB$10,1,0) -> 0 | DW4: =IF($AB$4>$AC$4,1,0) -> 1 | DX4: =IF($AB$4<$AC$4,1,0) -> 0 | DY4: 1 | DZ4: =IF($Z$13>$AA$13,1,0) -> 1 | EA4: =IF($Z$13<$AA$13,1,0) -> 0 | EB4: =IF($AA$15>$Z$15,1,0) -> 1 | EC4: =IF($AA$15<$Z$15,1,0) -> 0 | ED4: =IF($Z$22>$AA$22,1,0) -> 1 | EE4: =IF($Z$22<$AA$22,1,0) -> 0 | EF4: =IF($AA$26>$Z$26,1,0) -> 0 | EG4: =IF($AA$26<$Z$26,1,0) -> 1 | EH4: =IF($Z$31>$AA$31,1,0) -> 1 | EI4: =IF($Z$31<$AA$31,1,0) -> 0 | EJ4: =IF($AA$37>$Z$37,1,0) -> 1 | EK4: =IF($AA$37<$Z$37,1,0) -> 0 | EL4: =IF($Z$40>$AA$40,1,0) -> 0 | EM4: =IF($Z$40<$AA$40,1,0) -> 1 | EN4: =IF($AA$48>$Z$48,1,0) -> 1 | EO4: =IF($AA$48<$Z$48,1,0) -> 0 | EP4: =IF($Z$4>$AA$4,1,0) -> 0 | EQ4: =IF($Z$4<$AA$4,1,0) -> 1
A5: 2 | B5: MUSTAFA DEMİR | C5: =TEXT($AC$64,$AC$64)&TEXT("-","-")&TEXT($AB$64,$AB$64) -> - | E5: =TEXT($AB$33,$AB$33)&TEXT("-","-")&TEXT($AC$33,$AC$33) -> - | F5: =TEXT($AC$59,$AC$59)&TEXT("-","-")&TEXT($AB$59,$AB$59) -> - | G5: =TEXT($AB$26,$AB$26)&TEXT("-","-")&TEXT($AC$26,$AC$26) -> 3-1 | H5: =TEXT($AC$54,$AC$54)&TEXT("-","-")&TEXT($AB$54,$AB$54) -> - | I5: =TEXT($AB$19,$AB$19)&TEXT("-","-")&TEXT($AC$19,$AC$19) -> 3-0 | J5: =TEXT($AC$49,$AC$49)&TEXT("-","-")&TEXT($AB$49,$AB$49) -> - | K5: =TEXT($AB$12,$AB$12)&TEXT("-","-")&TEXT($AC$12,$AC$12) -> 3-0 | L5: =TEXT($AC$44,$AC$44)&TEXT("-","-")&TEXT($AB$44,$AB$44) -> - | M5: =TEXT($AB$5,$AB$5)&TEXT("-","-")&TEXT($AC$5,$AC$5) -> 3-0 | N5: =TEXT($AC$39,$AC$39)&TEXT("-","-")&TEXT($AB$39,$AB$39) -> - | O5: =SUM(DC5+DE5+DG5+DI5+DK5+DM5+DO5+DQ5+DS5+DU5+DW5) -> 4 | P5: =SUM(DD5+DF5+DH5+DJ5+DL5+DN5+DP5+DR5+DT5+DV5+DX5) -> 0 | Q5: =SUM(O5*2+P5*1) -> 8 | R5: =RANK(Q5,$Q$4:$Q$15,0) -> 1 | S5: =R5 -> 1 | U5: 2 | V5: 2-11 | W5: 45278 | X5: 0.75 | Y5: 2 | Z5: =REPT($B$5,1) -> MUSTAFA DEMİR | AA5: =REPT($B$14,1) -> HAMDİ ÖZKAN | AB5: 3 | AC5: 0 | AD5: 11 | AE5: 8 | AF5: 11 | AG5: 8 | AH5: 12 | AI5: 10 | AT5: =IF(AD5>AE5,1,0) -> 1 | AU5: =IF(AE5>AD5,1,0) -> 0 | AV5: =IF(AF5>AG5,1,0) -> 1 | AW5: =IF(AG5>AF5,1,0) -> 0 | AX5: =IF(AH5>AI5,1,0) -> 1 | AY5: =IF(AI5>AH5,1,0) -> 0 | AZ5: =IF(AJ5>AK5,1,0) -> 0 | BA5: =IF(AK5>AJ5,1,0) -> 0 | BB5: =IF(AL5>AM5,1,0) -> 0 | BC5: =IF(AM5>AL5,1,0) -> 0 | BD5: =IF(AN5>AO5,1,0) -> 0 | BE5: =IF(AO5>AN5,1,0) -> 0 | BF5: =IF(AP5>AQ5,1,0) -> 0 | BG5: =IF(AQ5>AP5,1,0) -> 0 | BI5: =IF(AB5>AC5,1,0) -> 1 | BJ5: =IF(AB5<AC5,1,0) -> 0 | DB5: 2 | DC5: =IF($AB$64<$AC$64,1,0) -> 0 | DD5: =IF($AB$64>$AC$64,1,0) -> 0 | DE5: =IF($AB$33>$AC$33,1,0) -> 0 | DF5: =IF($AB$33<$AC$33,1,0) -> 0 | DG5: =IF($AC$59>$AB$59,1,0) -> 0 | DH5: =IF($AC$59<$AB$59,1,0) -> 0 | DI5: =IF($AB$26>$AC$26,1,0) -> 1 | DJ5: =IF($AB$26<$AC$26,1,0) -> 0 | DK5: =IF($AC$54>$AB$54,1,0) -> 0 | DL5: =IF($AC$54<$AB$54,1,0) -> 0 | DM5: =IF($AB$19>$AC$19,1,0) -> 1 | DN5: =IF($AB$19<$AC$19,1,0) -> 0 | DO5: =IF($AC$49>$AB$49,1,0) -> 0 | DP5: =IF($AC$49<$AB$49,1,0) -> 0 | DQ5: =IF($AB$12>$AC$12,1,0) -> 1 | DR5: =IF($AB$12<$AC$12,1,0) -> 0 | DS5: =IF($AC$44>$AB$44,1,0) -> 0 | DT5: =IF($AC$44<$AB$44,1,0) -> 0 | DU5: =IF($AB$5>$AC$5,1,0) -> 1 | DV5: =IF($AB$5<$AC$5,1,0) -> 0 | DW5: =IF($AC$39>$AB$39,1,0) -> 0 | DX5: =IF($AC$39<$AB$39,1,0) -> 0 | DY5: 2 | DZ5: =IF($Z$13<$AA$13,1,0) -> 0 | EA5: =IF($Z$13>$AA$13,1,0) -> 1 | EB5: =IF($Z$23>$AA$23,1,0) -> 0 | EC5: =IF($Z$23<$AA$23,1,0) -> 1 | ED5: =IF($AA$25>$Z$25,1,0) -> 1 | EE5: =IF($AA$25<$Z$25,1,0) -> 0 | EF5: =IF($Z$32>$AA$32,1,0) -> 1 | EG5: =IF($Z$32<$AA$32,1,0) -> 0 | EH5: =IF($AA$36>$Z$36,1,0) -> 0 | EI5: =IF($AA$36<$Z$36,1,0) -> 1 | EJ5: =IF($Z$41>$AA$41,1,0) -> 1 | EK5: =IF($Z$41<$AA$41,1,0) -> 0 | EL5: =IF($AA$47>$Z$47,1,0) -> 0 | EM5: =IF($AA$47<$Z$47,1,0) -> 1 | EN5: =IF($Z$5>$AA$5,1,0) -> 1 | EO5: =IF($Z$5<$AA$5,1,0) -> 0 | EP5: =IF($Z$14>$AA$14,1,0) -> 0 | EQ5: =IF($Z$14<$AA$14,1,0) -> 1
A6: 3 | B6: RAMAZAN KAPTANOĞLU | C6: =TEXT($AB$58,$AB$58)&TEXT("-","-")&TEXT($AC$58,$AC$58) -> - | D6: =TEXT($AC$33,$AC$33)&TEXT("-","-")&TEXT($AB$33,$AB$33) -> - | F6: =TEXT($AB$27,$AB$27)&TEXT("-","-")&TEXT($AC$27,$AC$27) -> 3-1 | G6: =TEXT($AC$53,$AC$53)&TEXT("-","-")&TEXT($AB$53,$AB$53) -> - | H6: =TEXT($AB$20,$AB$20)&TEXT("-","-")&TEXT($AC$20,$AC$20) -> 3-0 | I6: =TEXT($AC$48,$AC$48)&TEXT("-","-")&TEXT($AB$48,$AB$48) -> - | J6: =TEXT($AB$13,$AB$13)&TEXT("-","-")&TEXT($AC$13,$AC$13) -> 3-0 | K6: =TEXT($AC$43,$AC$43)&TEXT("-","-")&TEXT($AB$43,$AB$43) -> - | L6: =TEXT($AB$6,$AB$6)&TEXT("-","-")&TEXT($AC$6,$AC$6) -> 3-0 | M6: =TEXT($AC$38,$AC$38)&TEXT("-","-")&TEXT($AB$38,$AB$38) -> - | N6: =TEXT($AB$65,$AB$65)&TEXT("-","-")&TEXT($AC$65,$AC$65) -> - | O6: =SUM(DC6+DE6+DG6+DI6+DK6+DM6+DO6+DQ6+DS6+DU6+DW6) -> 4 | P6: =SUM(DD6+DF6+DH6+DJ6+DL6+DN6+DP6+DR6+DT6+DV6+DX6) -> 0 | Q6: =SUM(O6*2+P6*1) -> 8 | R6: =RANK(Q6,$Q$4:$Q$15,0) -> 1 | S6: =R6 -> 1 | U6: 3 | V6: 3-10 | W6: 45278 | X6: 0.75 | Y6: 3 | Z6: =REPT($B$6,1) -> RAMAZAN KAPTANOĞLU | AA6: =REPT($B$13,1) -> ÇETİN KAPTANOĞLU | AB6: 3 | AC6: 0 | AD6: 11 | AE6: 6 | AF6: 11 | AG6: 8 | AH6: 11 | AI6: 6 | AT6: =IF(AD6>AE6,1,0) -> 1 | AU6: =IF(AE6>AD6,1,0) -> 0 | AV6: =IF(AF6>AG6,1,0) -> 1 | AW6: =IF(AG6>AF6,1,0) -> 0 | AX6: =IF(AH6>AI6,1,0) -> 1 | AY6: =IF(AI6>AH6,1,0) -> 0 | AZ6: =IF(AJ6>AK6,1,0) -> 0 | BA6: =IF(AK6>AJ6,1,0) -> 0 | BB6: =IF(AL6>AM6,1,0) -> 0 | BC6: =IF(AM6>AL6,1,0) -> 0 | BD6: =IF(AN6>AO6,1,0) -> 0 | BE6: =IF(AO6>AN6,1,0) -> 0 | BF6: =IF(AP6>AQ6,1,0) -> 0 | BG6: =IF(AQ6>AP6,1,0) -> 0 | BI6: =IF(AB6>AC6,1,0) -> 1 | BJ6: =IF(AB6<AC6,1,0) -> 0 | DB6: 3 | DC6: =IF($AC$58<$AB$58,1,0) -> 0 | DD6: =IF($AC$58>$AB$58,1,0) -> 0 | DE6: =IF($AB$33<$AC$33,1,0) -> 0 | DF6: =IF($AB$33>$AC$33,1,0) -> 0 | DG6: =IF($AB$27>$AC$27,1,0) -> 1 | DH6: =IF($AB$27<$AC$27,1,0) -> 0 | DI6: =IF($AC$53>$AB$53,1,0) -> 0 | DJ6: =IF($AC$53<$AB$53,1,0) -> 0 | DK6: =IF($AB$20>$AC$20,1,0) -> 1 | DL6: =IF($AB$20<$AC$20,1,0) -> 0 | DM6: =IF($AC$48>$AB$48,1,0) -> 0 | DN6: =IF($AC$48<$AB$48,1,0) -> 0 | DO6: =IF($AB$13>$AC$13,1,0) -> 1 | DP6: =IF($AB$13<$AC$13,1,0) -> 0 | DQ6: =IF($AC$43>$AB$43,1,0) -> 0 | DR6: =IF($AC$43<$AB$43,1,0) -> 0 | DS6: =IF($AB$6>$AC$6,1,0) -> 1 | DT6: =IF($AB$6<$AC$6,1,0) -> 0 | DU6: =IF($AC$38>$AB$38,1,0) -> 0 | DV6: =IF($AC$38<$AB$38,1,0) -> 0 | DW6: =IF($AB$65>$AC$65,1,0) -> 0 | DX6: =IF($AB$65<$AC$65,1,0) -> 0 | DY6: 3 | DZ6: =IF($AA$15<$Z$15,1,0) -> 0 | EA6: =IF($AA$15>$Z$15,1,0) -> 1 | EB6: =IF($Z$23<$AA$23,1,0) -> 1 | EC6: =IF($Z$23>$AA$23,1,0) -> 0 | ED6: =IF($Z$33>$AA$33,1,0) -> 0 | EE6: =IF($Z$33<$AA$33,1,0) -> 1 | EF6: =IF($AA$35>$Z$35,1,0) -> 1 | EG6: =IF($AA$35<$Z$35,1,0) -> 0 | EH6: =IF($Z$42>$AA$42,1,0) -> 1 | EI6: =IF($Z$42<$AA$42,1,0) -> 0 | EJ6: =IF($AA$46>$Z$46,1,0) -> 1 | EK6: =IF($AA$46<$Z$46,1,0) -> 0 | EL6: =IF($Z$6>$AA$6,1,0) -> 1 | EM6: =IF($Z$6<$AA$6,1,0) -> 0 | EN6: =IF($AA$12>$Z$12,1,0) -> 0 | EO6: =IF($AA$12<$Z$12,1,0) -> 1 | EP6: =IF($Z$24>$AA$24,1,0) -> 0 | EQ6: =IF($Z$24<$AA$24,1,0) -> 1
A7: 4 | B7: FATİH YENİSOLAK | C7: =TEXT($AC$52,$AC$52)&TEXT("-","-")&TEXT($AB$52,$AB$52) -> - | D7: =TEXT($AB$59,$AB$59)&TEXT("-","-")&TEXT($AC$59,$AC$59) -> - | E7: =TEXT($AC$27,$AC$27)&TEXT("-","-")&TEXT($AB$27,$AB$27) -> 1-3 | G7: =TEXT($AB$21,$AB$21)&TEXT("-","-")&TEXT($AC$21,$AC$21) -> 3-0 | H7: =TEXT($AC$47,$AC$47)&TEXT("-","-")&TEXT($AB$47,$AB$47) -> - | I7: =TEXT($AB$14,$AB$14)&TEXT("-","-")&TEXT($AC$14,$AC$14) -> 3-1 | J7: =TEXT($AC$42,$AC$42)&TEXT("-","-")&TEXT($AB$42,$AB$42) -> - | K7: =TEXT($AB$7,$AB$7)&TEXT("-","-")&TEXT($AC$7,$AC$7) -> 3-1 | L7: =TEXT($AC$37,$AC$37)&TEXT("-","-")&TEXT($AB$37,$AB$37) -> - | M7: =TEXT($AB$66,$AB$66)&TEXT("-","-")&TEXT($AC$66,$AC$66) -> - | N7: =TEXT($AC$32,$AC$32)&TEXT("-","-")&TEXT($AB$32,$AB$32) -> - | O7: =SUM(DC7+DE7+DG7+DI7+DK7+DM7+DO7+DQ7+DS7+DU7+DW7) -> 3 | P7: =SUM(DD7+DF7+DH7+DJ7+DL7+DN7+DP7+DR7+DT7+DV7+DX7) -> 1 | Q7: =SUM(O7*2+P7*1) -> 7 | R7: =RANK(Q7,$Q$4:$Q$15,0) -> 4 | S7: =R7 -> 4 | U7: 4 | V7: 4-9 | W7: 45278 | X7: 0.75 | Y7: 4 | Z7: =REPT($B$7,1) -> FATİH YENİSOLAK | AA7: =REPT($B$12,1) -> KAMİL BÖRÜBAN | AB7: 3 | AC7: 1 | AD7: 7 | AE7: 11 | AF7: 11 | AG7: 7 | AH7: 11 | AI7: 8 | AJ7: 11 | AK7: 9 | AT7: =IF(AD7>AE7,1,0) -> 0 | AU7: =IF(AE7>AD7,1,0) -> 1 | AV7: =IF(AF7>AG7,1,0) -> 1 | AW7: =IF(AG7>AF7,1,0) -> 0 | AX7: =IF(AH7>AI7,1,0) -> 1 | AY7: =IF(AI7>AH7,1,0) -> 0 | AZ7: =IF(AJ7>AK7,1,0) -> 1 | BA7: =IF(AK7>AJ7,1,0) -> 0 | BB7: =IF(AL7>AM7,1,0) -> 0 | BC7: =IF(AM7>AL7,1,0) -> 0 | BD7: =IF(AN7>AO7,1,0) -> 0 | BE7: =IF(AO7>AN7,1,0) -> 0 | BF7: =IF(AP7>AQ7,1,0) -> 0 | BG7: =IF(AQ7>AP7,1,0) -> 0 | BI7: =IF(AB7>AC7,1,0) -> 1 | BJ7: =IF(AB7<AC7,1,0) -> 0 | DB7: 4 | DC7: =IF($AB$52<$AC$52,1,0) -> 0 | DD7: =IF($AB$52>$AC$52,1,0) -> 0 | DE7: =IF($AC$59<$AB$59,1,0) -> 0 | DF7: =IF($AC$59>$AB$59,1,0) -> 0 | DG7: =IF($AB$27<$AC$27,1,0) -> 0 | DH7: =IF($AB$27>$AC$27,1,0) -> 1 | DI7: =IF($AB$21>$AC$21,1,0) -> 1 | DJ7: =IF($AB$21<$AC$21,1,0) -> 0 | DK7: =IF($AC$47>$AB$47,1,0) -> 0 | DL7: =IF($AC$47<$AB$47,1,0) -> 0 | DM7: =IF($AB$14>$AC$14,1,0) -> 1 | DN7: =IF($AB$14<$AC$14,1,0) -> 0 | DO7: =IF($AC$42>$AB$42,1,0) -> 0 | DP7: =IF($AC$42<$AB$42,1,0) -> 0 | DQ7: =IF($AB$7>$AC$7,1,0) -> 1 | DR7: =IF($AB$7<$AC$7,1,0) -> 0 | DS7: =IF($AC$37>$AB$37,1,0) -> 0 | DT7: =IF($AC$37<$AB$37,1,0) -> 0 | DU7: =IF($AB$66>$AC$66,1,0) -> 0 | DV7: =IF($AB$66<$AC$66,1,0) -> 0 | DW7: =IF($AC$32>$AB$32,1,0) -> 0 | DX7: =IF($AC$32<$AB$32,1,0) -> 0 | DY7: 4 | DZ7: =IF($Z$22<$AA$22,1,0) -> 0 | EA7: =IF($Z$22>$AA$22,1,0) -> 1 | EB7: =IF($AA$25<$Z$25,1,0) -> 0 | EC7: =IF($AA$25>$Z$25,1,0) -> 1 | ED7: =IF($Z$33<$AA$33,1,0) -> 1 | EE7: =IF($Z$33>$AA$33,1,0) -> 0 | EF7: =IF($Z$43>$AA$43,1,0) -> 0 | EG7: =IF($Z$43<$AA$43,1,0) -> 1 | EH7: =IF($AA$45>$Z$45,1,0) -> 1 | EI7: =IF($AA$45<$Z$45,1,0) -> 0 | EJ7: =IF($Z$7>$AA$7,1,0) -> 0 | EK7: =IF($Z$7<$AA$7,1,0) -> 1 | EL7: =IF($AA$11>$Z$11,1,0) -> 0 | EM7: =IF($AA$11<$Z$11,1,0) -> 1 | EN7: =IF($Z$16>$AA$16,1,0) -> 1 | EO7: =IF($Z$16<$AA$16,1,0) -> 0 | EP7: =IF($Z$34>$AA$34,1,0) -> 1 | EQ7: =IF($Z$34<$AA$34,1,0) -> 0
A8: 5 | B8: ALADDİN ÖZDEMİR | C8: =TEXT($AB$46,$AB$46)&TEXT("-","-")&TEXT($AC$46,$AC$46) -> - | D8: =TEXT($AC$26,$AC$26)&TEXT("-","-")&TEXT($AB$26,$AB$26) -> 1-3 | E8: =TEXT($AB$53,$AB$53)&TEXT("-","-")&TEXT($AC$53,$AC$53) -> - | F8: =TEXT($AC$21,$AC$21)&TEXT("-","-")&TEXT($AB$21,$AB$21) -> 0-3 | H8: =TEXT($AB$15,$AB$15)&TEXT("-","-")&TEXT($AC$15,$AC$15) -> 3-0 | I8: =TEXT($AC$41,$AC$41)&TEXT("-","-")&TEXT($AB$41,$AB$41) -> - | J8: =TEXT($AB$8,$AB$8)&TEXT("-","-")&TEXT($AC$8,$AC$8) -> 3-0 | K8: =TEXT($AC$36,$AC$36)&TEXT("-","-")&TEXT($AB$36,$AB$36) -> - | L8: =TEXT($AB$67,$AB$67)&TEXT("-","-")&TEXT($AC$67,$AC$67) -> - | M8: =TEXT($AC$31,$AC$31)&TEXT("-","-")&TEXT($AB$31,$AB$31) -> - | N8: =TEXT($AB$60,$AB$60)&TEXT("-","-")&TEXT($AC$60,$AC$60) -> - | O8: =SUM(DC8+DE8+DG8+DI8+DK8+DM8+DO8+DQ8+DS8+DU8+DW8) -> 2 | P8: =SUM(DD8+DF8+DH8+DJ8+DL8+DN8+DP8+DR8+DT8+DV8+DX8) -> 2 | Q8: =SUM(O8*2+P8*1) -> 6 | R8: =RANK(Q8,$Q$4:$Q$15,0) -> 5 | S8: =R8 -> 5 | U8: 5 | V8: 5-8 | W8: 45278 | X8: 0.75 | Y8: 5 | Z8: =REPT($B$8,1) -> ALADDİN ÖZDEMİR | AA8: =REPT($B$11,1) -> MUSTAFA KURTUL | AB8: 3 | AC8: 0 | AD8: 11 | AE8: 5 | AF8: 11 | AG8: 8 | AH8: 11 | AI8: 7 | AT8: =IF(AD8>AE8,1,0) -> 1 | AU8: =IF(AE8>AD8,1,0) -> 0 | AV8: =IF(AF8>AG8,1,0) -> 1 | AW8: =IF(AG8>AF8,1,0) -> 0 | AX8: =IF(AH8>AI8,1,0) -> 1 | AY8: =IF(AI8>AH8,1,0) -> 0 | AZ8: =IF(AJ8>AK8,1,0) -> 0 | BA8: =IF(AK8>AJ8,1,0) -> 0 | BB8: =IF(AL8>AM8,1,0) -> 0 | BC8: =IF(AM8>AL8,1,0) -> 0 | BD8: =IF(AN8>AO8,1,0) -> 0 | BE8: =IF(AO8>AN8,1,0) -> 0 | BF8: =IF(AP8>AQ8,1,0) -> 0 | BG8: =IF(AQ8>AP8,1,0) -> 0 | BI8: =IF(AB8>AC8,1,0) -> 1 | BJ8: =IF(AB8<AC8,1,0) -> 0 | DB8: 5 | DC8: =IF($AC$46<$AB$46,1,0) -> 0 | DD8: =IF($AC$46>$AB$46,1,0) -> 0 | DE8: =IF($AB$26<$AC$26,1,0) -> 0 | DF8: =IF($AB$26>$AC$26,1,0) -> 1 | DG8: =IF($AC$53<$AB$53,1,0) -> 0 | DH8: =IF($AC$53>$AB$53,1,0) -> 0 | DI8: =IF($AB$21<$AC$21,1,0) -> 0 | DJ8: =IF($AB$21>$AC$21,1,0) -> 1 | DK8: =IF($AB$15>$AC$15,1,0) -> 1 | DL8: =IF($AB$15<$AC$15,1,0) -> 0 | DM8: =IF($AC$41>$AB$41,1,0) -> 0 | DN8: =IF($AC$41<$AB$41,1,0) -> 0 | DO8: =IF($AB$8>$AC$8,1,0) -> 1 | DP8: =IF($AB$8<$AC$8,1,0) -> 0 | DQ8: =IF($AC$36>$AB$36,1,0) -> 0 | DR8: =IF($AC$36<$AB$36,1,0) -> 0 | DS8: =IF($AB$67>$AC$67,1,0) -> 0 | DT8: =IF($AB$67<$AC$67,1,0) -> 0 | DU8: =IF($AC$31>$AB$31,1,0) -> 0 | DV8: =IF($AC$31<$AB$31,1,0) -> 0 | DW8: =IF($AB$60>$AC$60,1,0) -> 0 | DX8: =IF($AB$60<$AC$60,1,0) -> 0 | DY8: 5 | DZ8: =IF($AA$26<$Z$26,1,0) -> 1 | EA8: =IF($AA$26>$Z$26,1,0) -> 0 | EB8: =IF($Z$32<$AA$32,1,0) -> 0 | EC8: =IF($Z$32>$AA$32,1,0) -> 1 | ED8: =IF($AA$35<$Z$35,1,0) -> 0 | EE8: =IF($AA$35>$Z$35,1,0) -> 1 | EF8: =IF($Z$43<$AA$43,1,0) -> 1 | EG8: =IF($Z$43>$AA$43,1,0) -> 0 | EH8: =IF($Z$8>$AA$8,1,0) -> 0 | EI8: =IF($Z$8<$AA$8,1,0) -> 1 | EJ8: =IF($AA$10>$Z$10,1,0) -> 0 | EK8: =IF($AA$10<$Z$10,1,0) -> 1 | EL8: =IF($Z$17>$AA$17,1,0) -> 0 | EM8: =IF($Z$17<$AA$17,1,0) -> 1 | EN8: =IF($AA$21>$Z$21,1,0) -> 0 | EO8: =IF($AA$21<$Z$21,1,0) -> 1 | EP8: =IF($Z$44>$AA$44,1,0) -> 0 | EQ8: =IF($Z$44<$AA$44,1,0) -> 1
A9: 6 | B9: SELİM ERTUĞTUL | C9: =TEXT($AC$40,$AC$40)&TEXT("-","-")&TEXT($AB$40,$AB$40) -> - | D9: =TEXT($AB$54,$AB$54)&TEXT("-","-")&TEXT($AC$54,$AC$54) -> - | E9: =TEXT($AC$20,$AC$20)&TEXT("-","-")&TEXT($AB$20,$AB$20) -> 0-3 | F9: =TEXT($AB$47,$AB$47)&TEXT("-","-")&TEXT($AC$47,$AC$47) -> - | G9: =TEXT($AC$15,$AC$15)&TEXT("-","-")&TEXT($AB$15,$AB$15) -> 0-3 | I9: =TEXT($AB$9,$AB$9)&TEXT("-","-")&TEXT($AC$9,$AC$9) -> 3-2 | J9: =TEXT($AC$35,$AC$35)&TEXT("-","-")&TEXT($AB$35,$AB$35) -> - | K9: =TEXT($AB$68,$AB$68)&TEXT("-","-")&TEXT($AC$68,$AC$68) -> - | L9: =TEXT($AC$30,$AC$30)&TEXT("-","-")&TEXT($AB$30,$AB$30) -> - | M9: =TEXT($AB$61,$AB$61)&TEXT("-","-")&TEXT($AC$61,$AC$61) -> - | N9: =TEXT($AC$25,$AC$25)&TEXT("-","-")&TEXT($AB$25,$AB$25) -> 3-0 | O9: =SUM(DC9+DE9+DG9+DI9+DK9+DM9+DO9+DQ9+DS9+DU9+DW9) -> 2 | P9: =SUM(DD9+DF9+DH9+DJ9+DL9+DN9+DP9+DR9+DT9+DV9+DX9) -> 2 | Q9: =SUM(O9*2+P9*1) -> 6 | R9: =RANK(Q9,$Q$4:$Q$15,0) -> 5 | S9: =R9 -> 5 | U9: 6 | V9: 6-7 | W9: 45278 | X9: 0.75 | Y9: 6 | Z9: =REPT($B$9,1) -> SELİM ERTUĞTUL | AA9: =REPT($B$10,1) -> MURAT ÖZKARS | AB9: 3 | AC9: 2 | AD9: 11 | AE9: 5 | AF9: 11 | AG9: 8 | AH9: 5 | AI9: 11 | AJ9: 8 | AK9: 11 | AL9: 11 | AM9: 7 | AT9: =IF(AD9>AE9,1,0) -> 1 | AU9: =IF(AE9>AD9,1,0) -> 0 | AV9: =IF(AF9>AG9,1,0) -> 1 | AW9: =IF(AG9>AF9,1,0) -> 0 | AX9: =IF(AH9>AI9,1,0) -> 0 | AY9: =IF(AI9>AH9,1,0) -> 1 | AZ9: =IF(AJ9>AK9,1,0) -> 0 | BA9: =IF(AK9>AJ9,1,0) -> 1 | BB9: =IF(AL9>AM9,1,0) -> 1 | BC9: =IF(AM9>AL9,1,0) -> 0 | BD9: =IF(AN9>AO9,1,0) -> 0 | BE9: =IF(AO9>AN9,1,0) -> 0 | BF9: =IF(AP9>AQ9,1,0) -> 0 | BG9: =IF(AQ9>AP9,1,0) -> 0 | BI9: =IF(AB9>AC9,1,0) -> 1 | BJ9: =IF(AB9<AC9,1,0) -> 0 | DB9: 6 | DC9: =IF($AB$40<$AC$40,1,0) -> 0 | DD9: =IF($AB$40>$AC$40,1,0) -> 0 | DE9: =IF($AC$54<$AB$54,1,0) -> 0 | DF9: =IF($AC$54>$AB$54,1,0) -> 0 | DG9: =IF($AB$20<$AC$20,1,0) -> 0 | DH9: =IF($AB$20>$AC$20,1,0) -> 1 | DI9: =IF($AC$47<$AB$47,1,0) -> 0 | DJ9: =IF($AC$47>$AB$47,1,0) -> 0 | DK9: =IF($AB$15<$AC$15,1,0) -> 0 | DL9: =IF($AB$15>$AC$15,1,0) -> 1 | DM9: =IF($AB$9>$AC$9,1,0) -> 1 | DN9: =IF($AB$9<$AC$9,1,0) -> 0 | DO9: =IF($AC$35>$AB$35,1,0) -> 0 | DP9: =IF($AC$35<$AB$35,1,0) -> 0 | DQ9: =IF($AB$68>$AC$68,1,0) -> 0 | DR9: =IF($AB$68<$AC$68,1,0) -> 0 | DS9: =IF($AC$30>$AB$30,1,0) -> 0 | DT9: =IF($AC$30<$AB$30,1,0) -> 0 | DU9: =IF($AB$61>$AC$61,1,0) -> 0 | DV9: =IF($AB$61<$AC$61,1,0) -> 0 | DW9: =IF($AC$25>$AB$25,1,0) -> 1 | DX9: =IF($AC$25<$AB$25,1,0) -> 0 | DY9: 6 | DZ9: =IF($Z$31<$AA$31,1,0) -> 0 | EA9: =IF($Z$31>$AA$31,1,0) -> 1 | EB9: =IF($AA$36<$Z$36,1,0) -> 1 | EC9: =IF($AA$36>$Z$36,1,0) -> 0 | ED9: =IF($Z$42<$AA$42,1,0) -> 0 | EE9: =IF($Z$42>$AA$42,1,0) -> 1 | EF9: =IF($AA$45<$Z$45,1,0) -> 0 | EG9: =IF($AA$45>$Z$45,1,0) -> 1 | EH9: =IF($Z$8<$AA$8,1,0) -> 1 | EI9: =IF($Z$8>$AA$8,1,0) -> 0 | EJ9: =IF($Z$18>$AA$18,1,0) -> 1 | EK9: =IF($Z$18<$AA$18,1,0) -> 0 | EL9: =IF($AA$20>$Z$20,1,0) -> 1 | EM9: =IF($AA$20<$Z$20,1,0) -> 0 | EN9: =IF($Z$27>$AA$27,1,0) -> 1 | EO9: =IF($Z$27<DU$27,1,0) -> 0 | EP9: =IF($AA$9>$Z$9,1,0) -> 0 | EQ9: =IF($AA$9<$Z$9,1,0) -> 1
A10: 7 | B10: MURAT ÖZKARS | C10: =TEXT($AB$34,$AB$34)&TEXT("-","-")&TEXT($AC$34,$AC$34) -> - | D10: =TEXT($AC$19,$AC$19)&TEXT("-","-")&TEXT($AB$19,$AB$19) -> 0-3 | E10: =TEXT($AB$48,$AB$48)&TEXT("-","-")&TEXT($AC$48,$AC$48) -> - | F10: =TEXT($AC$14,$AC$14)&TEXT("-","-")&TEXT($AB$14,$AB$14) -> 1-3 | G10: =TEXT($AB$41,$AB$41)&TEXT("-","-")&TEXT($AC$41,$AC$41) -> - | H10: =TEXT($AC$9,$AC$9)&TEXT("-","-")&TEXT($AB$9,$AB$9) -> 2-3 | J10: =TEXT($AB$69,$AB$69)&TEXT("-","-")&TEXT($AC$69,$AC$69) -> - | K10: =TEXT($AC$29,$AC$29)&TEXT("-","-")&TEXT($AB$29,$AB$29) -> - | L10: =TEXT($AB$62,$AB$62)&TEXT("-","-")&TEXT($AC$62,$AC$62) -> - | M10: =TEXT($AC$24,$AC$24)&TEXT("-","-")&TEXT($AB$24,$AB$24) -> 3-0 | N10: =TEXT($AB$55,$AB$55)&TEXT("-","-")&TEXT($AC$55,$AC$55) -> - | O10: =SUM(DC10+DE10+DG10+DI10+DK10+DM10+DO10+DQ10+DS10+DU10+DW10) -> 1 | P10: =SUM(DD10+DF10+DH10+DJ10+DL10+DN10+DP10+DR10+DT10+DV10+DX10) -> 3 | Q10: =SUM(O10*2+P10*1) -> 5 | R10: =RANK(Q10,$Q$4:$Q$15,0) -> 8 | S10: =R10 -> 8 | U10: 7 | V10: 11-1 | W10: 45278 | X10: 0.79166667 | Y10: 2 | Z10: =REPT($B$14,1) -> HAMDİ ÖZKAN | AA10: =REPT($B$4,1) -> FATİH KAYA | AB10: 1 | AC10: 3 | AD10: 11 | AE10: 8 | AF10: 5 | AG10: 11 | AH10: 9 | AI10: 11 | AJ10: 7 | AK10: 11 | AT10: =IF(AD10>AE10,1,0) -> 1 | AU10: =IF(AE10>AD10,1,0) -> 0 | AV10: =IF(AF10>AG10,1,0) -> 0 | AW10: =IF(AG10>AF10,1,0) -> 1 | AX10: =IF(AH10>AI10,1,0) -> 0 | AY10: =IF(AI10>AH10,1,0) -> 1 | AZ10: =IF(AJ10>AK10,1,0) -> 0 | BA10: =IF(AK10>AJ10,1,0) -> 1 | BB10: =IF(AL10>AM10,1,0) -> 0 | BC10: =IF(AM10>AL10,1,0) -> 0 | BD10: =IF(AN10>AO10,1,0) -> 0 | BE10: =IF(AO10>AN10,1,0) -> 0 | BF10: =IF(AP10>AQ10,1,0) -> 0 | BG10: =IF(AQ10>AP10,1,0) -> 0 | BI10: =IF(AB10>AC10,1,0) -> 0 | BJ10: =IF(AB10<AC10,1,0) -> 1 | DB10: 7 | DC10: =IF($AC$34<$AB$34,1,0) -> 0 | DD10: =IF($AC$34>$AB$34,1,0) -> 0 | DE10: =IF($AB$19<$AC$19,1,0) -> 0 | DF10: =IF($AB$19>$AC$19,1,0) -> 1 | DG10: =IF($AC$48<$AB$48,1,0) -> 0 | DH10: =IF($AC$48>$AB$48,1,0) -> 0 | DI10: =IF($AB$14<$AC$14,1,0) -> 0 | DJ10: =IF($AB$14>$AC$14,1,0) -> 1 | DK10: =IF($AC$41<$AB$41,1,0) -> 0 | DL10: =IF($AC$41>$AB$41,1,0) -> 0 | DM10: =IF($AB$9<$AC$9,1,0) -> 0 | DN10: =IF($AB$9>$AC$9,1,0) -> 1 | DO10: =IF($AB$69>$AC$69,1,0) -> 0 | DP10: =IF($AB$69<$AC$69,1,0) -> 0 | DQ10: =IF($AC$29>$AB$29,1,0) -> 0 | DR10: =IF($AC$29<$AB$29,1,0) -> 0 | DS10: =IF($AB$62>$AC$62,1,0) -> 0 | DT10: =IF($AB$62<$AC$62,1,0) -> 0 | DU10: =IF($AC$24>$AB$24,1,0) -> 1 | DV10: =IF($AC$24<$AB$24,1,0) -> 0 | DW10: =IF($AB$55>$AC$55,1,0) -> 0 | DX10: =IF($AB$55<$AC$55,1,0) -> 0 | DY10: 7 | DZ10: =IF($AA$37<$Z$37,1,0) -> 0 | EA10: =IF($AA$37>$Z$37,1,0) -> 1 | EB10: =IF($Z$41<$AA$41,1,0) -> 0 | EC10: =IF($Z$41>$AA$41,1,0) -> 1 | ED10: =IF($AA$46<$Z$46,1,0) -> 0 | EE10: =IF($AA$46>$Z$46,1,0) -> 1 | EF10: =IF($Z$7<$AA$7,1,0) -> 1 | EG10: =IF($Z$7>$AA$7,1,0) -> 0 | EH10: =IF($AA$10<$Z$10,1,0) -> 1 | EI10: =IF($AA$10>$Z$10,1,0) -> 0 | EJ10: =IF($Z$18<$AA$18,1,0) -> 0 | EK10: =IF($Z$18>$AA$18,1,0) -> 1 | EL10: =IF($Z$28>$AA$28,1,0) -> 0 | EM10: =IF($Z$28<$AA$28,1,0) -> 1 | EN10: =IF($AA$30>$Z$30,1,0) -> 1 | EO10: =IF($AA$30<$Z$30,1,0) -> 0 | EP10: =IF($AA$19>$Z$19,1,0) -> 0 | EQ10: =IF($AA$19<$Z$19,1,0) -> 1
A11: 8 | B11: MUSTAFA KURTUL | C11: =TEXT($AC$28,$AC$28)&TEXT("-","-")&TEXT($AB$28,$AB$28) -> - | D11: =TEXT($AB$49,$AB$49)&TEXT("-","-")&TEXT($AC$49,$AC$49) -> - | E11: =TEXT($AC$13,$AC$13)&TEXT("-","-")&TEXT($AB$13,$AB$13) -> 0-3 | F11: =TEXT($AB$42,$AB$42)&TEXT("-","-")&TEXT($AC$42,$AC$42) -> - | G11: =TEXT($AC$8,$AC$8)&TEXT("-","-")&TEXT($AB$8,$AB$8) -> 0-3 | H11: =TEXT($AB$35,$AB$35)&TEXT("-","-")&TEXT($AC$35,$AC$35) -> - | I11: =TEXT($AC$69,$AC$69)&TEXT("-","-")&TEXT($AB$69,$AB$69) -> - | K11: =TEXT($AB$63,$AB$63)&TEXT("-","-")&TEXT($AC$63,$AC$63) -> - | L11: =TEXT($AC$23,$AC$23)&TEXT("-","-")&TEXT($AB$23,$AB$23) -> 2-3 | M11: =TEXT($AB$56,$AB$56)&TEXT("-","-")&TEXT($AC$56,$AC$56) -> - | N11: =TEXT($AC$18,$AC$18)&TEXT("-","-")&TEXT($AB$18,$AB$18) -> 2-3 | O11: =SUM(DC11+DE11+DG11+DI11+DK11+DM11+DO11+DQ11+DS11+DU11+DW11) -> 0 | P11: =SUM(DD11+DF11+DH11+DJ11+DL11+DN11+DP11+DR11+DT11+DV11+DX11) -> 4 | Q11: =SUM(O11*2+P11*1) -> 4 | R11: =RANK(Q11,$Q$4:$Q$15,0) -> 11 | S11: =R11 -> 11 | U11: 8 | V11: 12-10 | W11: 45278 | X11: 0.79166667 | Y11: 3 | Z11: =REPT($B$15,1) -> SELÇUK KURT | AA11: =REPT($B$13,1) -> ÇETİN KAPTANOĞLU | AB11: 0 | AC11: 3 | AD11: 2 | AE11: 11 | AF11: 6 | AG11: 11 | AH11: 8 | AI11: 11 | AT11: =IF(AD11>AE11,1,0) -> 0 | AU11: =IF(AE11>AD11,1,0) -> 1 | AV11: =IF(AF11>AG11,1,0) -> 0 | AW11: =IF(AG11>AF11,1,0) -> 1 | AX11: =IF(AH11>AI11,1,0) -> 0 | AY11: =IF(AI11>AH11,1,0) -> 1 | AZ11: =IF(AJ11>AK11,1,0) -> 0 | BA11: =IF(AK11>AJ11,1,0) -> 0 | BB11: =IF(AL11>AM11,1,0) -> 0 | BC11: =IF(AM11>AL11,1,0) -> 0 | BD11: =IF(AN11>AO11,1,0) -> 0 | BE11: =IF(AO11>AN11,1,0) -> 0 | BF11: =IF(AP11>AQ11,1,0) -> 0 | BG11: =IF(AQ11>AP11,1,0) -> 0 | BI11: =IF(AB11>AC11,1,0) -> 0 | BJ11: =IF(AB11<AC11,1,0) -> 1 | DB11: 8 | DC11: =IF($AB$28<$AC$28,1,0) -> 0 | DD11: =IF($AB$28>$AC$28,1,0) -> 0 | DE11: =IF($AC$49<$AB$49,1,0) -> 0 | DF11: =IF($AC$49>$AB$49,1,0) -> 0 | DG11: =IF($AB$13<$AC$13,1,0) -> 0 | DH11: =IF($AB$13>$AC$13,1,0) -> 1 | DI11: =IF($AC$42<$AB$42,1,0) -> 0 | DJ11: =IF($AC$42>$AB$42,1,0) -> 0 | DK11: =IF($AB$8<$AC$8,1,0) -> 0 | DL11: =IF($AB$8>$AC$8,1,0) -> 1 | DM11: =IF($AC$35<$AB$35,1,0) -> 0 | DN11: =IF($AC$35>$AB$35,1,0) -> 0 | DO11: =IF($AB$69<$AC$69,1,0) -> 0 | DP11: =IF($AB$69>$AC$69,1,0) -> 0 | DQ11: =IF($AB$63>$AC$63,1,0) -> 0 | DR11: =IF($AB$63<$AC$63,1,0) -> 0 | DS11: =IF($AC$23>$AB$23,1,0) -> 0 | DT11: =IF($AC$23<$AB$23,1,0) -> 1 | DU11: =IF($AB$56>$AC$56,1,0) -> 0 | DV11: =IF($AB$56<$AC$56,1,0) -> 0 | DW11: =IF($AC$18>$AB$18,1,0) -> 0 | DX11: =IF($AC$18<$AB$18,1,0) -> 1 | DY11: 8 | DZ11: =IF($Z$40<$AA$40,1,0) -> 1 | EA11: =IF($Z$40>$AA$40,1,0) -> 0 | EB11: =IF($AA$47<$Z$47,1,0) -> 1 | EC11: =IF($AA$47>$Z$47,1,0) -> 0 | ED11: =IF($Z$6<$AA$6,1,0) -> 0 | EE11: =IF($Z$6>$AA$6,1,0) -> 1 | EF11: =IF($AA$11<$Z$11,1,0) -> 1 | EG11: =IF($AA$11>$Z$11,1,0) -> 0 | EH11: =IF($Z$17<$AA$17,1,0) -> 1 | EI11: =IF($Z$17>$AA$17,1,0) -> 0 | EJ11: =IF($AA$20<$Z$20,1,0) -> 0 | EK11: =IF($AA$20>$Z$20,1,0) -> 1 | EL11: =IF($Z$28<$AA$28,1,0) -> 1 | EM11: =IF($Z$28>$AA$28,1,0) -> 0 | EN11: =IF($Z$38>$AA$38,1,0) -> 0 | EO11: =IF($Z$38<$AA$38,1,0) -> 1 | EP11: =IF($AA$29>$Z$29,1,0) -> 1 | EQ11: =IF($AA$29<$Z$29,1,0) -> 0
A12: 9 | B12: KAMİL BÖRÜBAN | C12: =TEXT($AB$22,$AB$22)&TEXT("-","-")&TEXT($AC$22,$AC$22) -> 0-3 | D12: =TEXT($AC$12,$AC$12)&TEXT("-","-")&TEXT($AB$12,$AB$12) -> 0-3 | E12: =TEXT($AB$43,$AB$43)&TEXT("-","-")&TEXT($AC$43,$AC$43) -> - | F12: =TEXT($AC$7,$AC$7)&TEXT("-","-")&TEXT($AB$7,$AB$7) -> 1-3 | G12: =TEXT($AB$36,$AB$36)&TEXT("-","-")&TEXT($AC$36,$AC$36) -> - | H12: =TEXT($AC$68,$AC$68)&TEXT("-","-")&TEXT($AB$68,$AB$68) -> - | I12: =TEXT($AB$29,$AB$29)&TEXT("-","-")&TEXT($AC$29,$AC$29) -> - | J12: =TEXT($AC$63,$AC$63)&TEXT("-","-")&TEXT($AB$63,$AB$63) -> - | L12: =TEXT($AB$57,$AB$57)&TEXT("-","-")&TEXT($AC$57,$AC$57) -> - | M12: =TEXT($AC$17,$AC$17)&TEXT("-","-")&TEXT($AB$17,$AB$17) -> 3-2 | N12: =TEXT($AB$50,$AB$50)&TEXT("-","-")&TEXT($AC$50,$AC$50) -> - | O12: =SUM(DC12+DE12+DG12+DI12+DK12+DM12+DO12+DQ12+DS12+DU12+DW12) -> 1 | P12: =SUM(DD12+DF12+DH12+DJ12+DL12+DN12+DP12+DR12+DT12+DV12+DX12) -> 3 | Q12: =SUM(O12*2+P12*1) -> 5 | R12: =RANK(Q12,$Q$4:$Q$15,0) -> 8 | S12: =R12 -> 8 | U12: 9 | V12: 2-9 | W12: 45278 | X12: 0.79166667 | Y12: 4 | Z12: =REPT($B$5,1) -> MUSTAFA DEMİR | AA12: =REPT($B$12,1) -> KAMİL BÖRÜBAN | AB12: 3 | AC12: 0 | AD12: 11 | AE12: 3 | AF12: 11 | AG12: 8 | AH12: 11 | AI12: 4 | AT12: =IF(AD12>AE12,1,0) -> 1 | AU12: =IF(AE12>AD12,1,0) -> 0 | AV12: =IF(AF12>AG12,1,0) -> 1 | AW12: =IF(AG12>AF12,1,0) -> 0 | AX12: =IF(AH12>AI12,1,0) -> 1 | AY12: =IF(AI12>AH12,1,0) -> 0 | AZ12: =IF(AJ12>AK12,1,0) -> 0 | BA12: =IF(AK12>AJ12,1,0) -> 0 | BB12: =IF(AL12>AM12,1,0) -> 0 | BC12: =IF(AM12>AL12,1,0) -> 0 | BD12: =IF(AN12>AO12,1,0) -> 0 | BE12: =IF(AO12>AN12,1,0) -> 0 | BF12: =IF(AP12>AQ12,1,0) -> 0 | BG12: =IF(AQ12>AP12,1,0) -> 0 | BI12: =IF(AB12>AC12,1,0) -> 1 | BJ12: =IF(AB12<AC12,1,0) -> 0 | DB12: 9 | DC12: =IF($AC$22<$AB$22,1,0) -> 0 | DD12: =IF($AC$22>$AB$22,1,0) -> 1 | DE12: =IF($AB$12<$AC$12,1,0) -> 0 | DF12: =IF($AB$12>$AC$12,1,0) -> 1 | DG12: =IF($AC$43<$AB$43,1,0) -> 0 | DH12: =IF($AC$43>$AB$43,1,0) -> 0 | DI12: =IF($AB$7<$AC$7,1,0) -> 0 | DJ12: =IF($AB$7>$AC$7,1,0) -> 1 | DK12: =IF($AC$36<$AB$36,1,0) -> 0 | DL12: =IF($AC$36>$AB$36,1,0) -> 0 | DM12: =IF($AB$68<$AC$68,1,0) -> 0 | DN12: =IF($AB$68>$AC$68,1,0) -> 0 | DO12: =IF($AC$29<$AB$29,1,0) -> 0 | DP12: =IF($AC$29>$AB$29,1,0) -> 0 | DQ12: =IF($AB$63<$AC$63,1,0) -> 0 | DR12: =IF($AB$63>$AC$63,1,0) -> 0 | DS12: =IF($AB$57>$AC$57,1,0) -> 0 | DT12: =IF($AB$57<$AC$57,1,0) -> 0 | DU12: =IF($AC$17>$AB$17,1,0) -> 1 | DV12: =IF($AC$17<$AB$17,1,0) -> 0 | DW12: =IF($AB$50>$AC$50,1,0) -> 0 | DX12: =IF($AB$50<$AC$50,1,0) -> 0 | DY12: 9 | DZ12: =IF($AA$48<$Z$48,1,0) -> 0 | EA12: =IF($AA$48>$Z$48,1,0) -> 1 | EB12: =IF($Z$5<$AA$5,1,0) -> 0 | EC12: =IF($Z$5>$AA$5,1,0) -> 1 | ED12: =IF($AA$12<$Z$12,1,0) -> 1 | EE12: =IF($AA$12>$Z$12,1,0) -> 0 | EF12: =IF($Z$16<$AA$16,1,0) -> 0 | EG12: =IF($Z$16>$AA$16,1,0) -> 1 | EH12: =IF($AA$21<$Z$21,1,0) -> 1 | EI12: =IF($AA$21>$Z$21,1,0) -> 0 | EJ12: =IF($Z$27<$AA$27,1,0) -> 0 | EK12: =IF($Z$27>$AA$27,1,0) -> 1 | EL12: =IF($AA$30<$Z$30,1,0) -> 0 | EM12: =IF($AA$30>$Z$30,1,0) -> 1 | EN12: =IF($Z$38<$AA$38,1,0) -> 1 | EO12: =IF($Z$38>$AA$38,1,0) -> 0 | EP12: =IF($AA$39>$Z$39,1,0) -> 0 | EQ12: =IF($AA$39<$Z$39,1,0) -> 1
A13: 10 | B13: ÇETİN KAPTANOĞLU | C13: =TEXT($AC$16,$AC$16)&TEXT("-","-")&TEXT($AB$16,$AB$16) -> 1-3 | D13: =TEXT($AB$44,$AB$44)&TEXT("-","-")&TEXT($AC$44,$AC$44) -> - | E13: =TEXT($AC$6,$AC$6)&TEXT("-","-")&TEXT($AB$6,$AB$6) -> 0-3 | F13: =TEXT($AB$37,$AB$37)&TEXT("-","-")&TEXT($AC$37,$AC$37) -> - | G13: =TEXT($AC$67,$AC$67)&TEXT("-","-")&TEXT($AB$67,$AB$67) -> - | H13: =TEXT($AB$30,$AB$30)&TEXT("-","-")&TEXT($AC$30,$AC$30) -> - | I13: =TEXT($AC$62,$AC$62)&TEXT("-","-")&TEXT($AB$62,$AB$62) -> - | J13: =TEXT($AB$23,$AB$23)&TEXT("-","-")&TEXT($AC$23,$AC$23) -> 3-2 | K13: =TEXT($AC$57,$AC$57)&TEXT("-","-")&TEXT($AB$57,$AB$57) -> - | M13: =TEXT($AB$51,$AB$51)&TEXT("-","-")&TEXT($AC$51,$AC$51) -> - | N13: =TEXT($AC$11,$AC$11)&TEXT("-","-")&TEXT($AB$11,$AB$11) -> 3-0 | O13: =SUM(DC13+DE13+DG13+DI13+DK13+DM13+DO13+DQ13+DS13+DU13+DW13) -> 2 | P13: =SUM(DD13+DF13+DH13+DJ13+DL13+DN13+DP13+DR13+DT13+DV13+DX13) -> 2 | Q13: =SUM(O13*2+P13*1) -> 6 | R13: =RANK(Q13,$Q$4:$Q$15,0) -> 5 | S13: =R13 -> 5 | U13: 10 | V13: 3-8 | W13: 45278 | X13: 0.79166667 | Y13: 5 | Z13: =REPT($B$6,1) -> RAMAZAN KAPTANOĞLU | AA13: =REPT($B$11,1) -> MUSTAFA KURTUL | AB13: 3 | AC13: 0 | AD13: 11 | AE13: 3 | AF13: 11 | AG13: 6 | AH13: 11 | AI13: 6 | AT13: =IF(AD13>AE13,1,0) -> 1 | AU13: =IF(AE13>AD13,1,0) -> 0 | AV13: =IF(AF13>AG13,1,0) -> 1 | AW13: =IF(AG13>AF13,1,0) -> 0 | AX13: =IF(AH13>AI13,1,0) -> 1 | AY13: =IF(AI13>AH13,1,0) -> 0 | AZ13: =IF(AJ13>AK13,1,0) -> 0 | BA13: =IF(AK13>AJ13,1,0) -> 0 | BB13: =IF(AL13>AM13,1,0) -> 0 | BC13: =IF(AM13>AL13,1,0) -> 0 | BD13: =IF(AN13>AO13,1,0) -> 0 | BE13: =IF(AO13>AN13,1,0) -> 0 | BF13: =IF(AP13>AQ13,1,0) -> 0 | BG13: =IF(AQ13>AP13,1,0) -> 0 | BI13: =IF(AB13>AC13,1,0) -> 1 | BJ13: =IF(AB13<AC13,1,0) -> 0 | DB13: 10 | DC13: =IF($AB$16<$AC$16,1,0) -> 0 | DD13: =IF($AB$16>$AC$16,1,0) -> 1 | DE13: =IF($AC$44<$AB$44,1,0) -> 0 | DF13: =IF($AC$44>$AB$44,1,0) -> 0 | DG13: =IF($AB$6<$AC$6,1,0) -> 0 | DH13: =IF($AB$6>$AC$6,1,0) -> 1 | DI13: =IF($AC$37<$AB$37,1,0) -> 0 | DJ13: =IF($AC$37>$AB$37,1,0) -> 0 | DK13: =IF($AB$67<$AC$67,1,0) -> 0 | DL13: =IF($AB$67>$AC$67,1,0) -> 0 | DM13: =IF($AC$30<$AB$30,1,0) -> 0 | DN13: =IF($AC$30>$AB$30,1,0) -> 0 | DO13: =IF($AB$62<$AC$62,1,0) -> 0 | DP13: =IF($AB$62>$AC$62,1,0) -> 0 | DQ13: =IF($AC$23<$AB$23,1,0) -> 1 | DR13: =IF($AC$23>$AB$23,1,0) -> 0 | DS13: =IF($AB$57<$AC$57,1,0) -> 0 | DT13: =IF($AB$57>$AC$57,1,0) -> 0 | DU13: =IF($AB$51>$AC$51,1,0) -> 0 | DV13: =IF($AB$51<$AC$51,1,0) -> 0 | DW13: =IF($AC$11>$AB$11,1,0) -> 1 | DX13: =IF($AC$11<$AB$11,1,0) -> 0 | DY13: 10 | DZ13: =IF($Z$4<$AA$4,1,0) -> 1 | EA13: =IF($Z$4>$AA$4,1,0) -> 0 | EB13: =IF($Z$14<$AA$14,1,0) -> 1 | EC13: =IF($Z$14>$AA$14,1,0) -> 0 | ED13: =IF($Z$24<$AA$24,1,0) -> 1 | EE13: =IF($Z$24>$AA$24,1,0) -> 0 | EF13: =IF($Z$34<$AA$34,1,0) -> 0 | EG13: =IF($Z$34>$AA$34,1,0) -> 1 | EH13: =IF($Z$44<$AA$44,1,0) -> 1 | EI13: =IF($Z$44>$AA$44,1,0) -> 0 | EJ13: =IF($AA$9<$Z$9,1,0) -> 1 | EK13: =IF($AA$9>$Z$9,1,0) -> 0 | EL13: =IF($AA$19<$Z$19,1,0) -> 1 | EM13: =IF($AA$19>$Z$19,1,0) -> 0 | EN13: =IF($AA$29<$Z$29,1,0) -> 0 | EO13: =IF($AA$29>$Z$29,1,0) -> 1 | EP13: =IF($AA$39<$Z$39,1,0) -> 1 | EQ13: =IF($AA$39>$Z$39,1,0) -> 0
A14: 11 | B14: HAMDİ ÖZKAN | C14: =TEXT($AB$10,$AB$10)&TEXT("-","-")&TEXT($AC$10,$AC$10) -> 1-3 | D14: =TEXT($AC$5,$AC$5)&TEXT("-","-")&TEXT($AB$5,$AB$5) -> 0-3 | E14: =TEXT($AB$38,$AB$38)&TEXT("-","-")&TEXT($AC$38,$AC$38) -> - | F14: =TEXT($AC$66,$AC$66)&TEXT("-","-")&TEXT($AB$66,$AB$66) -> - | G14: =TEXT($AB$31,$AB$31)&TEXT("-","-")&TEXT($AC$31,$AC$31) -> - | H14: =TEXT($AC$61,$AC$61)&TEXT("-","-")&TEXT($AB$61,$AB$61) -> - | I14: =TEXT($AB$24,$AB$24)&TEXT("-","-")&TEXT($AC$24,$AC$24) -> 0-3 | J14: =TEXT($AC$56,$AC$56)&TEXT("-","-")&TEXT($AB$56,$AB$56) -> - | K14: =TEXT($AB$17,$AB$17)&TEXT("-","-")&TEXT($AC$17,$AC$17) -> 2-3 | L14: =TEXT($AC$51,$AC$51)&TEXT("-","-")&TEXT($AB$51,$AB$51) -> - | N14: =TEXT($AB$45,$AB$45)&TEXT("-","-")&TEXT($AC$45,$AC$45) -> - | O14: =SUM(DC14+DE14+DG14+DI14+DK14+DM14+DO14+DQ14+DS14+DU14+DW14) -> 0 | P14: =SUM(DD14+DF14+DH14+DJ14+DL14+DN14+DP14+DR14+DT14+DV14+DX14) -> 4 | Q14: =SUM(O14*2+P14*1) -> 4 | R14: =RANK(Q14,$Q$4:$Q$15,0) -> 11 | S14: =R14 -> 11 | U14: 11 | V14: 4-7 | W14: 45278 | X14: 0.79166667 | Y14: 6 | Z14: =REPT($B$7,1) -> FATİH YENİSOLAK | AA14: =REPT($B$10,1) -> MURAT ÖZKARS | AB14: 3 | AC14: 1 | AD14: 11 | AE14: 6 | AF14: 9 | AG14: 11 | AH14: 11 | AI14: 4 | AJ14: 11 | AK14: 9 | AT14: =IF(AD14>AE14,1,0) -> 1 | AU14: =IF(AE14>AD14,1,0) -> 0 | AV14: =IF(AF14>AG14,1,0) -> 0 | AW14: =IF(AG14>AF14,1,0) -> 1 | AX14: =IF(AH14>AI14,1,0) -> 1 | AY14: =IF(AI14>AH14,1,0) -> 0 | AZ14: =IF(AJ14>AK14,1,0) -> 1 | BA14: =IF(AK14>AJ14,1,0) -> 0 | BB14: =IF(AL14>AM14,1,0) -> 0 | BC14: =IF(AM14>AL14,1,0) -> 0 | BD14: =IF(AN14>AO14,1,0) -> 0 | BE14: =IF(AO14>AN14,1,0) -> 0 | BF14: =IF(AP14>AQ14,1,0) -> 0 | BG14: =IF(AQ14>AP14,1,0) -> 0 | BI14: =IF(AB14>AC14,1,0) -> 1 | BJ14: =IF(AB14<AC14,1,0) -> 0 | DB14: 11 | DC14: =IF($AC$10<$AB$10,1,0) -> 0 | DD14: =IF($AC$10>$AB$10,1,0) -> 1 | DE14: =IF($AB$5<$AC$5,1,0) -> 0 | DF14: =IF($AB$5>$AC$5,1,0) -> 1 | DG14: =IF($AC$38<$AB$38,1,0) -> 0 | DH14: =IF($AC$38>$AB$38,1,0) -> 0 | DI14: =IF($AB$66<$AC$66,1,0) -> 0 | DJ14: =IF($AB$66>$AC$66,1,0) -> 0 | DK14: =IF($AC$31<$AB$31,1,0) -> 0 | DL14: =IF($AC$31>$AB$31,1,0) -> 0 | DM14: =IF($AB$61<$AC$61,1,0) -> 0 | DN14: =IF($AB$61>$AC$61,1,0) -> 0 | DO14: =IF($AC$24<$AB$24,1,0) -> 0 | DP14: =IF($AC$24>$AB$24,1,0) -> 1 | DQ14: =IF($AB$56<$AC$56,1,0) -> 0 | DR14: =IF($AB$56>$AC$56,1,0) -> 0 | DS14: =IF($AC$17<$AB$17,1,0) -> 0 | DT14: =IF($AC$17>$AB$17,1,0) -> 1 | DU14: =IF($AB$51<$AC$51,1,0) -> 0 | DV14: =IF($AB$51>$AC$51,1,0) -> 0 | DW14: =IF($AB$45>$AC$45,1,0) -> 0 | DX14: =IF($AB$45<$AC$45,1,0) -> 0 | DY14: 11
A15: 12 | B15: SELÇUK KURT | C15: =TEXT($AC$4,$AC$4)&TEXT("-","-")&TEXT($AB$4,$AB$4) -> 0-3 | D15: =TEXT($AB$39,$AB$39)&TEXT("-","-")&TEXT($AC$39,$AC$39) -> - | E15: =TEXT($AC$65,$AC$65)&TEXT("-","-")&TEXT($AB$65,$AB$65) -> - | F15: =TEXT($AB$32,$AB$32)&TEXT("-","-")&TEXT($AC$32,$AC$32) -> - | G15: =TEXT($AC$60,$AC$60)&TEXT("-","-")&TEXT($AB$60,$AB$60) -> - | H15: =TEXT($AB$25,$AB$25)&TEXT("-","-")&TEXT($AC$25,$AC$25) -> 0-3 | I15: =TEXT($AC$55,$AC$55)&TEXT("-","-")&TEXT($AB$55,$AB$55) -> - | J15: =TEXT($AB$18,$AB$18)&TEXT("-","-")&TEXT($AC$18,$AC$18) -> 3-2 | K15: =TEXT($AC$50,$AC$50)&TEXT("-","-")&TEXT($AB$50,$AB$50) -> - | L15: =TEXT($AB$11,$AB$11)&TEXT("-","-")&TEXT($AC$11,$AC$11) -> 0-3 | M15: =TEXT($AC$45,$AC$45)&TEXT("-","-")&TEXT($AB$45,$AB$45) -> - | O15: =SUM(DC15+DE15+DG15+DI15+DK15+DM15+DO15+DQ15+DS15+DU15+DW15) -> 1 | P15: =SUM(DD15+DF15+DH15+DJ15+DL15+DN15+DP15+DR15+DT15+DV15+DX15) -> 3 | Q15: =SUM(O15*2+P15*1) -> 5 | R15: =RANK(Q15,$Q$4:$Q$15,0) -> 8 | S15: =R15 -> 8 | U15: 12 | V15: 5-6 | W15: 45278 | X15: 0.79166667 | Y15: 1 | Z15: =REPT($B$8,1) -> ALADDİN ÖZDEMİR | AA15: =REPT($B$9,1) -> SELİM ERTUĞTUL | AB15: 3 | AC15: 0 | AD15: 11 | AE15: 7 | AF15: 11 | AG15: 8 | AH15: 11 | AI15: 7 | AT15: =IF(AD15>AE15,1,0) -> 1 | AU15: =IF(AE15>AD15,1,0) -> 0 | AV15: =IF(AF15>AG15,1,0) -> 1 | AW15: =IF(AG15>AF15,1,0) -> 0 | AX15: =IF(AH15>AI15,1,0) -> 1 | AY15: =IF(AI15>AH15,1,0) -> 0 | AZ15: =IF(AJ15>AK15,1,0) -> 0 | BA15: =IF(AK15>AJ15,1,0) -> 0 | BB15: =IF(AL15>AM15,1,0) -> 0 | BC15: =IF(AM15>AL15,1,0) -> 0 | BD15: =IF(AN15>AO15,1,0) -> 0 | BE15: =IF(AO15>AN15,1,0) -> 0 | BF15: =IF(AP15>AQ15,1,0) -> 0 | BG15: =IF(AQ15>AP15,1,0) -> 0 | BI15: =IF(AB15>AC15,1,0) -> 1 | BJ15: =IF(AB15<AC15,1,0) -> 0 | DB15: 12 | DC15: =IF($AB$4<$AC$4,1,0) -> 0 | DD15: =IF($AB$4>$AC$4,1,0) -> 1 | DE15: =IF($AB$39>$AC$39,1,0) -> 0 | DF15: =IF($AB$39<$AC$39,1,0) -> 0 | DG15: =IF($AB$65<$AC$65,1,0) -> 0 | DH15: =IF($AB$65>$AC$65,1,0) -> 0 | DI15: =IF($AB$32>$AC$32,1,0) -> 0 | DJ15: =IF($AB$32<$AC$32,1,0) -> 0 | DK15: =IF($AB$60<$AC$60,1,0) -> 0 | DL15: =IF($AB$60>$AC$60,1,0) -> 0 | DM15: =IF($AC$25<$AB$25,1,0) -> 0 | DN15: =IF($AC$25>$AB$25,1,0) -> 1 | DO15: =IF($AB$55<$AC$55,1,0) -> 0 | DP15: =IF($AB$55>$AC$55,1,0) -> 0 | DQ15: =IF($AC$18<$AB$18,1,0) -> 1 | DR15: =IF($AC$18>$AB$18,1,0) -> 0 | DS15: =IF($AB$50<$AC$50,1,0) -> 0 | DT15: =IF($AB$50>$AC$50,1,0) -> 0 | DU15: =IF($AC$11<$AB$11,1,0) -> 0 | DV15: =IF($AC$11>$AB$11,1,0) -> 1 | DW15: =IF($AB$45<$AC$45,1,0) -> 0 | DX15: =IF($AB$45>$AC$45,1,0) -> 0 | DY15: 12
U16: 13 | V16: 1-10 | W16: 45278 | X16: 0.83333333 | Y16: 3 | Z16: =REPT($B$4,1) -> FATİH KAYA | AA16: =REPT($B$13,1) -> ÇETİN KAPTANOĞLU | AB16: 3 | AC16: 1 | AD16: 11 | AE16: 5 | AF16: 11 | AG16: 6 | AH16: 12 | AI16: 14 | AJ16: 11 | AK16: 6 | AT16: =IF(AD16>AE16,1,0) -> 1 | AU16: =IF(AE16>AD16,1,0) -> 0 | AV16: =IF(AF16>AG16,1,0) -> 1 | AW16: =IF(AG16>AF16,1,0) -> 0 | AX16: =IF(AH16>AI16,1,0) -> 0 | AY16: =IF(AI16>AH16,1,0) -> 1 | AZ16: =IF(AJ16>AK16,1,0) -> 1 | BA16: =IF(AK16>AJ16,1,0) -> 0 | BB16: =IF(AL16>AM16,1,0) -> 0 | BC16: =IF(AM16>AL16,1,0) -> 0 | BD16: =IF(AN16>AO16,1,0) -> 0 | BE16: =IF(AO16>AN16,1,0) -> 0 | BF16: =IF(AP16>AQ16,1,0) -> 0 | BG16: =IF(AQ16>AP16,1,0) -> 0 | BI16: =IF(AB16>AC16,1,0) -> 1 | BJ16: =IF(AB16<AC16,1,0) -> 0
A17: =U1 -> SÜPER LİG | U17: 14 | V17: 11-9 | W17: 45278 | X17: 0.83333333 | Y17: 4 | Z17: =REPT($B$14,1) -> HAMDİ ÖZKAN | AA17: =REPT($B$12,1) -> KAMİL BÖRÜBAN | AB17: 2 | AC17: 3 | AD17: 11 | AE17: 7 | AF17: 3 | AG17: 11 | AH17: 0 | AI17: 11 | AJ17: 11 | AK17: 8 | AL17: 7 | AM17: 11 | AT17: =IF(AD17>AE17,1,0) -> 1 | AU17: =IF(AE17>AD17,1,0) -> 0 | AV17: =IF(AF17>AG17,1,0) -> 0 | AW17: =IF(AG17>AF17,1,0) -> 1 | AX17: =IF(AH17>AI17,1,0) -> 0 | AY17: =IF(AI17>AH17,1,0) -> 1 | AZ17: =IF(AJ17>AK17,1,0) -> 1 | BA17: =IF(AK17>AJ17,1,0) -> 0 | BB17: =IF(AL17>AM17,1,0) -> 0 | BC17: =IF(AM17>AL17,1,0) -> 1 | BD17: =IF(AN17>AO17,1,0) -> 0 | BE17: =IF(AO17>AN17,1,0) -> 0 | BF17: =IF(AP17>AQ17,1,0) -> 0 | BG17: =IF(AQ17>AP17,1,0) -> 0 | BI17: =IF(AB17>AC17,1,0) -> 0 | BJ17: =IF(AB17<AC17,1,0) -> 1
A18: SIRALAMA | U18: 15 | V18: 12-8 | W18: 45278 | X18: 0.83333333 | Y18: 5 | Z18: =REPT($B$15,1) -> SELÇUK KURT | AA18: =REPT($B$11,1) -> MUSTAFA KURTUL | AB18: 3 | AC18: 2 | AD18: 3 | AE18: 11 | AF18: 7 | AG18: 11 | AH18: 11 | AI18: 9 | AJ18: 11 | AK18: 9 | AL18: 14 | AM18: 12 | AT18: =IF(AD18>AE18,1,0) -> 0 | AU18: =IF(AE18>AD18,1,0) -> 1 | AV18: =IF(AF18>AG18,1,0) -> 0 | AW18: =IF(AG18>AF18,1,0) -> 1 | AX18: =IF(AH18>AI18,1,0) -> 1 | AY18: =IF(AI18>AH18,1,0) -> 0 | AZ18: =IF(AJ18>AK18,1,0) -> 1 | BA18: =IF(AK18>AJ18,1,0) -> 0 | BB18: =IF(AL18>AM18,1,0) -> 1 | BC18: =IF(AM18>AL18,1,0) -> 0 | BD18: =IF(AN18>AO18,1,0) -> 0 | BE18: =IF(AO18>AN18,1,0) -> 0 | BF18: =IF(AP18>AQ18,1,0) -> 0 | BG18: =IF(AQ18>AP18,1,0) -> 0 | BI18: =IF(AB18>AC18,1,0) -> 1 | BJ18: =IF(AB18<AC18,1,0) -> 0 | DC18: < | DD18: > | DE18: < | DF18: > | DG18: < | DH18: > | DI18: < | DJ18: > | DK18: < | DL18: > | DM18: < | DN18: > | DO18: < | DP18: > | DQ18: < | DR18: > | DS18: < | DT18: >
A19: Adı Soyadı | C19: Kulübü | J19: İli | N19: O | O19: G | P19: M | Q19: P | S19: S | U19: 16 | V19: 2-7 | W19: 45278 | X19: 0.83333333 | Y19: 6 | Z19: =REPT($B$5,1) -> MUSTAFA DEMİR | AA19: =REPT($B$10,1) -> MURAT ÖZKARS | AB19: 3 | AC19: 0 | AD19: 11 | AE19: 4 | AF19: 11 | AG19: 6 | AH19: 11 | AI19: 5 | AT19: =IF(AD19>AE19,1,0) -> 1 | AU19: =IF(AE19>AD19,1,0) -> 0 | AV19: =IF(AF19>AG19,1,0) -> 1 | AW19: =IF(AG19>AF19,1,0) -> 0 | AX19: =IF(AH19>AI19,1,0) -> 1 | AY19: =IF(AI19>AH19,1,0) -> 0 | AZ19: =IF(AJ19>AK19,1,0) -> 0 | BA19: =IF(AK19>AJ19,1,0) -> 0 | BB19: =IF(AL19>AM19,1,0) -> 0 | BC19: =IF(AM19>AL19,1,0) -> 0 | BD19: =IF(AN19>AO19,1,0) -> 0 | BE19: =IF(AO19>AN19,1,0) -> 0 | BF19: =IF(AP19>AQ19,1,0) -> 0 | BG19: =IF(AQ19>AP19,1,0) -> 0 | BI19: =IF(AB19>AC19,1,0) -> 1 | BJ19: =IF(AB19<AC19,1,0) -> 0 | DC19: V | DD19: L | DE19: V | DF19: L | DG19: V | DH19: L | DI19: V | DJ19: L | DK19: V | DL19: L | DM19: V | DN19: L | DO19: V | DP19: L | DQ19: V | DR19: L | DS19: V | DT19: L
A20: 1 | U20: 17 | V20: 3-6 | W20: 45278 | X20: 0.83333333 | Y20: 1 | Z20: =REPT($B$6,1) -> RAMAZAN KAPTANOĞLU | AA20: =REPT($B$9,1) -> SELİM ERTUĞTUL | AB20: 3 | AC20: 0 | AD20: 11 | AE20: 5 | AF20: 11 | AG20: 6 | AH20: 11 | AI20: 9 | AT20: =IF(AD20>AE20,1,0) -> 1 | AU20: =IF(AE20>AD20,1,0) -> 0 | AV20: =IF(AF20>AG20,1,0) -> 1 | AW20: =IF(AG20>AF20,1,0) -> 0 | AX20: =IF(AH20>AI20,1,0) -> 1 | AY20: =IF(AI20>AH20,1,0) -> 0 | AZ20: =IF(AJ20>AK20,1,0) -> 0 | BA20: =IF(AK20>AJ20,1,0) -> 0 | BB20: =IF(AL20>AM20,1,0) -> 0 | BC20: =IF(AM20>AL20,1,0) -> 0 | BD20: =IF(AN20>AO20,1,0) -> 0 | BE20: =IF(AO20>AN20,1,0) -> 0 | BF20: =IF(AP20>AQ20,1,0) -> 0 | BG20: =IF(AQ20>AP20,1,0) -> 0 | BI20: =IF(AB20>AC20,1,0) -> 1 | BJ20: =IF(AB20<AC20,1,0) -> 0 | DC20: =IF($Z$13>$AA$13,1,0) -> 1 | DD20: =IF($Z$13<$AA$13,1,0) -> 0 | DE20: =IF($AA$15>$Z$15,1,0) -> 1 | DF20: =IF($AA$15<$Z$15,1,0) -> 0 | DG20: =IF($Z$22>$AA$22,1,0) -> 1 | DH20: =IF($Z$22<$AA$22,1,0) -> 0 | DI20: =IF($AA$26>$Z$26,1,0) -> 0 | DJ20: =IF($AA$26<$Z$26,1,0) -> 1 | DK20: =IF($Z$31>$AA$31,1,0) -> 1 | DL20: =IF($Z$31<$AA$31,1,0) -> 0 | DM20: =IF($AA$37>$Z$37,1,0) -> 1 | DN20: =IF($AA$37<$Z$37,1,0) -> 0 | DO20: =IF($Z$40>$AA$40,1,0) -> 0 | DP20: =IF($Z$40<$AA$40,1,0) -> 1 | DQ20: =IF($AA$48>$Z$48,1,0) -> 1 | DR20: =IF($AA$48<$Z$48,1,0) -> 0 | DS20: =IF($Z$4>$AA$4,1,0) -> 0 | DT20: =IF($Z$4<$AA$4,1,0) -> 1
A21: 2 | U21: 18 | V21: 4-5 | W21: 45278 | X21: 0.83333333 | Y21: 2 | Z21: =REPT($B$7,1) -> FATİH YENİSOLAK | AA21: =REPT($B$8,1) -> ALADDİN ÖZDEMİR | AB21: 3 | AC21: 0 | AD21: 11 | AE21: 9 | AF21: 14 | AG21: 12 | AH21: 11 | AI21: 9 | AT21: =IF(AD21>AE21,1,0) -> 1 | AU21: =IF(AE21>AD21,1,0) -> 0 | AV21: =IF(AF21>AG21,1,0) -> 1 | AW21: =IF(AG21>AF21,1,0) -> 0 | AX21: =IF(AH21>AI21,1,0) -> 1 | AY21: =IF(AI21>AH21,1,0) -> 0 | AZ21: =IF(AJ21>AK21,1,0) -> 0 | BA21: =IF(AK21>AJ21,1,0) -> 0 | BB21: =IF(AL21>AM21,1,0) -> 0 | BC21: =IF(AM21>AL21,1,0) -> 0 | BD21: =IF(AN21>AO21,1,0) -> 0 | BE21: =IF(AO21>AN21,1,0) -> 0 | BF21: =IF(AP21>AQ21,1,0) -> 0 | BG21: =IF(AQ21>AP21,1,0) -> 0 | BI21: =IF(AB21>AC21,1,0) -> 1 | BJ21: =IF(AB21<AC21,1,0) -> 0 | DC21: =IF($Z$13<$AA$13,1,0) -> 0 | DD21: =IF($Z$13>$AA$13,1,0) -> 1 | DE21: =IF($Z$23>$AA$23,1,0) -> 0 | DF21: =IF($Z$23<$AA$23,1,0) -> 1 | DG21: =IF($AA$25>$Z$25,1,0) -> 1 | DH21: =IF($AA$25<$Z$25,1,0) -> 0 | DI21: =IF($Z$32>$AA$32,1,0) -> 1 | DJ21: =IF($Z$32<$AA$32,1,0) -> 0 | DK21: =IF($AA$36>$Z$36,1,0) -> 0 | DL21: =IF($AA$36<$Z$36,1,0) -> 1 | DM21: =IF($Z$41>$AA$41,1,0) -> 1 | DN21: =IF($Z$41<$AA$41,1,0) -> 0 | DO21: =IF($AA$47>$Z$47,1,0) -> 0 | DP21: =IF($AA$47<$Z$47,1,0) -> 1 | DQ21: =IF($Z$5>$AA$5,1,0) -> 1 | DR21: =IF($Z$5<$AA$5,1,0) -> 0 | DS21: =IF($Z$14>$AA$14,1,0) -> 0 | DT21: =IF($Z$14<$AA$14,1,0) -> 1
A22: 3 | U22: 19 | V22: 9-1 | W22: 45278 | X22: 0.875 | Y22: 4 | Z22: =REPT($B$12,1) -> KAMİL BÖRÜBAN | AA22: =REPT($B$4,1) -> FATİH KAYA | AB22: 0 | AC22: 3 | AD22: 5 | AE22: 11 | AF22: 5 | AG22: 11 | AH22: 8 | AI22: 11 | AT22: =IF(AD22>AE22,1,0) -> 0 | AU22: =IF(AE22>AD22,1,0) -> 1 | AV22: =IF(AF22>AG22,1,0) -> 0 | AW22: =IF(AG22>AF22,1,0) -> 1 | AX22: =IF(AH22>AI22,1,0) -> 0 | AY22: =IF(AI22>AH22,1,0) -> 1 | AZ22: =IF(AJ22>AK22,1,0) -> 0 | BA22: =IF(AK22>AJ22,1,0) -> 0 | BB22: =IF(AL22>AM22,1,0) -> 0 | BC22: =IF(AM22>AL22,1,0) -> 0 | BD22: =IF(AN22>AO22,1,0) -> 0 | BE22: =IF(AO22>AN22,1,0) -> 0 | BF22: =IF(AP22>AQ22,1,0) -> 0 | BG22: =IF(AQ22>AP22,1,0) -> 0 | BI22: =IF(AB22>AC22,1,0) -> 0 | BJ22: =IF(AB22<AC22,1,0) -> 1 | DC22: =IF($AA$15<$Z$15,1,0) -> 0 | DD22: =IF($AA$15>$Z$15,1,0) -> 1 | DE22: =IF($Z$23<$AA$23,1,0) -> 1 | DF22: =IF($Z$23>$AA$23,1,0) -> 0 | DG22: =IF($Z$33>$AA$33,1,0) -> 0 | DH22: =IF($Z$33<$AA$33,1,0) -> 1 | DI22: =IF($AA$35>$Z$35,1,0) -> 1 | DJ22: =IF($AA$35<$Z$35,1,0) -> 0 | DK22: =IF($Z$42>$AA$42,1,0) -> 1 | DL22: =IF($Z$42<$AA$42,1,0) -> 0 | DM22: =IF($AA$46>$Z$46,1,0) -> 1 | DN22: =IF($AA$46<$Z$46,1,0) -> 0 | DO22: =IF($Z$6>$AA$6,1,0) -> 1 | DP22: =IF($Z$6<$AA$6,1,0) -> 0 | DQ22: =IF($AA$12>$Z$12,1,0) -> 0 | DR22: =IF($AA$12<$Z$12,1,0) -> 1 | DS22: =IF($Z$24>$AA$24,1,0) -> 0 | DT22: =IF($Z$24<$AA$24,1,0) -> 1
A23: 4 | U23: 20 | V23: 10-8 | W23: 45278 | X23: 0.875 | Y23: 5 | Z23: =REPT($B$13,1) -> ÇETİN KAPTANOĞLU | AA23: =REPT($B$11,1) -> MUSTAFA KURTUL | AB23: 3 | AC23: 2 | AD23: 11 | AE23: 8 | AF23: 11 | AG23: 6 | AH23: 4 | AI23: 11 | AJ23: 4 | AK23: 11 | AL23: 11 | AM23: 9 | AT23: =IF(AD23>AE23,1,0) -> 1 | AU23: =IF(AE23>AD23,1,0) -> 0 | AV23: =IF(AF23>AG23,1,0) -> 1 | AW23: =IF(AG23>AF23,1,0) -> 0 | AX23: =IF(AH23>AI23,1,0) -> 0 | AY23: =IF(AI23>AH23,1,0) -> 1 | AZ23: =IF(AJ23>AK23,1,0) -> 0 | BA23: =IF(AK23>AJ23,1,0) -> 1 | BB23: =IF(AL23>AM23,1,0) -> 1 | BC23: =IF(AM23>AL23,1,0) -> 0 | BD23: =IF(AN23>AO23,1,0) -> 0 | BE23: =IF(AO23>AN23,1,0) -> 0 | BF23: =IF(AP23>AQ23,1,0) -> 0 | BG23: =IF(AQ23>AP23,1,0) -> 0 | BI23: =IF(AB23>AC23,1,0) -> 1 | BJ23: =IF(AB23<AC23,1,0) -> 0 | DC23: =IF($Z$22<$AA$22,1,0) -> 0 | DD23: =IF($Z$22>$AA$22,1,0) -> 1 | DE23: =IF($AA$25<$Z$25,1,0) -> 0 | DF23: =IF($AA$25>$Z$25,1,0) -> 1 | DG23: =IF($Z$33<$AA$33,1,0) -> 1 | DH23: =IF($Z$33>$AA$33,1,0) -> 0 | DI23: =IF($Z$43>$AA$43,1,0) -> 0 | DJ23: =IF($Z$43<$AA$43,1,0) -> 1 | DK23: =IF($AA$45>$Z$45,1,0) -> 1 | DL23: =IF($AA$45<$Z$45,1,0) -> 0 | DM23: =IF($Z$7>$AA$7,1,0) -> 0 | DN23: =IF($Z$7<$AA$7,1,0) -> 1 | DO23: =IF($AA$11>$Z$11,1,0) -> 0 | DP23: =IF($AA$11<$Z$11,1,0) -> 1 | DQ23: =IF($Z$16>$AA$16,1,0) -> 1 | DR23: =IF($Z$16<$AA$16,1,0) -> 0 | DS23: =IF($Z$34>$AA$34,1,0) -> 1 | DT23: =IF($Z$34<$AA$34,1,0) -> 0
A24: 5 | U24: 21 | V24: 11-7 | W24: 45278 | X24: 0.875 | Y24: 6 | Z24: =REPT($B$14,1) -> HAMDİ ÖZKAN | AA24: =REPT($B$10,1) -> MURAT ÖZKARS | AB24: 0 | AC24: 3 | AD24: 6 | AE24: 11 | AF24: 7 | AG24: 11 | AH24: 6 | AI24: 11 | AT24: =IF(AD24>AE24,1,0) -> 0 | AU24: =IF(AE24>AD24,1,0) -> 1 | AV24: =IF(AF24>AG24,1,0) -> 0 | AW24: =IF(AG24>AF24,1,0) -> 1 | AX24: =IF(AH24>AI24,1,0) -> 0 | AY24: =IF(AI24>AH24,1,0) -> 1 | AZ24: =IF(AJ24>AK24,1,0) -> 0 | BA24: =IF(AK24>AJ24,1,0) -> 0 | BB24: =IF(AL24>AM24,1,0) -> 0 | BC24: =IF(AM24>AL24,1,0) -> 0 | BD24: =IF(AN24>AO24,1,0) -> 0 | BE24: =IF(AO24>AN24,1,0) -> 0 | BF24: =IF(AP24>AQ24,1,0) -> 0 | BG24: =IF(AQ24>AP24,1,0) -> 0 | BI24: =IF(AB24>AC24,1,0) -> 0 | BJ24: =IF(AB24<AC24,1,0) -> 1 | DC24: =IF($AA$26<$Z$26,1,0) -> 1 | DD24: =IF($AA$26>$Z$26,1,0) -> 0 | DE24: =IF($Z$32<$AA$32,1,0) -> 0 | DF24: =IF($Z$32>$AA$32,1,0) -> 1 | DG24: =IF($AA$35<$Z$35,1,0) -> 0 | DH24: =IF($AA$35>$Z$35,1,0) -> 1 | DI24: =IF($Z$43<$AA$43,1,0) -> 1 | DJ24: =IF($Z$43>$AA$43,1,0) -> 0 | DK24: =IF($Z$8>$AA$8,1,0) -> 0 | DL24: =IF($Z$8<$AA$8,1,0) -> 1 | DM24: =IF($AA$10>$Z$10,1,0) -> 0 | DN24: =IF($AA$10<$Z$10,1,0) -> 1 | DO24: =IF($Z$17>$AA$17,1,0) -> 0 | DP24: =IF($Z$17<$AA$17,1,0) -> 1 | DQ24: =IF($AA$21>$Z$21,1,0) -> 0 | DR24: =IF($AA$21<$Z$21,1,0) -> 1 | DS24: =IF($Z$44>$AA$44,1,0) -> 0 | DT24: =IF($Z$44<$AA$44,1,0) -> 1
A25: 6 | U25: 22 | V25: 12-6 | W25: 45278 | X25: 0.875 | Y25: 1 | Z25: =REPT($B$15,1) -> SELÇUK KURT | AA25: =REPT($B$9,1) -> SELİM ERTUĞTUL | AB25: 0 | AC25: 3 | AD25: 7 | AE25: 11 | AF25: 12 | AG25: 14 | AH25: 3 | AI25: 11 | AT25: =IF(AD25>AE25,1,0) -> 0 | AU25: =IF(AE25>AD25,1,0) -> 1 | AV25: =IF(AF25>AG25,1,0) -> 0 | AW25: =IF(AG25>AF25,1,0) -> 1 | AX25: =IF(AH25>AI25,1,0) -> 0 | AY25: =IF(AI25>AH25,1,0) -> 1 | AZ25: =IF(AJ25>AK25,1,0) -> 0 | BA25: =IF(AK25>AJ25,1,0) -> 0 | BB25: =IF(AL25>AM25,1,0) -> 0 | BC25: =IF(AM25>AL25,1,0) -> 0 | BD25: =IF(AN25>AO25,1,0) -> 0 | BE25: =IF(AO25>AN25,1,0) -> 0 | BF25: =IF(AP25>AQ25,1,0) -> 0 | BG25: =IF(AQ25>AP25,1,0) -> 0 | BI25: =IF(AB25>AC25,1,0) -> 0 | BJ25: =IF(AB25<AC25,1,0) -> 1 | DC25: =IF($Z$31<$AA$31,1,0) -> 0 | DD25: =IF($Z$31>$AA$31,1,0) -> 1 | DE25: =IF($AA$36<$Z$36,1,0) -> 1 | DF25: =IF($AA$36>$Z$36,1,0) -> 0 | DG25: =IF($Z$42<$AA$42,1,0) -> 0 | DH25: =IF($Z$42>$AA$42,1,0) -> 1 | DI25: =IF($AA$45<$Z$45,1,0) -> 0 | DJ25: =IF($AA$45>$Z$45,1,0) -> 1 | DK25: =IF($Z$8<$AA$8,1,0) -> 1 | DL25: =IF($Z$8>$AA$8,1,0) -> 0 | DM25: =IF($Z$18>$AA$18,1,0) -> 1 | DN25: =IF($Z$18<$AA$18,1,0) -> 0 | DO25: =IF($AA$20>$Z$20,1,0) -> 1 | DP25: =IF($AA$20<$Z$20,1,0) -> 0 | DQ25: =IF($Z$27>$AA$27,1,0) -> 1 | DR25: =IF($Z$27<AC$27,1,0) -> 0 | DS25: =IF($AA$9>$Z$9,1,0) -> 0 | DT25: =IF($AA$9<$Z$9,1,0) -> 1
A26: 7 | U26: 23 | V26: 2-5 | W26: 45278 | X26: 0.875 | Y26: 2 | Z26: =REPT($B$5,1) -> MUSTAFA DEMİR | AA26: =REPT($B$8,1) -> ALADDİN ÖZDEMİR | AB26: 3 | AC26: 1 | AD26: 7 | AE26: 11 | AF26: 11 | AG26: 5 | AH26: 11 | AI26: 9 | AJ26: 11 | AK26: 7 | AT26: =IF(AD26>AE26,1,0) -> 0 | AU26: =IF(AE26>AD26,1,0) -> 1 | AV26: =IF(AF26>AG26,1,0) -> 1 | AW26: =IF(AG26>AF26,1,0) -> 0 | AX26: =IF(AH26>AI26,1,0) -> 1 | AY26: =IF(AI26>AH26,1,0) -> 0 | AZ26: =IF(AJ26>AK26,1,0) -> 1 | BA26: =IF(AK26>AJ26,1,0) -> 0 | BB26: =IF(AL26>AM26,1,0) -> 0 | BC26: =IF(AM26>AL26,1,0) -> 0 | BD26: =IF(AN26>AO26,1,0) -> 0 | BE26: =IF(AO26>AN26,1,0) -> 0 | BF26: =IF(AP26>AQ26,1,0) -> 0 | BG26: =IF(AQ26>AP26,1,0) -> 0 | BI26: =IF(AB26>AC26,1,0) -> 1 | BJ26: =IF(AB26<AC26,1,0) -> 0 | DC26: =IF($AA$37<$Z$37,1,0) -> 0 | DD26: =IF($AA$37>$Z$37,1,0) -> 1 | DE26: =IF($Z$41<$AA$41,1,0) -> 0 | DF26: =IF($Z$41>$AA$41,1,0) -> 1 | DG26: =IF($AA$46<$Z$46,1,0) -> 0 | DH26: =IF($AA$46>$Z$46,1,0) -> 1 | DI26: =IF($Z$7<$AA$7,1,0) -> 1 | DJ26: =IF($Z$7>$AA$7,1,0) -> 0 | DK26: =IF($AA$10<$Z$10,1,0) -> 1 | DL26: =IF($AA$10>$Z$10,1,0) -> 0 | DM26: =IF($Z$18<$AA$18,1,0) -> 0 | DN26: =IF($Z$18>$AA$18,1,0) -> 1 | DO26: =IF($Z$28>$AA$28,1,0) -> 0 | DP26: =IF($Z$28<$AA$28,1,0) -> 1 | DQ26: =IF($AA$30>$Z$30,1,0) -> 1 | DR26: =IF($AA$30<$Z$30,1,0) -> 0 | DS26: =IF($AA$19>$Z$19,1,0) -> 0 | DT26: =IF($AA$19<$Z$19,1,0) -> 1
A27: 8 | U27: 24 | V27: 3-4 | W27: 45278 | X27: 0.875 | Y27: 3 | Z27: =REPT($B$6,1) -> RAMAZAN KAPTANOĞLU | AA27: =REPT($B$7,1) -> FATİH YENİSOLAK | AB27: 3 | AC27: 1 | AD27: 11 | AE27: 9 | AF27: 11 | AG27: 6 | AH27: 7 | AI27: 11 | AJ27: 11 | AK27: 4 | AT27: =IF(AD27>AE27,1,0) -> 1 | AU27: =IF(AE27>AD27,1,0) -> 0 | AV27: =IF(AF27>AG27,1,0) -> 1 | AW27: =IF(AG27>AF27,1,0) -> 0 | AX27: =IF(AH27>AI27,1,0) -> 0 | AY27: =IF(AI27>AH27,1,0) -> 1 | AZ27: =IF(AJ27>AK27,1,0) -> 1 | BA27: =IF(AK27>AJ27,1,0) -> 0 | BB27: =IF(AL27>AM27,1,0) -> 0 | BC27: =IF(AM27>AL27,1,0) -> 0 | BD27: =IF(AN27>AO27,1,0) -> 0 | BE27: =IF(AO27>AN27,1,0) -> 0 | BF27: =IF(AP27>AQ27,1,0) -> 0 | BG27: =IF(AQ27>AP27,1,0) -> 0 | BI27: =IF(AB27>AC27,1,0) -> 1 | BJ27: =IF(AB27<AC27,1,0) -> 0 | DC27: =IF($Z$40<$AA$40,1,0) -> 1 | DD27: =IF($Z$40>$AA$40,1,0) -> 0 | DE27: =IF($AA$47<$Z$47,1,0) -> 1 | DF27: =IF($AA$47>$Z$47,1,0) -> 0 | DG27: =IF($Z$6<$AA$6,1,0) -> 0 | DH27: =IF($Z$6>$AA$6,1,0) -> 1 | DI27: =IF($AA$11<$Z$11,1,0) -> 1 | DJ27: =IF($AA$11>$Z$11,1,0) -> 0 | DK27: =IF($Z$17<$AA$17,1,0) -> 1 | DL27: =IF($Z$17>$AA$17,1,0) -> 0 | DM27: =IF($AA$20<$Z$20,1,0) -> 0 | DN27: =IF($AA$20>$Z$20,1,0) -> 1 | DO27: =IF($Z$28<$AA$28,1,0) -> 1 | DP27: =IF($Z$28>$AA$28,1,0) -> 0 | DQ27: =IF($Z$38>$AA$38,1,0) -> 0 | DR27: =IF($Z$38<$AA$38,1,0) -> 1 | DS27: =IF($AA$29>$Z$29,1,0) -> 1 | DT27: =IF($AA$29<$Z$29,1,0) -> 0
