Workbook

Sheet   SÜPER LİG OLUŞUM
A1: 1 | B1: FATİH KAYA | C1: =A1 -> 1 | F1: 1 | J1: 1-12
A2: 2 | B2: MUSTAFA DEMİR | C2: =A2 -> 2 | F2: 2 | J2: 2-11
A3: 3 | B3: RAMAZAN KAPTANOĞLU | C3: =A3 -> 3 | F3: 3 | J3: 3-10
A4: 4 | B4: FATİH YENİSOLAK | C4: =A4 -> 4 | F4: 4 | J4: 4-9
A5: 5 | B5: ALADDİN ÖZDEMİR | C5: =A5 -> 5 | F5: 5 | J5: 5-8
A6: 6 | B6: SELİM ERTUĞTUL | C6: =A6 -> 6 | F6: 6 | J6: 6-7
A7: 7 | B7: MURAT ÖZKARS | C7: =A7 -> 7 | F7: 7 | J7: 11-1
A8: 8 | B8: MUSTAFA KURTUL | C8: =A8 -> 8 | F8: 8 | J8: 12-10
A9: 9 | B9: KAMİL BÖRÜBAN | C9: =A9 -> 9 | F9: 9 | J9: 2-9
A10: 10 | B10: ÇETİN KAPTANOĞLU | C10: =A10 -> 10 | F10: 10 | J10: 3-8
A11: 11 | B11: HAMDİ ÖZKAN | C11: =A11 -> 11 | F11: 11 | J11: 4-7
A12: 12 | B12: SELÇUK KURT | C12: =A12 -> 12 | F12: 12 | J12: 5-6
J13: 1-10
J14: 11-9
J15: 12-8
J16: 2-7
J17: 3-6
J18: 4-5
J19: 9-1
J20: 10-8
J21: 11-7
J22: 12-6
J23: 2-5
J24: 3-4
... J66: 7-8

Sheet  MAÇLAR
A1: Maç No | B1: Grup/Tur | C1: 1. Oyuncu | D1: 2. Oyuncu | E1: Tarih | F1: Saat | G1: Masa
A2: 1 | B2: SÜPER LİG 1. ETAP.1. TUR | C2: =FİKSTÜR!Z4 -> FATİH KAYA | D2: =FİKSTÜR!AA4 -> SELÇUK KURT | E2: 45278 | F2: =FİKSTÜR!X4 -> 0.75 | G2: =FİKSTÜR!Y4 -> 1
A3: 2 | B3: SÜPER LİG 1. ETAP.1. TUR | C3: =FİKSTÜR!Z5 -> MUSTAFA DEMİR | D3: =FİKSTÜR!AA5 -> HAMDİ ÖZKAN | E3: 45278 | F3: =FİKSTÜR!X5 -> 0.75 | G3: =FİKSTÜR!Y5 -> 2
A4: 3 | B4: SÜPER LİG 1. ETAP.1. TUR | C4: =FİKSTÜR!Z6 -> RAMAZAN KAPTANOĞLU | D4: =FİKSTÜR!AA6 -> ÇETİN KAPTANOĞLU | E4: 45278 | F4: =FİKSTÜR!X6 -> 0.75 | G4: =FİKSTÜR!Y6 -> 3
A5: 4 | B5: SÜPER LİG 1. ETAP.1. TUR | C5: =FİKSTÜR!Z7 -> FATİH YENİSOLAK | D5: =FİKSTÜR!AA7 -> KAMİL BÖRÜBAN | E5: 45278 | F5: =FİKSTÜR!X7 -> 0.75 | G5: =FİKSTÜR!Y7 -> 4
A6: 5 | B6: SÜPER LİG 1. ETAP.1. TUR | C6: =FİKSTÜR!Z8 -> ALADDİN ÖZDEMİR | D6: =FİKSTÜR!AA8 -> MUSTAFA KURTUL | E6: 45278 | F6: =FİKSTÜR!X8 -> 0.75 | G6: =FİKSTÜR!Y8 -> 5
A7: 6 | B7: SÜPER LİG 1. ETAP.1. TUR | C7: =FİKSTÜR!Z9 -> SELİM ERTUĞTUL | D7: =FİKSTÜR!AA9 -> MURAT ÖZKARS | E7: 45278 | F7: =FİKSTÜR!X9 -> 0.75 | G7: =FİKSTÜR!Y9 -> 6
A8: 7 | B8: SÜPER LİG 1. ETAP 2. TUR | C8: =FİKSTÜR!Z10 -> HAMDİ ÖZKAN | D8: =FİKSTÜR!AA10 -> FATİH KAYA | E8: 45278 | F8: =FİKSTÜR!X10 -> 0.79166667 | G8: =FİKSTÜR!Y10 -> 2
A9: 8 | B9: SÜPER LİG 1. ETAP 2. TUR | C9: =FİKSTÜR!Z11 -> SELÇUK KURT | D9: =FİKSTÜR!AA11 -> ÇETİN KAPTANOĞLU | E9: 45278 | F9: =FİKSTÜR!X11 -> 0.79166667 | G9: =FİKSTÜR!Y11 -> 3
A10: 9 | B10: SÜPER LİG 1. ETAP 2. TUR | C10: =FİKSTÜR!Z12 -> MUSTAFA DEMİR | D10: =FİKSTÜR!AA12 -> KAMİL BÖRÜBAN | E10: 45278 | F10: =FİKSTÜR!X12 -> 0.79166667 | G10: =FİKSTÜR!Y12 -> 4
A11: 10 | B11: SÜPER LİG 1. ETAP 2. TUR | C11: =FİKSTÜR!Z13 -> RAMAZAN KAPTANOĞLU | D11: =FİKSTÜR!AA13 -> MUSTAFA KURTUL | E11: 45278 | F11: =FİKSTÜR!X13 -> 0.79166667 | G11: =FİKSTÜR!Y13 -> 5
A12: 11 | B12: SÜPER LİG 1. ETAP 2. TUR | C12: =FİKSTÜR!Z14 -> FATİH YENİSOLAK | D12: =FİKSTÜR!AA14 -> MURAT ÖZKARS | E12: 45278 | F12: =FİKSTÜR!X14 -> 0.79166667 | G12: =FİKSTÜR!Y14 -> 6
A13: 12 | B13: SÜPER LİG 1. ETAP 2. TUR | C13: =FİKSTÜR!Z15 -> ALADDİN ÖZDEMİR | D13: =FİKSTÜR!AA15 -> SELİM ERTUĞTUL | E13: 45278 | F13: =FİKSTÜR!X15 -> 0.79166667 | G13: =FİKSTÜR!Y15 -> 1
... A19: 18 | B19: SÜPER LİG 1. ETAP.3. TUR | C19: =FİKSTÜR!Z21 -> FATİH YENİSOLAK | D19: =FİKSTÜR!AA21 -> ALADDİN ÖZDEMİR | E19: 45278 | F19: =FİKSTÜR!X21 -> 0.83333333 | G19: =FİKSTÜR!Y21 -> 2
A20: 19 | B20: SÜPER LİG 1. ETAP 4. TUR | C20: =FİKSTÜR!Z22 -> KAMİL BÖRÜBAN | D20: =FİKSTÜR!AA22 -> FATİH KAYA | E20: 45278 | F20: 0.875 | G20: =FİKSTÜR!Y22 -> 4
A21: 20 | B21: SÜPER LİG 1. ETAP 4. TUR | C21: =FİKSTÜR!Z23 -> ÇETİN KAPTANOĞLU | D21: =FİKSTÜR!AA23 -> MUSTAFA KURTUL | E21: 45278 | F21: 0.875 | G21: =FİKSTÜR!Y23 -> 5
A22: 21 | B22: SÜPER LİG 1. ETAP 4. TUR | C22: =FİKSTÜR!Z24 -> HAMDİ ÖZKAN | D22: =FİKSTÜR!AA24 -> MURAT ÖZKARS | E22: 45278 | F22: 0.875 | G22: =FİKSTÜR!Y24 -> 6
A23: 22 | B23: SÜPER LİG 1. ETAP 4. TUR | C23: =FİKSTÜR!Z25 -> SELÇUK KURT | D23: =FİKSTÜR!AA25 -> SELİM ERTUĞTUL | E23: 45278 | F23: 0.875 | G23: =FİKSTÜR!Y25 -> 1
A24: 23 | B24: SÜPER LİG 1. ETAP 4. TUR | C24: =FİKSTÜR!Z26 -> MUSTAFA DEMİR | D24: =FİKSTÜR!AA26 -> ALADDİN ÖZDEMİR | E24: 45278 | F24: 0.875 | G24: =FİKSTÜR!Y26 -> 2
A25: 24 | B25: SÜPER LİG 1. ETAP 4. TUR | C25: =FİKSTÜR!Z27 -> RAMAZAN KAPTANOĞLU | D25: =FİKSTÜR!AA27 -> FATİH YENİSOLAK | E25: 45278 | F25: 0.875 | G25: =FİKSTÜR!Y27 -> 3
A26: 25 | B26: SÜPER LİG 2. ETAP 1. TUR | C26: =FİKSTÜR!Z28 -> FATİH KAYA | D26: =FİKSTÜR!AA28 -> MUSTAFA KURTUL | E26: 45280 | F26: =FİKSTÜR!X28 -> 0.75 | G26: =FİKSTÜR!Y28 -> 5
A27: 26 | B27: SÜPER LİG 2. ETAP 1. TUR | C27: =FİKSTÜR!Z29 -> KAMİL BÖRÜBAN | D27: =FİKSTÜR!AA29 -> MURAT ÖZKARS | E27: 45280 | F27: =FİKSTÜR!X29 -> 0.75 | G27: =FİKSTÜR!Y29 -> 6
A28: 27 | B28: SÜPER LİG 2. ETAP 1. TUR | C28: =FİKSTÜR!Z30 -> ÇETİN KAPTANOĞLU | D28: =FİKSTÜR!AA30 -> SELİM ERTUĞTUL | E28: 45280 | F28: =FİKSTÜR!X30 -> 0.75 | G28: =FİKSTÜR!Y30 -> 1
A29: 28 | B29: SÜPER LİG 2. ETAP 1. TUR | C29: =FİKSTÜR!Z31 -> HAMDİ ÖZKAN | D29: =FİKSTÜR!AA31 -> ALADDİN ÖZDEMİR | E29: 45280 | F29: =FİKSTÜR!X31 -> 0.75 | G29: =FİKSTÜR!Y31 -> 2
A30: 29 | B30: SÜPER LİG 2. ETAP 1. TUR | C30: =FİKSTÜR!Z32 -> SELÇUK KURT | D30: =FİKSTÜR!AA32 -> FATİH YENİSOLAK | E30: 45280 | F30: =FİKSTÜR!X32 -> 0.75 | G30: =FİKSTÜR!Y32 -> 3
A31: 30 | B31: SÜPER LİG 2. ETAP 1. TUR | C31: =FİKSTÜR!Z33 -> MUSTAFA DEMİR | D31: =FİKSTÜR!AA33 -> RAMAZAN KAPTANOĞLU | E31: 45280 | F31: =FİKSTÜR!X33 -> 0.75 | G31: =FİKSTÜR!Y33 -> 4
A32: 31 | B32: SÜPER LİG 2. ETAP 2. TUR | C32: =FİKSTÜR!Z34 -> MURAT ÖZKARS | D32: =FİKSTÜR!AA34 -> FATİH KAYA | E32: 45280 | F32: =FİKSTÜR!X34 -> 0.79166667 | G32: =FİKSTÜR!Y34 -> 6
A33: 32 | B33: SÜPER LİG 2. ETAP 2. TUR | C33: =FİKSTÜR!Z35 -> MUSTAFA KURTUL | D33: =FİKSTÜR!AA35 -> SELİM ERTUĞTUL | E33: 45280 | F33: =FİKSTÜR!X35 -> 0.79166667 | G33: =FİKSTÜR!Y35 -> 1
A34: 33 | B34: SÜPER LİG 2. ETAP 2. TUR | C34: =FİKSTÜR!Z36 -> KAMİL BÖRÜBAN | D34: =FİKSTÜR!AA36 -> ALADDİN ÖZDEMİR | E34: 45280 | F34: =FİKSTÜR!X36 -> 0.79166667 | G34: =FİKSTÜR!Y36 -> 2
A35: 34 | B35: SÜPER LİG 2. ETAP 2. TUR | C35: =FİKSTÜR!Z37 -> ÇETİN KAPTANOĞLU | D35: =FİKSTÜR!AA37 -> FATİH YENİSOLAK | E35: 45280 | F35: =FİKSTÜR!X37 -> 0.79166667 | G35: =FİKSTÜR!Y37 -> 3
A36: 35 | B36: SÜPER LİG 2. ETAP 2. TUR | C36: =FİKSTÜR!Z38 -> HAMDİ ÖZKAN | D36: =FİKSTÜR!AA38 -> RAMAZAN KAPTANOĞLU | E36: 45280 | F36: =FİKSTÜR!X38 -> 0.79166667 | G36: =FİKSTÜR!Y38 -> 4
A37: 36 | B37: SÜPER LİG 2. ETAP 2. TUR | C37: =FİKSTÜR!Z39 -> SELÇUK KURT | D37: =FİKSTÜR!AA39 -> MUSTAFA DEMİR | E37: 45280 | F37: =FİKSTÜR!X39 -> 0.79166667 | G37: =FİKSTÜR!Y39 -> 5
... A43: 42 | B43: SÜPER LİG 2. ETAP 3. TUR | C43: =FİKSTÜR!Z45 -> HAMDİ ÖZKAN | D43: =FİKSTÜR!AA45 -> SELÇUK KURT | E43: 45280 | F43: =FİKSTÜR!X45 -> 0.83333333 | G43: =FİKSTÜR!Y45 -> 6
A44: 43 | B44: SÜPER LİG 2. ETAP 4. TUR | C44: =FİKSTÜR!Z46 -> ALADDİN ÖZDEMİR | D44: =FİKSTÜR!AA46 -> FATİH KAYA | E44: 45280 | F44: 0.875 | G44: =FİKSTÜR!Y46 -> 2
A45: 44 | B45: SÜPER LİG 2. ETAP 4. TUR | C45: =FİKSTÜR!Z47 -> SELİM ERTUĞTUL | D45: =FİKSTÜR!AA47 -> FATİH YENİSOLAK | E45: 45280 | F45: 0.875 | G45: =FİKSTÜR!Y47 -> 3
A46: 45 | B46: SÜPER LİG 2. ETAP 4. TUR | C46: =FİKSTÜR!Z48 -> MURAT ÖZKARS | D46: =FİKSTÜR!AA48 -> RAMAZAN KAPTANOĞLU | E46: 45280 | F46: 0.875 | G46: =FİKSTÜR!Y48 -> 4
A47: 46 | B47: SÜPER LİG 2. ETAP 4. TUR | C47: =FİKSTÜR!Z49 -> MUSTAFA KURTUL | D47: =FİKSTÜR!AA49 -> MUSTAFA DEMİR | E47: 45280 | F47: 0.875 | G47: =FİKSTÜR!Y49 -> 5
A48: 47 | B48: SÜPER LİG 2. ETAP 4. TUR | C48: =FİKSTÜR!Z50 -> KAMİL BÖRÜBAN | D48: =FİKSTÜR!AA50 -> SELÇUK KURT | E48: 45280 | F48: 0.875 | G48: =FİKSTÜR!Y50 -> 6
A49: 48 | B49: SÜPER LİG 2. ETAP 4. TUR | C49: =FİKSTÜR!Z51 -> ÇETİN KAPTANOĞLU | D49: =FİKSTÜR!AA51 -> HAMDİ ÖZKAN | E49: 45280 | F49: 0.875 | G49: =FİKSTÜR!Y51 -> 1
A50: 49 | B50: SÜPER LİG 3. ETAP 1. TUR | C50: =FİKSTÜR!Z52 -> FATİH KAYA | D50: =FİKSTÜR!AA52 -> FATİH YENİSOLAK | E50: 45282 | F50: =FİKSTÜR!X52 -> 0.75 | G50: =FİKSTÜR!Y52 -> 3
A51: 50 | B51: SÜPER LİG 3. ETAP 1. TUR | C51: =FİKSTÜR!Z53 -> ALADDİN ÖZDEMİR | D51: =FİKSTÜR!AA53 -> RAMAZAN KAPTANOĞLU | E51: 45282 | F51: =FİKSTÜR!X53 -> 0.75 | G51: =FİKSTÜR!Y53 -> 4
A52: 51 | B52: SÜPER LİG 3. ETAP 1. TUR | C52: =FİKSTÜR!Z54 -> SELİM ERTUĞTUL | D52: =FİKSTÜR!AA54 -> MUSTAFA DEMİR | E52: 45282 | F52: =FİKSTÜR!X54 -> 0.75 | G52: =FİKSTÜR!Y54 -> 5
A53: 52 | B53: SÜPER LİG 3. ETAP 1. TUR | C53: =FİKSTÜR!Z55 -> MURAT ÖZKARS | D53: =FİKSTÜR!AA55 -> SELÇUK KURT | E53: 45282 | F53: =FİKSTÜR!X55 -> 0.75 | G53: =FİKSTÜR!Y55 -> 6
A54: 53 | B54: SÜPER LİG 3. ETAP 1. TUR | C54: =FİKSTÜR!Z56 -> MUSTAFA KURTUL | D54: =FİKSTÜR!AA56 -> HAMDİ ÖZKAN | E54: 45282 | F54: =FİKSTÜR!X56 -> 0.75 | G54: =FİKSTÜR!Y56 -> 1
A55: 54 | B55: SÜPER LİG 3. ETAP 1. TUR | C55: =FİKSTÜR!Z57 -> KAMİL BÖRÜBAN | D55: =FİKSTÜR!AA57 -> ÇETİN KAPTANOĞLU | E55: 45282 | F55: =FİKSTÜR!X57 -> 0.75 | G55: =FİKSTÜR!Y57 -> 2
A56: 55 | B56: SÜPER LİG 3. ETAP 2. TUR | C56: =FİKSTÜR!Z58 -> RAMAZAN KAPTANOĞLU | D56: =FİKSTÜR!AA58 -> FATİH KAYA | E56: 45282 | F56: =FİKSTÜR!X58 -> 0.79166667 | G56: =FİKSTÜR!Y58 -> 4
A57: 56 | B57: SÜPER LİG 3. ETAP 2. TUR | C57: =FİKSTÜR!Z59 -> FATİH YENİSOLAK | D57: =FİKSTÜR!AA59 -> MUSTAFA DEMİR | E57: 45282 | F57: =FİKSTÜR!X59 -> 0.79166667 | G57: =FİKSTÜR!Y59 -> 5
A58: 57 | B58: SÜPER LİG 3. ETAP 2. TUR | C58: =FİKSTÜR!Z60 -> ALADDİN ÖZDEMİR | D58: =FİKSTÜR!AA60 -> SELÇUK KURT | E58: 45282 | F58: =FİKSTÜR!X60 -> 0.79166667 | G58: =FİKSTÜR!Y60 -> 6
A59: 58 | B59: SÜPER LİG 3. ETAP 2. TUR | C59: =FİKSTÜR!Z61 -> SELİM ERTUĞTUL | D59: =FİKSTÜR!AA61 -> HAMDİ ÖZKAN | E59: 45282 | F59: =FİKSTÜR!X61 -> 0.79166667 | G59: =FİKSTÜR!Y61 -> 1
A60: 59 | B60: SÜPER LİG 3. ETAP 2. TUR | C60: =FİKSTÜR!Z62 -> MURAT ÖZKARS | D60: =FİKSTÜR!AA62 -> ÇETİN KAPTANOĞLU | E60: 45282 | F60: =FİKSTÜR!X62 -> 0.79166667 | G60: =FİKSTÜR!Y62 -> 2
A61: 60 | B61: SÜPER LİG 3. ETAP 2. TUR | C61: =FİKSTÜR!Z63 -> MUSTAFA KURTUL | D61: =FİKSTÜR!AA63 -> KAMİL BÖRÜBAN | E61: 45282 | F61: =FİKSTÜR!X63 -> 0.79166667 | G61: =FİKSTÜR!Y63 -> 3
... A67: 66 | B67: SÜPER LİG 3. ETAP 3. TUR | C67: =FİKSTÜR!Z69 -> MURAT ÖZKARS | D67: =FİKSTÜR!AA69 -> MUSTAFA KURTUL | E67: 45282 | F67: =FİKSTÜR!X69 -> 0.83333333 | G67: =FİKSTÜR!Y69 -> 4

Sheet FİKSTÜR
A1: SÜPER LİG | U1: =A1 -> SÜPER LİG
BU2: 2 | BW2: 3 | BY2: 4 | CA2: 5 | CC2: 6 | CE2: 7 | CG2: 8 | CI2: 9 | CK2: 10 | CM2: 11 | CO2: 12 | CR2: 2 | CT2: 3 | CV2: 4 | CX2: 5 | CZ2: 6 | DB2: 7 | DD2: 8 | DF2: 9 | DH2: 10 | DJ2: 11
A3: Adı Soyadı | C3: 1 | D3: 2 | E3: 3 | F3: 4 | G3: 5 | H3: 6 | I3: 7 | J3: 8 | K3: 9 | L3: 10 | M3: 11 | N3: 12 | O3: G | P3: M | Q3: P | R3: S | S3: S | U3: S.No | W3: Tarih | X3: Saat | Y3: Masa | Z3: Adı Soyadı | AA3: Adı Soyadı | AB3: Skor | AD3: 1. Set | AF3: 2. Set | AH3: 3. Set | AJ3: 4. Set | AL3: 5. Set | AN3: 6. Set | AP3: 7. Set | AT3: 1 | AV3: 2 | AX3: 3 | AZ3: 4 | BB3: 5 | BD3: 6 | BF3: 7 | DC3: V | DD3: L | DE3: V | DF3: L | DG3: V | DH3: L | DI3: V | DJ3: L | DK3: V | DL3: L | DM3: V | DN3: L | DO3: V | DP3: L | DQ3: V | DR3: L | DS3: V | DT3: L | DU3: V | DV3: L | DW3: V | DX3: L | DZ3: V | EA3: L | EB3: V | EC3: L | ED3: V | EE3: L | EF3: V | EG3: L | EH3: V | EI3: L | EJ3: V | EK3: L | EL3: V | EM3: L | EN3: V | EO3: L | EP3: V | EQ3: L
A4: 1 | B4: FATİH KAYA | D4: =TEXT($AB$64,$AB$64)&TEXT("-","-")&TEXT($AC$64,$AC$64) -> - | E4: =TEXT($AC$58,$AC$58)&TEXT("-","-")&TEXT($AB$58,$AB$58) -> - | F4: =TEXT($AB$52,$AB$52)&TEXT("-","-")&TEXT($AC$52,$AC$52) -> - | G4: =TEXT($AC$46,$AC$46)&TEXT("-","-")&TEXT($AB$46,$AB$46) -> - | H4: =TEXT($AB$40,$AB$40)&TEXT("-","-")&TEXT($AC$40,$AC$40) -> - | I4: =TEXT($AC$34,$AC$34)&TEXT("-","-")&TEXT($AB$34,$AB$34) -> - | J4: =TEXT($AB$28,$AB$28)&TEXT("-","-")&TEXT($AC$28,$AC$28) -> - | K4: =TEXT($AC$22,$AC$22)&TEXT("-","-")&TEXT($AB$22,$AB$22) -> 3-0 | L4: =TEXT($AB$16,$AB$16)&TEXT("-","-")&TEXT($AC$16,$AC$16) -> 3-1 | M4: =TEXT($AC$10,$AC$10)&TEXT("-","-")&TEXT($AB$10,$AB$10) -> 3-1 | N4: =TEXT($AB$4,$AB$4)&TEXT("-","-")&TEXT($AC$4,$AC$4) -> 3-0 | O4: =SUM(DC4+DE4+DG4+DI4+DK4+DM4+DO4+DQ4+DS4+DU4+DW4) -> 4 | P4: =SUM(DD4+DF4+DH4+DJ4+DL4+DN4+DP4+DR4+DT4+DV4+DX4) -> 0 | Q4: =SUM(O4*2+P4*1) -> 8 | R4: =RANK(Q4,$Q$4:$Q$15,0) -> 1 | S4: =R4 -> 1 | U4: 1 | V4: 1-12 | W4: 45278 | X4: 0.75 | Y4: 1 | Z4: =REPT($B$4,1) -> FATİH KAYA | AA4: =REPT($B$15,1) -> SELÇUK KURT | AB4: 3 | AC4: 0 | AD4: 11 | AE4: 9 | AF4: 12 | AG4: 10 | AH4: 11 | AI4: 4 | AT4: =IF(AD4>AE4,1,0) -> 1 | AU4: =IF(AE4>AD4,1,0) -> 0 | AV4: =IF(AF4>AG4,1,0) -> 1 | AW4: =IF(AG4>AF4,1,0) -> 0 | AX4: =IF(AH4>AI4,1,0) -> 1 | AY4: =IF(AI4>AH4,1,0) -> 0 | AZ4: =IF(AJ4>AK4,1,0) -> 0 | BA4: =IF(AK4>AJ4,1,0) -> 0 | BB4: =IF(AL4>AM4,1,0) -> 0 | BC4: =IF(AM4>AL4,1,0) -> 0 | BD4: =IF(AN4>AO4,1,0) -> 0 | BE4: =IF(AO4>AN4,1,0) -> 0 | BF4: =IF(AP4>AQ4,1,0) -> 0 | BG4: =IF(AQ4>AP4,1,0) -> 0 | BI4: =IF(AB4>AC4,1,0) -> 1 | BJ4: =IF(AB4<AC4,1,0) -> 0 | DB4: 1 | DC4: =IF($AB$64>$AC$64,1,0) -> 0 | DD4: =IF($AB$64<$AC$64,1,0) -> 0 | DE4: =IF($AC$58>$AB$58,1,0) -> 0 | DF4: =IF($AC$58<$AB$58,1,0) -> 0 | DG4: =IF($AB$52>$AC$52,1,0) -> 0 | DH4: =IF($AB$52<$AC$52,1,0) -> 0 | DI4: =IF($AC$46>$AB$46,1,0) -> 0 | DJ4: =IF($AC$46<$AB$46,1,0) -> 0 | DK4: =IF($AB$40>$AC$40,1,0) -> 0 | DL4: =IF($AB$40<$AC$40,1,0) -> 0 | DM4: =IF($AC$34>$AB$34,1,0) -> 0 | DN4: =IF($AC$34<$AB$34,1,0) -> 0 | DO4: =IF($AB$28>$AC$28,1,0) -> 0 | DP4: =IF($AB$28<$AC$28,1,0) -> 0 | DQ4: =IF($AC$22>$AB$22,1,0) -> 1 | DR4: =IF($AC$22<$AB$22,1,0) -> 0 | DS4: =IF($AB$16>$AC$16,1,0) -> 1 | DT4: =IF($AB$16<$AC$16,1,0) -> 0 | DU4: =IF($AC$10>$AB$10,1,0) -> 1 | DV4: =IF($AC$10<$AB$10,1,0) -> 0 | DW4: =IF($AB$4>$AC$4,1,0) -> 1 | DX4: =IF($AB$4<$AC$4,1,0) -> 0 | DY4: 1 | DZ4: =IF($Z$13>$AA$13,1,0) -> 1 | EA4: =IF($Z$13<$AA$13,1,0) -> 0 | EB4: =IF($AA$15>$Z$15,1,0) -> 1 | EC4: =IF($AA$15<$Z$15,1,0) -> 0 | ED4: =IF($Z$22>$AA$22,1,0) -> 1 | EE4: =IF($Z$22<$AA$22,1,0) -> 0 | EF4: =IF($AA$26>$Z$26,1,0) -> 0 | EG4: =IF($AA$26<$Z$26,1,0) -> 1 | EH4: =IF($Z$31>$AA$31,1,0) -> 1 | EI4: =IF($Z$31<$AA$31,1,0) -> 0 | EJ4: =IF($AA$37>$Z$37,1,0) -> 1 | EK4: =IF($AA$37<$Z$37,1,0) -> 0 | EL4: =IF($Z$40>$AA$40,1,0) -> 0 | EM4: =IF($Z$40<$AA$40,1,0) -> 1 | EN4: =IF($AA$48>$Z$48,1,0) -> 1 | EO4: =IF($AA$48<$Z$48,1,0) -> 0 | EP4: =IF($Z$4>$AA$4,1,0) -> 0 | EQ4: =IF($Z$4<$AA$4,1,0) -> 1
A5: 2 | B5: MUSTAFA DEMİR | C5: =TEXT($AC$64,$AC$64)&TEXT("-","-")&TEXT($AB$64,$AB$64) -> - | E5: =TEXT($AB$33,$AB$33)&TEXT("-","-")&TEXT($AC$33,$AC$33) -> - | F5: =TEXT($AC$59,$AC$59)&TEXT("-","-")&TEXT($AB$59,$AB$59) -> - | G5: =TEXT($AB$26,$AB$26)&TEXT("-","-")&TEXT($AC$26,$AC$26) -> 3-1 | H5: =TEXT($AC$54,$AC$54)&TEXT("-","-")&TEXT($AB$54,$AB$54) -> - | I5: =TEXT($AB$19,$AB$19)&TEXT("-","-")&TEXT($AC$19,$AC$19) -> 3-0 | J5: =TEXT($AC$49,$AC$49)&TEXT("-","-")&TEXT($AB$49,$AB$49) -> - | K5: =TEXT($AB$12,$AB$12)&TEXT("-","-")&TEXT($AC$12,$AC$12) -> 3-0 | L5: =TEXT($AC$44,$AC$44)&TEXT("-","-")&TEXT($AB$44,$AB$44) -> - | M5: =TEXT($AB$5,$AB$5)&TEXT("-","-")&TEXT($AC$5,$AC$5) -> 3-0 | N5: =TEXT($AC$39,$AC$39)&TEXT("-","-")&TEXT($AB$39,$AB$39) -> - | O5: =SUM(DC5+DE5+DG5+DI5+DK5+DM5+DO5+DQ5+DS5+DU5+DW5) -> 4 | P5: =SUM(DD5+DF5+DH5+DJ5+DL5+DN5+DP5+DR5+DT5+DV5+DX5) -> 0 | Q5: =SUM(O5*2+P5*1) -> 8 | R5: =RANK(Q5,$Q$4:$Q$15,0) -> 1 | S5: =R5 -> 1 | U5: 2 | V5: 2-11 | W5: 45278 | X5: 0.75 | Y5: 2 | Z5: =REPT($B$5,1) -> MUSTAFA DEMİR | AA5: =REPT($B$14,1) -> HAMDİ ÖZKAN | AB5: 3 | AC5: 0 | AD5: 11 | AE5: 8 | AF5: 11 | AG5: 8 | AH5: 12 | AI5: 10 | AT5: =IF(AD5>AE5,1,0) -> 1 | AU5: =IF(AE5>AD5,1,0) -> 0 | AV5: =IF(AF5>AG5,1,0) -> 1 | AW5: =IF(AG5>AF5,1,0) -> 0 | AX5: =IF(AH5>AI5,1,0) -> 1 | AY5: =IF(AI5>AH5,1,0) -> 0 | AZ5: =IF(AJ5>AK5,1,0) -> 0 | BA5: =IF(AK5>AJ5,1,0) -> 0 | BB5: =IF(AL5>AM5,1,0) -> 0 | BC5: =IF(AM5>AL5,1,0) -> 0 | BD5: =IF(AN5>AO5,1,0) -> 0 | BE5: =IF(AO5>AN5,1,0) -> 0 | BF5: =IF(AP5>AQ5,1,0) -> 0 | BG5: =IF(AQ5>AP5,1,0) -> 0 | BI5: =IF(AB5>AC5,1,0) -> 1 | BJ5: =IF(AB5<AC5,1,0) -> 0 | DB5: 2 | DC5: =IF($AB$64<$AC$64,1,0) -> 0 | DD5: =IF($AB$64>$AC$64,1,0) -> 0 | DE5: =IF($AB$33>$AC$33,1,0) -> 0 | DF5: =IF($AB$33<$AC$33,1,0) -> 0 | DG5: =IF($AC$59>$AB$59,1,0) -> 0 | DH5: =IF($AC$59<$AB$59,1,0) -> 0 | DI5: =IF($AB$26>$AC$26,1,0) -> 1 | DJ5: =IF($AB$26<$AC$26,1,0) -> 0 | DK5: =IF($AC$54>$AB$54,1,0) -> 0 | DL5: =IF($AC$54<$AB$54,1,0) -> 0 | DM5: =IF($AB$19>$AC$19,1,0) -> 1 | DN5: =IF($AB$19<$AC$19,1,0) -> 0 | DO5: =IF($AC$49>$AB$49,1,0) -> 0 | DP5: =IF($AC$49<$AB$49,1,0) -> 0 | DQ5: =IF($AB$12>$AC$12,1,0) -> 1 | DR5: =IF($AB$12<$AC$12,1,0) -> 0 | DS5: =IF($AC$44>$AB$44,1,0) -> 0 | DT5: =IF($AC$44<$AB$44,1,0) -> 0 | DU5: =IF($AB$5>$AC$5,1,0) -> 1 | DV5: =IF($AB$5<$AC$5,1,0) -> 0 | DW5: =IF($AC$39>$AB$39,1,0) -> 0 | DX5: =IF($AC$39<$AB$39,1,0) -> 0 | DY5: 2 | DZ5: =IF($Z$13<$AA$13,1,0) -> 0 | EA5: =IF($Z$13>$AA$13,1,0) -> 1 | EB5: =IF($Z$23>$AA$23,1,0) -> 0 | EC5: =IF($Z$23<$AA$23,1,0) -> 1 | ED5: =IF($AA$25>$Z$25,1,0) -> 1 | EE5: =IF($AA$25<$Z$25,1,0) -> 0 | EF5: =IF($Z$32>$AA$32,1,0) -> 1 | EG5: =IF($Z$32<$AA$32,1,0) -> 0 | EH5: =IF($AA$36>$Z$36,1,0) -> 0 | EI5: =IF($AA$36<$Z$36,1,0) -> 1 | EJ5: =IF($Z$41>$AA$41,1,0) -> 1 | EK5: =IF($Z$41<$AA$41,1,0) -> 0 | EL5: =IF($AA$47>$Z$47,1,0) -> 0 | EM5: =IF($AA$47<$Z$47,1,0) -> 1 | EN5: =IF($Z$5>$AA$5,1,0) -> 1 | EO5: =IF($Z$5<$AA$5,1,0) -> 0 | EP5: =IF($Z$14>$AA$14,1,0) -> 0 | EQ5: =IF($Z$14<$AA$14,1,0) -> 1
A6: 3 | B6: RAMAZAN KAPTANOĞLU | C6: =TEXT($AB$58,$AB$58)&TEXT("-","-")&TEXT($AC$58,$AC$58) -> - | D6: =TEXT($AC$33,$AC$33)&TEXT("-","-")&TEXT($AB$33,$AB$33) -> - | F6: =TEXT($AB$27,$AB$27)&TEXT("-","-")&TEXT($AC$27,$AC$27) -> 3-1 | G6: =TEXT($AC$53,$AC$53)&TEXT("-","-")&TEXT($AB$53,$AB$53) -> - | H6: =TEXT($AB$20,$AB$20)&TEXT("-","-")&TEXT($AC$20,$AC$20) -> 3-0 | I6: =TEXT($AC$48,$AC$48)&TEXT("-","-")&TEXT($AB$48,$AB$48) -> - | J6: =TEXT($AB$13,$AB$13)&TEXT("-","-")&TEXT($AC$13,$AC$13) -> 3-0 | K6: =TEXT($AC$43,$AC$43)&TEXT("-","-")&TEXT($AB$43,$AB$43) -> - | L6: =TEXT($AB$6,$AB$6)&TEXT("-","-")&TEXT($AC$6,$AC$6) -> 3-0 | M6: =TEXT($AC$38,$AC$38)&TEXT("-","-")&TEXT($AB$38,$AB$38) -> - | N6: =TEXT($AB$65,$AB$65)&TEXT("-","-")&TEXT($AC$65,$AC$65) -> - | O6: =SUM(DC6+DE6+DG6+DI6+DK6+DM6+DO6+DQ6+DS6+DU6+DW6) -> 4 | P6: =SUM(DD6+DF6+DH6+DJ6+DL6+DN6+DP6+DR6+DT6+DV6+DX6) -> 0 | Q6: =SUM(O6*2+P6*1) -> 8 | R6: =RANK(Q6,$Q$4:$Q$15,0) -> 1 | S6: =R6 -> 1 | U6: 3 | V6: 3-10 | W6: 45278 | X6: 0.75 | Y6: 3 | Z6: =REPT($B$6,1) -> RAMAZAN KAPTANOĞLU | AA6: =REPT($B$13,1) -> ÇETİN KAPTANOĞLU | AB6: 3 | AC6: 0 | AD6: 11 | AE6: 6 | AF6: 11 | AG6: 8 | AH6: 11 | AI6: 6 | AT6: =IF(AD6>AE6,1,0) -> 1 | AU6: =IF(AE6>AD6,1,0) -> 0 | AV6: =IF(AF6>AG6,1,0) -> 1 | AW6: =IF(AG6>AF6,1,0) -> 0 | AX6: =IF(AH6>AI6,1,0) -> 1 | AY6: =IF(AI6>AH6,1,0) -> 0 | AZ6: =IF(AJ6>AK6,1,0) -> 0 | BA6: =IF(AK6>AJ6,1,0) -> 0 | BB6: =IF(AL6>AM6,1,0) -> 0 | BC6: =IF(AM6>AL6,1,0) -> 0 | BD6: =IF(AN6>AO6,1,0) -> 0 | BE6: =IF(AO6>AN6,1,0) -> 0 | BF6: =IF(AP6>AQ6,1,0) -> 0 | BG6: =IF(AQ6>AP6,1,0) -> 0 | BI6: =IF(AB6>AC6,1,0) -> 1 | BJ6: =IF(AB6<AC6,1,0) -> 0 | DB6: 3 | DC6: =IF($AC$58<$AB$58,1,0) -> 0 | DD6: =IF($AC$58>$AB$58,1,0) -> 0 | DE6: =IF($AB$33<$AC$33,1,0) -> 0 | DF6: =IF($AB$33>$AC$33,1,0) -> 0 | DG6: =IF($AB$27>$AC$27,1,0) -> 1 | DH6: =IF($AB$27<$AC$27,1,0) -> 0 | DI6: =IF($AC$53>$AB$53,1,0) -> 0 | DJ6: =IF($AC$53<$AB$53,1,0) -> 0 | DK6: =IF($AB$20>$AC$20,1,0) -> 1 | DL6: =IF($AB$20<$AC$20,1,0) -> 0 | DM6: =IF($AC$48>$AB$48,1,0) -> 0 | DN6: =IF($AC$48<$AB$48,1,0) -> 0 | DO6: =IF($AB$13>$AC$13,1,0) -> 1 | DP6: =IF($AB$13<$AC$13,1,0) -> 0 | DQ6: =IF($AC$43>$AB$43,1,0) -> 0 | DR6: =IF($AC$43<$AB$43,1,0) -> 0 | DS6: =IF($AB$6>$AC$6,1,0) -> 1 | DT6: =IF($AB$6<$AC$6,1,0) -> 0 | DU6: =IF($AC$38>$AB$38,1,0) -> 0 | DV6: =IF($AC$38<$AB$38,1,0) -> 0 | DW6: =IF($AB$65>$AC$65,1,0) -> 0 | DX6: =IF($AB$65<$AC$65,1,0) -> 0 | DY6: 3 | DZ6: =IF($AA$15<$Z$15,1,0) -> 0 | EA6: =IF($AA$15>$Z$15,1,0) -> 1 | EB6: =IF($Z$23<$AA$23,1,0) -> 1 | EC6: =IF($Z$23>$AA$23,1,0) -> 0 | ED6: =IF($Z$33>$AA$33,1,0) -> 0 | EE6: =IF($Z$33<$AA$33,1,0) -> 1 | EF6: =IF($AA$35>$Z$35,1,0) -> 1 | EG6: =IF($AA$35<$Z$35,1,0) -> 0 | EH6: =IF($Z$42>$AA$42,1,0) -> 1 | EI6: =IF($Z$42<$AA$42,1,0) -> 0 | EJ6: =IF($AA$46>$Z$46,1,0) -> 1 | EK6: =IF($AA$46<$Z$46,1,0) -> 0 | EL6: =IF($Z$6>$AA$6,1,0) -> 1 | EM6: =IF($Z$6<$AA$6,1,0) -> 0 | EN6: =IF($AA$12>$Z$12,1,0) -> 0 | EO6: =IF($AA$12<$Z$12,1,0) -> 1 | EP6: =IF($Z$24>$AA$24,1,0) -> 0 | EQ6: =IF($Z$24<$AA$24,1,0) -> 1
A7: 4 | B7: FATİH YENİSOLAK | C7: =TEXT($AC$52,$AC$52)&TEXT("-","-")&TEXT($AB$52,$AB$52) -> - | D7: =TEXT($AB$59,$AB$59)&TEXT("-","-")&TEXT($AC$59,$AC$59) -> - | E7: =TEXT($AC$27,$AC$27)&TEXT("-","-")&TEXT($AB$27,$AB$27) -> 1-3 | G7: =TEXT($AB$21,$AB$21)&TEXT("-","-")&TEXT($AC$21,$AC$21) -> 3-0 | H7: =TEXT($AC$47,$AC$47)&TEXT("-","-")&TEXT($AB$47,$AB$47) -> - | I7: =TEXT($AB$14,$AB$14)&TEXT("-","-")&TEXT($AC$14,$AC$14) -> 3-1 | J7: =TEXT($AC$42,$AC$42)&TEXT("-","-")&TEXT($AB$42,$AB$42) -> - | K7: =TEXT($AB$7,$AB$7)&TEXT("-","-")&TEXT($AC$7,$AC$7) -> 3-1 | L7: =TEXT($AC$37,$AC$37)&TEXT("-","-")&TEXT($AB$37,$AB$37) -> - | M7: =TEXT($AB$66,$AB$66)&TEXT("-","-")&TEXT($AC$66,$AC$66) -> - | N7: =TEXT($AC$32,$AC$32)&TEXT("-","-")&TEXT($AB$32,$AB$32) -> - | O7: =SUM(DC7+DE7+DG7+DI7+DK7+DM7+DO7+DQ7+DS7+DU7+DW7) -> 3 | P7: =SUM(DD7+DF7+DH7+DJ7+DL7+DN7+DP7+DR7+DT7+DV7+DX7) -> 1 | Q7: =SUM(O7*2+P7*1) -> 7 | R7: =RANK(Q7,$Q$4:$Q$15,0) -> 4 | S7: =R7 -> 4 | U7: 4 | V7: 4-9 | W7: 45278 | X7: 0.75 | Y7: 4 | Z7: =REPT($B$7,1) -> FATİH YENİSOLAK | AA7: =REPT($B$12,1) -> KAMİL BÖRÜBAN | AB7: 3 | AC7: 1 | AD7: 7 | AE7: 11 | AF7: 11 | AG7: 7 | AH7: 11 | AI7: 8 | AJ7: 11 | AK7: 9 | AT7: =IF(AD7>AE7,1,0) -> 0 | AU7: =IF(AE7>AD7,1,0) -> 1 | AV7: =IF(AF7>AG7,1,0) -> 1 | AW7: =IF(AG7>AF7,1,0) -> 0 | AX7: =IF(AH7>AI7,1,0) -> 1 | AY7: =IF(AI7>AH7,1,0) -> 0 | AZ7: =IF(AJ7>AK7,1,0) -> 1 | BA7: =IF(AK7>AJ7,1,0) -> 0 | BB7: =IF(AL7>AM7,1,0) -> 0 | BC7: =IF(AM7>AL7,1,0) -> 0 | BD7: =IF(AN7>AO7,1,0) -> 0 | BE7: =IF(AO7>AN7,1,0) -> 0 | BF7: =IF(AP7>AQ7,1,0) -> 0 | BG7: =IF(AQ7>AP7,1,0) -> 0 | BI7: =IF(AB7>AC7,1,0) -> 1 | BJ7: =IF(AB7<AC7,1,0) -> 0 | DB7: 4 | DC7: =IF($AB$52<$AC$52,1,0) -> 0 | DD7: =IF($AB$52>$AC$52,1,0) -> 0 | DE7: =IF($AC$59<$AB$59,1,0) -> 0 | DF7: =IF($AC$59>$AB$59,1,0) -> 0 | DG7: =IF($AB$27<$AC$27,1,0) -> 0 | DH7: =IF($AB$27>$AC$27,1,0) -> 1 | DI7: =IF($AB$21>$AC$21,1,0) -> 1 | DJ7: =IF($AB$21<$AC$21,1,0) -> 0 | DK7: =IF($AC$47>$AB$47,1,0) -> 0 | DL7: =IF($AC$47<$AB$47,1,0) -> 0 | DM7: =IF($AB$14>$AC$14,1,0) -> 1 | DN7: =IF($AB$14<$AC$14,1,0) -> 0 | DO7: =IF($AC$42>$AB$42,1,0) -> 0 | DP7: =IF($AC$42<$AB$42,1,0) -> 0 | DQ7: =IF($AB$7>$AC$7,1,0) -> 1 | DR7: =IF($AB$7<$AC$7,1,0) -> 0 | DS7: =IF($AC$37>$AB$37,1,0) -> 0 | DT7: =IF($AC$37<$AB$37,1,0) -> 0 | DU7: =IF($AB$66>$AC$66,1,0) -> 0 | DV7: =IF($AB$66<$AC$66,1,0) -> 0 | DW7: =IF($AC$32>$AB$32,1,0) -> 0 | DX7: =IF($AC$32<$AB$32,1,0) -> 0 | DY7: 4 | DZ7: =IF($Z$22<$AA$22,1,0) -> 0 | EA7: =IF($Z$22>$AA$22,1,0) -> 1 | EB7: =IF($AA$25<$Z$25,1,0) -> 0 | EC7: =IF($AA$25>$Z$25,1,0) -> 1 | ED7: =IF($Z$33<$AA$33,1,0) -> 1 | EE7: =IF($Z$33>$AA$33,1,0) -> 0 | EF7: =IF($Z$43>$AA$43,1,0) -> 0 | EG7: =IF($Z$43<$AA$43,1,0) -> 1 | EH7: =IF($AA$45>$Z$45,1,0) -> 1 | EI7: =IF($AA$45<$Z$45,1,0) -> 0 | EJ7: =IF($Z$7>$AA$7,1,0) -> 0 | EK7: =IF($Z$7<$AA$7,1,0) -> 1 | EL7: =IF($AA$11>$Z$11,1,0) -> 0 | EM7: =IF($AA$11<$Z$11,1,0) -> 1 | EN7: =IF($Z$16>$AA$16,1,0) -> 1 | EO7: =IF($Z$16<$AA$16,1,0) -> 0 | EP7: =IF($Z$34>$AA$34,1,0) -> 1 | EQ7: =IF($Z$34<$AA$34,1,0) -> 0
A8: 5 | B8: ALADDİN ÖZDEMİR | C8: =TEXT($AB$46,$AB$46)&TEXT("-","-")&TEXT($AC$46,$AC$46) -> - | D8: =TEXT($AC$26,$AC$26)&TEXT("-","-")&TEXT($AB$26,$AB$26) -> 1-3 | E8: =TEXT($AB$53,$AB$53)&TEXT("-","-")&TEXT($AC$53,$AC$53) -> - | F8: =TEXT($AC$21,$AC$21)&TEXT("-","-")&TEXT($AB$21,$AB$21) -> 0-3 | H8: =TEXT($AB$15,$AB$15)&TEXT("-","-")&TEXT($AC$15,$AC$15) -> 3-0 | I8: =TEXT($AC$41,$AC$41)&TEXT("-","-")&TEXT($AB$41,$AB$41) -> - | J8: =TEXT($AB$8,$AB$8)&TEXT("-","-")&TEXT($AC$8,$AC$8) -> 3-0 | K8: =TEXT($AC$36,$AC$36)&TEXT("-","-")&TEXT($AB$36,$AB$36) -> - | L8: =TEXT($AB$67,$AB$67)&TEXT("-","-")&TEXT($AC$67,$AC$67) -> - | M8: =TEXT($AC$31,$AC$31)&TEXT("-","-")&TEXT($AB$31,$AB$31) -> - | N8: =TEXT($AB$60,$AB$60)&TEXT("-","-")&TEXT($AC$60,$AC$60) -> - | O8: =SUM(DC8+DE8+DG8+DI8+DK8+DM8+DO8+DQ8+DS8+DU8+DW8) -> 2 | P8: =SUM(DD8+DF8+DH8+DJ8+DL8+DN8+DP8+DR8+DT8+DV8+DX8) -> 2 | Q8: =SUM(O8*2+P8*1) -> 6 | R8: =RANK(Q8,$Q$4:$Q$15,0) -> 5 | S8: =R8 -> 5 | U8: 5 | V8: 5-8 | W8: 45278 | X8: 0.75 | Y8: 5 | Z8: =REPT($B$8,1) -> ALADDİN ÖZDEMİR | AA8: =REPT($B$11,1) -> MUSTAFA KURTUL | AB8: 3 | AC8: 0 | AD8: 11 | AE8: 5 | AF8: 11 | AG8: 8 | AH8: 11 | AI8: 7 | AT8: =IF(AD8>AE8,1,0) -> 1 | AU8: =IF(AE8>AD8,1,0) -> 0 | AV8: =IF(AF8>AG8,1,0) -> 1 | AW8: =IF(AG8>AF8,1,0) -> 0 | AX8: =IF(AH8>AI8,1,0) -> 1 | AY8: =IF(AI8>AH8,1,0) -> 0 | AZ8: =IF(AJ8>AK8,1,0) -> 0 | BA8: =IF(AK8>AJ8,1,0) -> 0 | BB8: =IF(AL8>AM8,1,0) -> 0 | BC8: =IF(AM8>AL8,1,0) -> 0 | BD8: =IF(AN8>AO8,1,0) -> 0 | BE8: =IF(AO8>AN8,1,0) -> 0 | BF8: =IF(AP8>AQ8,1,0) -> 0 | BG8: =IF(AQ8>AP8,1,0) -> 0 | BI8: =IF(AB8>AC8,1,0) -> 1 | BJ8: =IF(AB8<AC8,1,0) -> 0 | DB8: 5 | DC8: =IF($AC$46<$AB$46,1,0) -> 0 | DD8: =IF($AC$46>$AB$46,1,0) -> 0 | DE8: =IF($AB$26<$AC$26,1,0) -> 0 | DF8: =IF($AB$26>$AC$26,1,0) -> 1 | DG8: =IF($AC$53<$AB$53,1,0) -> 0 | DH8: =IF($AC$53>$AB$53,1,0) -> 0 | DI8: =IF($AB$21<$AC$21,1,0) -> 0 | DJ8: =IF($AB$21>$AC$21,1,0) -> 1 | DK8: =IF($AB$15>$AC$15,1,0) -> 1 | DL8: =IF($AB$15<$AC$15,1,0) -> 0 | DM8: =IF($AC$41>$AB$41,1,0) -> 0 | DN8: =IF($AC$41<$AB$41,1,0) -> 0 | DO8: =IF($AB$8>$AC$8,1,0) -> 1 | DP8: =IF($AB$8<$AC$8,1,0) -> 0 | DQ8: =IF($AC$36>$AB$36,1,0) -> 0 | DR8: =IF($AC$36<$AB$36,1,0) -> 0 | DS8: =IF($AB$67>$AC$67,1,0) -> 0 | DT8: =IF($AB$67<$AC$67,1,0) -> 0 | DU8: =IF($AC$31>$AB$31,1,0) -> 0 | DV8: =IF($AC$31<$AB$31,1,0) -> 0 | DW8: =IF($AB$60>$AC$60,1,0) -> 0 | DX8: =IF($AB$60<$AC$60,1,0) -> 0 | DY8: 5 | DZ8: =IF($AA$26<$Z$26,1,0) -> 1 | EA8: =IF($AA$26>$Z$26,1,0) -> 0 | EB8: =IF($Z$32<$AA$32,1,0) -> 0 | EC8: =IF($Z$32>$AA$32,1,0) -> 1 | ED8: =IF($AA$35<$Z$35,1,0) -> 0 | EE8: =IF($AA$35>$Z$35,1,0) -> 1 | EF8: =IF($Z$43<$AA$43,1,0) -> 1 | EG8: =IF($Z$43>$AA$43,1,0) -> 0 | EH8: =IF($Z$8>$AA$8,1,0) -> 0 | EI8: =IF($Z$8<$AA$8,1,0) -> 1 | EJ8: =IF($AA$10>$Z$10,1,0) -> 0 | EK8: =IF($AA$10<$Z$10,1,0) -> 1 | EL8: =IF($Z$17>$AA$17,1,0) -> 0 | EM8: =IF($Z$17<$AA$17,1,0) -> 1 | EN8: =IF($AA$21>$Z$21,1,0) -> 0 | EO8: =IF($AA$21<$Z$21,1,0) -> 1 | EP8: =IF($Z$44>$AA$44,1,0) -> 0 | EQ8: =IF($Z$44<$AA$44,1,0) -> 1
A9: 6 | B9: SELİM ERTUĞTUL | C9: =TEXT($AC$40,$AC$40)&TEXT("-","-")&TEXT($AB$40,$AB$40) -> - | D9: =TEXT($AB$54,$AB$54)&TEXT("-","-")&TEXT($AC$54,$AC$54) -> - | E9: =TEXT($AC$20,$AC$20)&TEXT("-","-")&TEXT($AB$20,$AB$20) -> 0-3 | F9: =TEXT($AB$47,$AB$47)&TEXT("-","-")&TEXT($AC$47,$AC$47) -> - | G9: =TEXT($AC$15,$AC$15)&TEXT("-","-")&TEXT($AB$15,$AB$15) -> 0-3 | I9: =TEXT($AB$9,$AB$9)&TEXT("-","-")&TEXT($AC$9,$AC$9) -> 3-2 | J9: =TEXT($AC$35,$AC$35)&TEXT("-","-")&TEXT($AB$35,$AB$35) -> - | K9: =TEXT($AB$68,$AB$68)&TEXT("-","-")&TEXT($AC$68,$AC$68) -> - | L9: =TEXT($AC$30,$AC$30)&TEXT("-","-")&TEXT($AB$30,$AB$30) -> - | M9: =TEXT($AB$61,$AB$61)&TEXT("-","-")&TEXT($AC$61,$AC$61) -> - | N9: =TEXT($AC$25,$AC$25)&TEXT("-","-")&TEXT($AB$25,$AB$25) -> 3-0 | O9: =SUM(DC9+DE9+DG9+DI9+DK9+DM9+DO9+DQ9+DS9+DU9+DW9) -> 2 | P9: =SUM(DD9+DF9+DH9+DJ9+DL9+DN9+DP9+DR9+DT9+DV9+DX9) -> 2 | Q9: =SUM(O9*2+P9*1) -> 6 | R9: =RANK(Q9,$Q$4:$Q$15,0) -> 5 | S9: =R9 -> 5 | U9: 6 | V9: 6-7 | W9: 45278 | X9: 0.75 | Y9: 6 | Z9: =REPT($B$9,1) -> SELİM ERTUĞTUL | AA9: =REPT($B$10,1) -> MURAT ÖZKARS | AB9: 3 | AC9: 2 | AD9: 11 | AE9: 5 | AF9: 11 | AG9: 8 | AH9: 5 | AI9: 11 | AJ9: 8 | AK9: 11 | AL9: 11 | AM9: 7 | AT9: =IF(AD9>AE9,1,0) -> 1 | AU9: =IF(AE9>AD9,1,0) -> 0 | AV9: =IF(AF9>AG9,1,0) -> 1 | AW9: =IF(AG9>AF9,1,0) -> 0 | AX9: =IF(AH9>AI9,1,0) -> 0 | AY9: =IF(AI9>AH9,1,0) -> 1 | AZ9: =IF(AJ9>AK9,1,0) -> 0 | BA9: =IF(AK9>AJ9,1,0) -> 1 | BB9: =IF(AL9>AM9,1,0) -> 1 | BC9: =IF(AM9>AL9,1,0) -> 0 | BD9: =IF(AN9>AO9,1,0) -> 0 | BE9: =IF(AO9>AN9,1,0) -> 0 | BF9: =IF(AP9>AQ9,1,0) -> 0 | BG9: =IF(AQ9>AP9,1,0) -> 0 | BI9: =IF(AB9>AC9,1,0) -> 1 | BJ9: =IF(AB9<AC9,1,0) -> 0 | DB9: 6 | DC9: =IF($AB$40<$AC$40,1,0) -> 0 | DD9: =IF($AB$40>$AC$40,1,0) -> 0 | DE9: =IF($AC$54<$AB$54,1,0) -> 0 | DF9: =IF($AC$54>$AB$54,1,0) -> 0 | DG9: =IF($AB$20<$AC$20,1,0) -> 0 | DH9: =IF($AB$20>$AC$20,1,0) -> 1 | DI9: =IF($AC$47<$AB$47,1,0) -> 0 | DJ9: =IF($AC$47>$AB$47,1,0) -> 0 | DK9: =IF($AB$15<$AC$15,1,0) -> 0 | DL9: =IF($AB$15>$AC$15,1,0) -> 1 | DM9: =IF($AB$9>$AC$9,1,0) -> 1 | DN9: =IF($AB$9<$AC$9,1,0) -> 0 | DO9: =IF($AC$35>$AB$35,1,0) -> 0 | DP9: =IF($AC$35<$AB$35,1,0) -> 0 | DQ9: =IF($AB$68>$AC$68,1,0) -> 0 | DR9: =IF($AB$68<$AC$68,1,0) -> 0 | DS9: =IF($AC$30>$AB$30,1,0) -> 0 | DT9: =IF($AC$30<$AB$30,1,0) -> 0 | DU9: =IF($AB$61>$AC$61,1,0) -> 0 | DV9: =IF($AB$61<$AC$61,1,0) -> 0 | DW9: =IF($AC$25>$AB$25,1,0) -> 1 | DX9: =IF($AC$25<$AB$25,1,0) -> 0 | DY9: 6 | DZ9: =IF($Z$31<$AA$31,1,0) -> 0 | EA9: =IF($Z$31>$AA$31,1,0) -> 1 | EB9: =IF($AA$36<$Z$36,1,0) -> 1 | EC9: =IF($AA$36>$Z$36,1,0) -> 0 | ED9: =IF($Z$42<$AA$42,1,0) -> 0 | EE9: =IF($Z$42>$AA$42,1,0) -> 1 | EF9: =IF($AA$45<$Z$45,1,0) -> 0 | EG9: =IF($AA$45>$Z$45,1,0) -> 1 | EH9: =IF($Z$8<$AA$8,1,0) -> 1 | EI9: =IF($Z$8>$AA$8,1,0) -> 0 | EJ9: =IF($Z$18>$AA$18,1,0) -> 1 | EK9: =IF($Z$18<$AA$18,1,0) -> 0 | EL9: =IF($AA$20>$Z$20,1,0) -> 1 | EM9: =IF($AA$20<$Z$20,1,0) -> 0 | EN9: =IF($Z$27>$AA$27,1,0) -> 1 | EO9: =IF($Z$27<DU$27,1,0) -> 0 | EP9: =IF($AA$9>$Z$9,1,0) -> 0 | EQ9: =IF($AA$9<$Z$9,1,0) -> 1
A10: 7 | B10: MURAT ÖZKARS | C10: =TEXT($AB$34,$AB$34)&TEXT("-","-")&TEXT($AC$34,$AC$34) -> - | D10: =TEXT($AC$19,$AC$19)&TEXT("-","-")&TEXT($AB$19,$AB$19) -> 0-3 | E10: =TEXT($AB$48,$AB$48)&TEXT("-","-")&TEXT($AC$48,$AC$48) -> - | F10: =TEXT($AC$14,$AC$14)&TEXT("-","-")&TEXT($AB$14,$AB$14) -> 1-3 | G10: =TEXT($AB$41,$AB$41)&TEXT("-","-")&TEXT($AC$41,$AC$41) -> - | H10: =TEXT($AC$9,$AC$9)&TEXT("-","-")&TEXT($AB$9,$AB$9) -> 2-3 | J10: =TEXT($AB$69,$AB$69)&TEXT("-","-")&TEXT($AC$69,$AC$69) -> - | K10: =TEXT($AC$29,$AC$29)&TEXT("-","-")&TEXT($AB$29,$AB$29) -> - | L10: =TEXT($AB$62,$AB$62)&TEXT("-","-")&TEXT($AC$62,$AC$62) -> - | M10: =TEXT($AC$24,$AC$24)&TEXT("-","-")&TEXT($AB$24,$AB$24) -> 3-0 | N10: =TEXT($AB$55,$AB$55)&TEXT("-","-")&TEXT($AC$55,$AC$55) -> - | O10: =SUM(DC10+DE10+DG10+DI10+DK10+DM10+DO10+DQ10+DS10+DU10+DW10) -> 1 | P10: =SUM(DD10+DF10+DH10+DJ10+DL10+DN10+DP10+DR10+DT10+DV10+DX10) -> 3 | Q10: =SUM(O10*2+P10*1) -> 5 | R10: =RANK(Q10,$Q$4:$Q$15,0) -> 8 | S10: =R10 -> 8 | U10: 7 | V10: 11-1 | W10: 45278 | X10: 0.79166667 | Y10: 2 | Z10: =REPT($B$14,1) -> HAMDİ ÖZKAN | AA10: =REPT($B$4,1) -> FATİH KAYA | AB10: 1 | AC10: 3 | AD10: 11 | AE10: 8 | AF10: 5 | AG10: 11 | AH10: 9 | AI10: 11 | AJ10: 7 | AK10: 11 | AT10: =IF(AD10>AE10,1,0) -> 1 | AU10: =IF(AE10>AD10,1,0) -> 0 | AV10: =IF(AF10>AG10,1,0) -> 0 | AW10: =IF(AG10>AF10,1,0) -> 1 | AX10: =IF(AH10>AI10,1,0) -> 0 | AY10: =IF(AI10>AH10,1,0) -> 1 | AZ10: =IF(AJ10>AK10,1,0) -> 0 | BA10: =IF(AK10>AJ10,1,0) -> 1 | BB10: =IF(AL10>AM10,1,0) -> 0 | BC10: =IF(AM10>AL10,1,0) -> 0 | BD10: =IF(AN10>AO10,1,0) -> 0 | BE10: =IF(AO10>AN10,1,0) -> 0 | BF10: =IF(AP10>AQ10,1,0) -> 0 | BG10: =IF(AQ10>AP10,1,0) -> 0 | BI10: =IF(AB10>AC10,1,0) -> 0 | BJ10: =IF(AB10<AC10,1,0) -> 1 | DB10: 7 | DC10: =IF($AC$34<$AB$34,1,0) -> 0 | DD10: =IF($AC$34>$AB$34,1,0) -> 0 | DE10: =IF($AB$19<$AC$19,1,0) -> 0 | DF10: =IF($AB$19>$AC$19,1,0) -> 1 | DG10: =IF($AC$48<$AB$48,1,0) -> 0 | DH10: =IF($AC$48>$AB$48,1,0) -> 0 | DI10: =IF($AB$14<$AC$14,1,0) -> 0 | DJ10: =IF($AB$14>$AC$14,1,0) -> 1 | DK10: =IF($AC$41<$AB$41,1,0) -> 0 | DL10: =IF($AC$41>$AB$41,1,0) -> 0 | DM10: =IF($AB$9<$AC$9,1,0) -> 0 | DN10: =IF($AB$9>$AC$9,1,0) -> 1 | DO10: =IF($AB$69>$AC$69,1,0) -> 0 | DP10: =IF($AB$69<$AC$69,1,0) -> 0 | DQ10: =IF($AC$29>$AB$29,1,0) -> 0 | DR10: =IF($AC$29<$AB$29,1,0) -> 0 | DS10: =IF($AB$62>$AC$62,1,0) -> 0 | DT10: =IF($AB$62<$AC$62,1,0) -> 0 | DU10: =IF($AC$24>$AB$24,1,0) -> 1 | DV10: =IF($AC$24<$AB$24,1,0) -> 0 | DW10: =IF($AB$55>$AC$55,1,0) -> 0 | DX10: =IF($AB$55<$AC$55,1,0) -> 0 | DY10: 7 | DZ10: =IF($AA$37<$Z$37,1,0) -> 0 | EA10: =IF($AA$37>$Z$37,1,0) -> 1 | EB10: =IF($Z$41<$AA$41,1,0) -> 0 | EC10: =IF($Z$41>$AA$41,1,0) -> 1 | ED10: =IF($AA$46<$Z$46,1,0) -> 0 | EE10: =IF($AA$46>$Z$46,1,0) -> 1 | EF10: =IF($Z$7<$AA$7,1,0) -> 1 | EG10: =IF($Z$7>$AA$7,1,0) -> 0 | EH10: =IF($AA$10<$Z$10,1,0) -> 1 | EI10: =IF($AA$10>$Z$10,1,0) -> 0 | EJ10: =IF($Z$18<$AA$18,1,0) -> 0 | EK10: =IF($Z$18>$AA$18,1,0) -> 1 | EL10: =IF($Z$28>$AA$28,1,0) -> 0 | EM10: =IF($Z$28<$AA$28,1,0) -> 1 | EN10: =IF($AA$30>$Z$30,1,0) -> 1 | EO10: =IF($AA$30<$Z$30,1,0) -> 0 | EP10: =IF($AA$19>$Z$19,1,0) -> 0 | EQ10: =IF($AA$19<$Z$19,1,0) -> 1
A11: 8 | B11: MUSTAFA KURTUL | C11: =TEXT($AC$28,$AC$28)&TEXT("-","-")&TEXT($AB$28,$AB$28) -> - | D11: =TEXT($AB$49,$AB$49)&TEXT("-","-")&TEXT($AC$49,$AC$49) -> - | E11: =TEXT($AC$13,$AC$13)&TEXT("-","-")&TEXT($AB$13,$AB$13) -> 0-3 | F11: =TEXT($AB$42,$AB$42)&TEXT("-","-")&TEXT($AC$42,$AC$42) -> - | G11: =TEXT($AC$8,$AC$8)&TEXT("-","-")&TEXT($AB$8,$AB$8) -> 0-3 | H11: =TEXT($AB$35,$AB$35)&TEXT("-","-")&TEXT($AC$35,$AC$35) -> - | I11: =TEXT($AC$69,$AC$69)&TEXT("-","-")&TEXT($AB$69,$AB$69) -> - | K11: =TEXT($AB$63,$AB$63)&TEXT("-","-")&TEXT($AC$63,$AC$63) -> - | L11: =TEXT($AC$23,$AC$23)&TEXT("-","-")&TEXT($AB$23,$AB$23) -> 2-3 | M11: =TEXT($AB$56,$AB$56)&TEXT("-","-")&TEXT($AC$56,$AC$56) -> - | N11: =TEXT($AC$18,$AC$18)&TEXT("-","-")&TEXT($AB$18,$AB$18) -> 2-3 | O11: =SUM(DC11+DE11+DG11+DI11+DK11+DM11+DO11+DQ11+DS11+DU11+DW11) -> 0 | P11: =SUM(DD11+DF11+DH11+DJ11+DL11+DN11+DP11+DR11+DT11+DV11+DX11) -> 4 | Q11: =SUM(O11*2+P11*1) -> 4 | R11: =RANK(Q11,$Q$4:$Q$15,0) -> 11 | S11: =R11 -> 11 | U11: 8 | V11: 12-10 | W11: 45278 | X11: 0.79166667 | Y11: 3 | Z11: =REPT($B$15,1) -> SELÇUK KURT | AA11: =REPT($B$13,1) -> ÇETİN KAPTANOĞLU | AB11: 0 | AC11: 3 | AD11: 2 | AE11: 11 | AF11: 6 | AG11: 11 | AH11: 8 | AI11: 11 | AT11: =IF(AD11>AE11,1,0) -> 0 | AU11: =IF(AE11>AD11,1,0) -> 1 | AV11: =IF(AF11>AG11,1,0) -> 0 | AW11: =IF(AG11>AF11,1,0) -> 1 | AX11: =IF(AH11>AI11,1,0) -> 0 | AY11: =IF(AI11>AH11,1,0) -> 1 | AZ11: =IF(AJ11>AK11,1,0) -> 0 | BA11: =IF(AK11>AJ11,1,0) -> 0 | BB11: =IF(AL11>AM11,1,0) -> 0 | BC11: =IF(AM11>AL11,1,0) -> 0 | BD11: =IF(AN11>AO11,1,0) -> 0 | BE11: =IF(AO11>AN11,1,0) -> 0 | BF11: =IF(AP11>AQ11,1,0) -> 0 | BG11: =IF(AQ11>AP11,1,0) -> 0 | BI11: =IF(AB11>AC11,1,0) -> 0 | BJ11: =IF(AB11<AC11,1,0) -> 1 | DB11: 8 | DC11: =IF($AB$28<$AC$28,1,0) -> 0 | DD11: =IF($AB$28>$AC$28,1,0) -> 0 | DE11: =IF($AC$49<$AB$49,1,0) -> 0 | DF11: =IF($AC$49>$AB$49,1,0) -> 0 | DG11: =IF($AB$13<$AC$13,1,0) -> 0 | DH11: =IF($AB$13>$AC$13,1,0) -> 1 | DI11: =IF($AC$42<$AB$42,1,0) -> 0 | DJ11: =IF($AC$42>$AB$42,1,0) -> 0 | DK11: =IF($AB$8<$AC$8,1,0) -> 0 | DL11: =IF($AB$8>$AC$8,1,0) -> 1 | DM11: =IF($AC$35<$AB$35,1,0) -> 0 | DN11: =IF($AC$35>$AB$35,1,0) -> 0 | DO11: =IF($AB$69<$AC$69,1,0) -> 0 | DP11: =IF($AB$69>$AC$69,1,0) -> 0 | DQ11: =IF($AB$63>$AC$63,1,0) -> 0 | DR11: =IF($AB$63<$AC$63,1,0) -> 0 | DS11: =IF($AC$23>$AB$23,1,0) -> 0 | DT11: =IF($AC$23<$AB$23,1,0) -> 1 | DU11: =IF($AB$56>$AC$56,1,0) -> 0 | DV11: =IF($AB$56<$AC$56,1,0) -> 0 | DW11: =IF($AC$18>$AB$18,1,0) -> 0 | DX11: =IF($AC$18<$AB$18,1,0) -> 1 | DY11: 8 | DZ11: =IF($Z$40<$AA$40,1,0) -> 1 | EA11: =IF($Z$40>$AA$40,1,0) -> 0 | EB11: =IF($AA$47<$Z$47,1,0) -> 1 | EC11: =IF($AA$47>$Z$47,1,0) -> 0 | ED11: =IF($Z$6<$AA$6,1,0) -> 0 | EE11: =IF($Z$6>$AA$6,1,0) -> 1 | EF11: =IF($AA$11<$Z$11,1,0) -> 1 | EG11: =IF($AA$11>$Z$11,1,0) -> 0 | EH11: =IF($Z$17<$AA$17,1,0) -> 1 | EI11: =IF($Z$17>$AA$17,1,0) -> 0 | EJ11: =IF($AA$20<$Z$20,1,0) -> 0 | EK11: =IF($AA$20>$Z$20,1,0) -> 1 | EL11: =IF($Z$28<$AA$28,1,0) -> 1 | EM11: =IF($Z$28>$AA$28,1,0) -> 0 | EN11: =IF($Z$38>$AA$38,1,0) -> 0 | EO11: =IF($Z$38<$AA$38,1,0) -> 1 | EP11: =IF($AA$29>$Z$29,1,0) -> 1 | EQ11: =IF($AA$29<$Z$29,1,0) -> 0
A12: 9 | B12: KAMİL BÖRÜBAN | C12: =TEXT($AB$22,$AB$22)&TEXT("-","-")&TEXT($AC$22,$AC$22) -> 0-3 | D12: =TEXT($AC$12,$AC$12)&TEXT("-","-")&TEXT($AB$12,$AB$12) -> 0-3 | E12: =TEXT($AB$43,$AB$43)&TEXT("-","-")&TEXT($AC$43,$AC$43) -> - | F12: =TEXT($AC$7,$AC$7)&TEXT("-","-")&TEXT($AB$7,$AB$7) -> 1-3 | G12: =TEXT($AB$36,$AB$36)&TEXT("-","-")&TEXT($AC$36,$AC$36) -> - | H12: =TEXT($AC$68,$AC$68)&TEXT("-","-")&TEXT($AB$68,$AB$68) -> - | I12: =TEXT($AB$29,$AB$29)&TEXT("-","-")&TEXT($AC$29,$AC$29) -> - | J12: =TEXT($AC$63,$AC$63)&TEXT("-","-")&TEXT($AB$63,$AB$63) -> - | L12: =TEXT($AB$57,$AB$57)&TEXT("-","-")&TEXT($AC$57,$AC$57) -> - | M12: =TEXT($AC$17,$AC$17)&TEXT("-","-")&TEXT($AB$17,$AB$17) -> 3-2 | N12: =TEXT($AB$50,$AB$50)&TEXT("-","-")&TEXT($AC$50,$AC$50) -> - | O12: =SUM(DC12+DE12+DG12+DI12+DK12+DM12+DO12+DQ12+DS12+DU12+DW12) -> 1 | P12: =SUM(DD12+DF12+DH12+DJ12+DL12+DN12+DP12+DR12+DT12+DV12+DX12) -> 3 | Q12: =SUM(O12*2+P12*1) -> 5 | R12: =RANK(Q12,$Q$4:$Q$15,0) -> 8 | S12: =R12 -> 8 | U12: 9 | V12: 2-9 | W12: 45278 | X12: 0.79166667 | Y12: 4 | Z12: =REPT($B$5,1) -> MUSTAFA DEMİR | AA12: =REPT($B$12,1) -> KAMİL BÖRÜBAN | AB12: 3 | AC12: 0 | AD12: 11 | AE12: 3 | AF12: 11 | AG12: 8 | AH12: 11 | AI12: 4 | AT12: =IF(AD12>AE12,1,0) -> 1 | AU12: =IF(AE12>AD12,1,0) -> 0 | AV12: =IF(AF12>AG12,1,0) -> 1 | AW12: =IF(AG12>AF12,1,0) -> 0 | AX12: =IF(AH12>AI12,1,0) -> 1 | AY12: =IF(AI12>AH12,1,0) -> 0 | AZ12: =IF(AJ12>AK12,1,0) -> 0 | BA12: =IF(AK12>AJ12,1,0) -> 0 | BB12: =IF(AL12>AM12,1,0) -> 0 | BC12: =IF(AM12>AL12,1,0) -> 0 | BD12: =IF(AN12>AO12,1,0) -> 0 | BE12: =IF(AO12>AN12,1,0) -> 0 | BF12: =IF(AP12>AQ12,1,0) -> 0 | BG12: =IF(AQ12>AP12,1,0) -> 0 | BI12: =IF(AB12>AC12,1,0) -> 1 | BJ12: =IF(AB12<AC12,1,0) -> 0 | DB12: 9 | DC12: =IF($AC$22<$AB$22,1,0) -> 0 | DD12: =IF($AC$22>$AB$22,1,0) -> 1 | DE12: =IF($AB$12<$AC$12,1,0) -> 0 | DF12: =IF($AB$12>$AC$12,1,0) -> 1 | DG12: =IF($AC$43<$AB$43,1,0) -> 0 | DH12: =IF($AC$43>$AB$43,1,0) -> 0 | DI12: =IF($AB$7<$AC$7,1,0) -> 0 | DJ12: =IF($AB$7>$AC$7,1,0) -> 1 | DK12: =IF($AC$36<$AB$36,1,0) -> 0 | DL12: =IF($AC$36>$AB$36,1,0) -> 0 | DM12: =IF($AB$68<$AC$68,1,0) -> 0 | DN12: =IF($AB$68>$AC$68,1,0) -> 0 | DO12: =IF($AC$29<$AB$29,1,0) -> 0 | DP12: =IF($AC$29>$AB$29,1,0) -> 0 | DQ12: =IF($AB$63<$AC$63,1,0) -> 0 | DR12: =IF($AB$63>$AC$63,1,0) -> 0 | DS12: =IF($AB$57>$AC$57,1,0) -> 0 | DT12: =IF($AB$57<$AC$57,1,0) -> 0 | DU12: =IF($AC$17>$AB$17,1,0) -> 1 | DV12: =IF($AC$17<$AB$17,1,0) -> 0 | DW12: =IF($AB$50>$AC$50,1,0) -> 0 | DX12: =IF($AB$50<$AC$50,1,0) -> 0 | DY12: 9 | DZ12: =IF($AA$48<$Z$48,1,0) -> 0 | EA12: =IF($AA$48>$Z$48,1,0) -> 1 | EB12: =IF($Z$5<$AA$5,1,0) -> 0 | EC12: =IF($Z$5>$AA$5,1,0) -> 1 | ED12: =IF($AA$12<$Z$12,1,0) -> 1 | EE12: =IF($AA$12>$Z$12,1,0) -> 0 | EF12: =IF($Z$16<$AA$16,1,0) -> 0 | EG12: =IF($Z$16>$AA$16,1,0) -> 1 | EH12: =IF($AA$21<$Z$21,1,0) -> 1 | EI12: =IF($AA$21>$Z$21,1,0) -> 0 | EJ12: =IF($Z$27<$AA$27,1,0) -> 0 | EK12: =IF($Z$27>$AA$27,1,0) -> 1 | EL12: =IF($AA$30<$Z$30,1,0) -> 0 | EM12: =IF($AA$30>$Z$30,1,0) -> 1 | EN12: =IF($Z$38<$AA$38,1,0) -> 1 | EO12: =IF($Z$38>$AA$38,1,0) -> 0 | EP12: =IF($AA$39>$Z$39,1,0) -> 0 | EQ12: =IF($AA$39<$Z$39,1,0) -> 1
A13: 10 | B13: ÇETİN KAPTANOĞLU | C13: =TEXT($AC$16,$AC$16)&TEXT("-","-")&TEXT($AB$16,$AB$16) -> 1-3 | D13: =TEXT($AB$44,$AB$44)&TEXT("-","-")&TEXT($AC$44,$AC$44) -> - | E13: =TEXT($AC$6,$AC$6)&TEXT("-","-")&TEXT($AB$6,$AB$6) -> 0-3 | F13: =TEXT($AB$37,$AB$37)&TEXT("-","-")&TEXT($AC$37,$AC$37) -> - | G13: =TEXT($AC$67,$AC$67)&TEXT("-","-")&TEXT($AB$67,$AB$67) -> - | H13: =TEXT($AB$30,$AB$30)&TEXT("-","-")&TEXT($AC$30,$AC$30) -> - | I13: =TEXT($AC$62,$AC$62)&TEXT("-","-")&TEXT($AB$62,$AB$62) -> - | J13: =TEXT($AB$23,$AB$23)&TEXT("-","-")&TEXT($AC$23,$AC$23) -> 3-2 | K13: =TEXT($AC$57,$AC$57)&TEXT("-","-")&TEXT($AB$57,$AB$57) -> - | M13: =TEXT($AB$51,$AB$51)&TEXT("-","-")&TEXT($AC$51,$AC$51) -> - | N13: =TEXT($AC$11,$AC$11)&TEXT("-","-")&TEXT($AB$11,$AB$11) -> 3-0 | O13: =SUM(DC13+DE13+DG13+DI13+DK13+DM13+DO13+DQ13+DS13+DU13+DW13) -> 2 | P13: =SUM(DD13+DF13+DH13+DJ13+DL13+DN13+DP13+DR13+DT13+DV13+DX13) -> 2 | Q13: =SUM(O13*2+P13*1) -> 6 | R13: =RANK(Q13,$Q$4:$Q$15,0) -> 5 | S13: =R13 -> 5 | U13: 10 | V13: 3-8 | W13: 45278 | X13: 0.79166667 | Y13: 5 | Z13: =REPT($B$6,1) -> RAMAZAN KAPTANOĞLU | AA13: =REPT($B$11,1) -> MUSTAFA KURTUL | AB13: 3 | AC13: 0 | AD13: 11 | AE13: 3 | AF13: 11 | AG13: 6 | AH13: 11 | AI13: 6 | AT13: =IF(AD13>AE13,1,0) -> 1 | AU13: =IF(AE13>AD13,1,0) -> 0 | AV13: =IF(AF13>AG13,1,0) -> 1 | AW13: =IF(AG13>AF13,1,0) -> 0 | AX13: =IF(AH13>AI13,1,0) -> 1 | AY13: =IF(AI13>AH13,1,0) -> 0 | AZ13: =IF(AJ13>AK13,1,0) -> 0 | BA13: =IF(AK13>AJ13,1,0) -> 0 | BB13: =IF(AL13>AM13,1,0) -> 0 | BC13: =IF(AM13>AL13,1,0) -> 0 | BD13: =IF(AN13>AO13,1,0) -> 0 | BE13: =IF(AO13>AN13,1,0) -> 0 | BF13: =IF(AP13>AQ13,1,0) -> 0 | BG13: =IF(AQ13>AP13,1,0) -> 0 | BI13: =IF(AB13>AC13,1,0) -> 1 | BJ13: =IF(AB13<AC13,1,0) -> 0 | DB13: 10 | DC13: =IF($AB$16<$AC$16,1,0) -> 0 | DD13: =IF($AB$16>$AC$16,1,0) -> 1 | DE13: =IF($AC$44<$AB$44,1,0) -> 0 | DF13: =IF($AC$44>$AB$44,1,0) -> 0 | DG13: =IF($AB$6<$AC$6,1,0) -> 0 | DH13: =IF($AB$6>$AC$6,1,0) -> 1 | DI13: =IF($AC$37<$AB$37,1,0) -> 0 | DJ13: =IF($AC$37>$AB$37,1,0) -> 0 | DK13: =IF($AB$67<$AC$67,1,0) -> 0 | DL13: =IF($AB$67>$AC$67,1,0) -> 0 | DM13: =IF($AC$30<$AB$30,1,0) -> 0 | DN13: =IF($AC$30>$AB$30,1,0) -> 0 | DO13: =IF($AB$62<$AC$62,1,0) -> 0 | DP13: =IF($AB$62>$AC$62,1,0) -> 0 | DQ13: =IF($AC$23<$AB$23,1,0) -> 1 | DR13: =IF($AC$23>$AB$23,1,0) -> 0 | DS13: =IF($AB$57<$AC$57,1,0) -> 0 | DT13: =IF($AB$57>$AC$57,1,0) -> 0 | DU13: =IF($AB$51>$AC$51,1,0) -> 0 | DV13: =IF($AB$51<$AC$51,1,0) -> 0 | DW13: =IF($AC$11>$AB$11,1,0) -> 1 | DX13: =IF($AC$11<$AB$11,1,0) -> 0 | DY13: 10 | DZ13: =IF($Z$4<$AA$4,1,0) -> 1 | EA13: =IF($Z$4>$AA$4,1,0) -> 0 | EB13: =IF($Z$14<$AA$14,1,0) -> 1 | EC13: =IF($Z$14>$AA$14,1,0) -> 0 | ED13: =IF($Z$24<$AA$24,1,0) -> 1 | EE13: =IF($Z$24>$AA$24,1,0) -> 0 | EF13: =IF($Z$34<$AA$34,1,0) -> 0 | EG13: =IF($Z$34>$AA$34,1,0) -> 1 | EH13: =IF($Z$44<$AA$44,1,0) -> 1 | EI13: =IF($Z$44>$AA$44,1,0) -> 0 | EJ13: =IF($AA$9<$Z$9,1,0) -> 1 | EK13: =IF($AA$9>$Z$9,1,0) -> 0 | EL13: =IF($AA$19<$Z$19,1,0) -> 1 | EM13: =IF($AA$19>$Z$19,1,0) -> 0 | EN13: =IF($AA$29<$Z$29,1,0) -> 0 | EO13: =IF($AA$29>$Z$29,1,0) -> 1 | EP13: =IF($AA$39<$Z$39,1,0) -> 1 | EQ13: =IF($AA$39>$Z$39,1,0) -> 0
A14: 11 | B14: HAMDİ ÖZKAN | C14: =TEXT($AB$10,$AB$10)&TEXT("-","-")&TEXT($AC$10,$AC$10) -> 1-3 | D14: =TEXT($AC$5,$AC$5)&TEXT("-","-")&TEXT($AB$5,$AB$5) -> 0-3 | E14: =TEXT($AB$38,$AB$38)&TEXT("-","-")&TEXT($AC$38,$AC$38) -> - | F14: =TEXT($AC$66,$AC$66)&TEXT("-","-")&TEXT($AB$66,$AB$66) -> - | G14: =TEXT($AB$31,$AB$31)&TEXT("-","-")&TEXT($AC$31,$AC$31) -> - | H14: =TEXT($AC$61,$AC$61)&TEXT("-","-")&TEXT($AB$61,$AB$61) -> - | I14: =TEXT($AB$24,$AB$24)&TEXT("-","-")&TEXT($AC$24,$AC$24) -> 0-3 | J14: =TEXT($AC$56,$AC$56)&TEXT("-","-")&TEXT($AB$56,$AB$56) -> - | K14: =TEXT($AB$17,$AB$17)&TEXT("-","-")&TEXT($AC$17,$AC$17) -> 2-3 | L14: =TEXT($AC$51,$AC$51)&TEXT("-","-")&TEXT($AB$51,$AB$51) -> - | N14: =TEXT($AB$45,$AB$45)&TEXT("-","-")&TEXT($AC$45,$AC$45) -> - | O14: =SUM(DC14+DE14+DG14+DI14+DK14+DM14+DO14+DQ14+DS14+DU14+DW14) -> 0 | P14: =SUM(DD14+DF14+DH14+DJ14+DL14+DN14+DP14+DR14+DT14+DV14+DX14) -> 4 | Q14: =SUM(O14*2+P14*1) -> 4 | R14: =RANK(Q14,$Q$4:$Q$15,0) -> 11 | S14: =R14 -> 11 | U14: 11 | V14: 4-7 | W14: 45278 | X14: 0.79166667 | Y14: 6 | Z14: =REPT($B$7,1) -> FATİH YENİSOLAK | AA14: =REPT($B$10,1) -> MURAT ÖZKARS | AB14: 3 | AC14: 1 | AD14: 11 | AE14: 6 | AF14: 9 | AG14: 11 | AH14: 11 | AI14: 4 | AJ14: 11 | AK14: 9 | AT14: =IF(AD14>AE14,1,0) -> 1 | AU14: =IF(AE14>AD14,1,0) -> 0 | AV14: =IF(AF14>AG14,1,0) -> 0 | AW14: =IF(AG14>AF14,1,0) -> 1 | AX14: =IF(AH14>AI14,1,0) -> 1 | AY14: =IF(AI14>AH14,1,0) -> 0 | AZ14: =IF(AJ14>AK14,1,0) -> 1 | BA14: =IF(AK14>AJ14,1,0) -> 0 | BB14: =IF(AL14>AM14,1,0) -> 0 | BC14: =IF(AM14>AL14,1,0) -> 0 | BD14: =IF(AN14>AO14,1,0) -> 0 | BE14: =IF(AO14>AN14,1,0) -> 0 | BF14: =IF(AP14>AQ14,1,0) -> 0 | BG14: =IF(AQ14>AP14,1,0) -> 0 | BI14: =IF(AB14>AC14,1,0) -> 1 | BJ14: =IF(AB14<AC14,1,0) -> 0 | DB14: 11 | DC14: =IF($AC$10<$AB$10,1,0) -> 0 | DD14: =IF($AC$10>$AB$10,1,0) -> 1 | DE14: =IF($AB$5<$AC$5,1,0) -> 0 | DF14: =IF($AB$5>$AC$5,1,0) -> 1 | DG14: =IF($AC$38<$AB$38,1,0) -> 0 | DH14: =IF($AC$38>$AB$38,1,0) -> 0 | DI14: =IF($AB$66<$AC$66,1,0) -> 0 | DJ14: =IF($AB$66>$AC$66,1,0) -> 0 | DK14: =IF($AC$31<$AB$31,1,0) -> 0 | DL14: =IF($AC$31>$AB$31,1,0) -> 0 | DM14: =IF($AB$61<$AC$61,1,0) -> 0 | DN14: =IF($AB$61>$AC$61,1,0) -> 0 | DO14: =IF($AC$24<$AB$24,1,0) -> 0 | DP14: =IF($AC$24>$AB$24,1,0) -> 1 | DQ14: =IF($AB$56<$AC$56,1,0) -> 0 | DR14: =IF($AB$56>$AC$56,1,0) -> 0 | DS14: =IF($AC$17<$AB$17,1,0) -> 0 | DT14: =IF($AC$17>$AB$17,1,0) -> 1 | DU14: =IF($AB$51<$AC$51,1,0) -> 0 | DV14: =IF($AB$51>$AC$51,1,0) -> 0 | DW14: =IF($AB$45>$AC$45,1,0) -> 0 | DX14: =IF($AB$45<$AC$45,1,0) -> 0 | DY14: 11
A15: 12 | B15: SELÇUK KURT | C15: =TEXT($AC$4,$AC$4)&TEXT("-","-")&TEXT($AB$4,$AB$4) -> 0-3 | D15: =TEXT($AB$39,$AB$39)&TEXT("-","-")&TEXT($AC$39,$AC$39) -> - | E15: =TEXT($AC$65,$AC$65)&TEXT("-","-")&TEXT($AB$65,$AB$65) -> - | F15: =TEXT($AB$32,$AB$32)&TEXT("-","-")&TEXT($AC$32,$AC$32) -> - | G15: =TEXT($AC$60,$AC$60)&TEXT("-","-")&TEXT($AB$60,$AB$60) -> - | H15: =TEXT($AB$25,$AB$25)&TEXT("-","-")&TEXT($AC$25,$AC$25) -> 0-3 | I15: =TEXT($AC$55,$AC$55)&TEXT("-","-")&TEXT($AB$55,$AB$55) -> - | J15: =TEXT($AB$18,$AB$18)&TEXT("-","-")&TEXT($AC$18,$AC$18) -> 3-2 | K15: =TEXT($AC$50,$AC$50)&TEXT("-","-")&TEXT($AB$50,$AB$50) -> - | L15: =TEXT($AB$11,$AB$11)&TEXT("-","-")&TEXT($AC$11,$AC$11) -> 0-3 | M15: =TEXT($AC$45,$AC$45)&TEXT("-","-")&TEXT($AB$45,$AB$45) -> - | O15: =SUM(DC15+DE15+DG15+DI15+DK15+DM15+DO15+DQ15+DS15+DU15+DW15) -> 1 | P15: =SUM(DD15+DF15+DH15+DJ15+DL15+DN15+DP15+DR15+DT15+DV15+DX15) -> 3 | Q15: =SUM(O15*2+P15*1) -> 5 | R15: =RANK(Q15,$Q$4:$Q$15,0) -> 8 | S15: =R15 -> 8 | U15: 12 | V15: 5-6 | W15: 45278 | X15: 0.79166667 | Y15: 1 | Z15: =REPT($B$8,1) -> ALADDİN ÖZDEMİR | AA15: =REPT($B$9,1) -> SELİM ERTUĞTUL | AB15: 3 | AC15: 0 | AD15: 11 | AE15: 7 | AF15: 11 | AG15: 8 | AH15: 11 | AI15: 7 | AT15: =IF(AD15>AE15,1,0) -> 1 | AU15: =IF(AE15>AD15,1,0) -> 0 | AV15: =IF(AF15>AG15,1,0) -> 1 | AW15: =IF(AG15>AF15,1,0) -> 0 | AX15: =IF(AH15>AI15,1,0) -> 1 | AY15: =IF(AI15>AH15,1,0) -> 0 | AZ15: =IF(AJ15>AK15,1,0) -> 0 | BA15: =IF(AK15>AJ15,1,0) -> 0 | BB15: =IF(AL15>AM15,1,0) -> 0 | BC15: =IF(AM15>AL15,1,0) -> 0 | BD15: =IF(AN15>AO15,1,0) -> 0 | BE15: =IF(AO15>AN15,1,0) -> 0 | BF15: =IF(AP15>AQ15,1,0) -> 0 | BG15: =IF(AQ15>AP15,1,0) -> 0 | BI15: =IF(AB15>AC15,1,0) -> 1 | BJ15: =IF(AB15<AC15,1,0) -> 0 | DB15: 12 | DC15: =IF($AB$4<$AC$4,1,0) -> 0 | DD15: =IF($AB$4>$AC$4,1,0) -> 1 | DE15: =IF($AB$39>$AC$39,1,0) -> 0 | DF15: =IF($AB$39<$AC$39,1,0) -> 0 | DG15: =IF($AB$65<$AC$65,1,0) -> 0 | DH15: =IF($AB$65>$AC$65,1,0) -> 0 | DI15: =IF($AB$32>$AC$32,1,0) -> 0 | DJ15: =IF($AB$32<$AC$32,1,0) -> 0 | DK15: =IF($AB$60<$AC$60,1,0) -> 0 | DL15: =IF($AB$60>$AC$60,1,0) -> 0 | DM15: =IF($AC$25<$AB$25,1,0) -> 0 | DN15: =IF($AC$25>$AB$25,1,0) -> 1 | DO15: =IF($AB$55<$AC$55,1,0) -> 0 | DP15: =IF($AB$55>$AC$55,1,0) -> 0 | DQ15: =IF($AC$18<$AB$18,1,0) -> 1 | DR15: =IF($AC$18>$AB$18,1,0) -> 0 | DS15: =IF($AB$50<$AC$50,1,0) -> 0 | DT15: =IF($AB$50>$AC$50,1,0) -> 0 | DU15: =IF($AC$11<$AB$11,1,0) -> 0 | DV15: =IF($AC$11>$AB$11,1,0) -> 1 | DW15: =IF($AB$45<$AC$45,1,0) -> 0 | DX15: =IF($AB$45>$AC$45,1,0) -> 0 | DY15: 12
U16: 13 | V16: 1-10 | W16: 45278 | X16: 0.83333333 | Y16: 3 | Z16: =REPT($B$4,1) -> FATİH KAYA | AA16: =REPT($B$13,1) -> ÇETİN KAPTANOĞLU | AB16: 3 | AC16: 1 | AD16: 11 | AE16: 5 | AF16: 11 | AG16: 6 | AH16: 12 | AI16: 14 | AJ16: 11 | AK16: 6 | AT16: =IF(AD16>AE16,1,0) -> 1 | AU16: =IF(AE16>AD16,1,0) -> 0 | AV16: =IF(AF16>AG16,1,0) -> 1 | AW16: =IF(AG16>AF16,1,0) -> 0 | AX16: =IF(AH16>AI16,1,0) -> 0 | AY16: =IF(AI16>AH16,1,0) -> 1 | AZ16: =IF(AJ16>AK16,1,0) -> 1 | BA16: =IF(AK16>AJ16,1,0) -> 0 | BB16: =IF(AL16>AM16,1,0) -> 0 | BC16: =IF(AM16>AL16,1,0) -> 0 | BD16: =IF(AN16>AO16,1,0) -> 0 | BE16: =IF(AO16>AN16,1,0) -> 0 | BF16: =IF(AP16>AQ16,1,0) -> 0 | BG16: =IF(AQ16>AP16,1,0) -> 0 | BI16: =IF(AB16>AC16,1,0) -> 1 | BJ16: =IF(AB16<AC16,1,0) -> 0
A17: =U1 -> SÜPER LİG | U17: 14 | V17: 11-9 | W17: 45278 | X17: 0.83333333 | Y17: 4 | Z17: =REPT($B$14,1) -> HAMDİ ÖZKAN | AA17: =REPT($B$12,1) -> KAMİL BÖRÜBAN | AB17: 2 | AC17: 3 | AD17: 11 | AE17: 7 | AF17: 3 | AG17: 11 | AH17: 0 | AI17: 11 | AJ17: 11 | AK17: 8 | AL17: 7 | AM17: 11 | AT17: =IF(AD17>AE17,1,0) -> 1 | AU17: =IF(AE17>AD17,1,0) -> 0 | AV17: =IF(AF17>AG17,1,0) -> 0 | AW17: =IF(AG17>AF17,1,0) -> 1 | AX17: =IF(AH17>AI17,1,0) -> 0 | AY17: =IF(AI17>AH17,1,0) -> 1 | AZ17: =IF(AJ17>AK17,1,0) -> 1 | BA17: =IF(AK17>AJ17,1,0) -> 0 | BB17: =IF(AL17>AM17,1,0) -> 0 | BC17: =IF(AM17>AL17,1,0) -> 1 | BD17: =IF(AN17>AO17,1,0) -> 0 | BE17: =IF(AO17>AN17,1,0) -> 0 | BF17: =IF(AP17>AQ17,1,0) -> 0 | BG17: =IF(AQ17>AP17,1,0) -> 0 | BI17: =IF(AB17>AC17,1,0) -> 0 | BJ17: =IF(AB17<AC17,1,0) -> 1
A18: SIRALAMA | U18: 15 | V18: 12-8 | W18: 45278 | X18: 0.83333333 | Y18: 5 | Z18: =REPT($B$15,1) -> SELÇUK KURT | AA18: =REPT($B$11,1) -> MUSTAFA KURTUL | AB18: 3 | AC18: 2 | AD18: 3 | AE18: 11 | AF18: 7 | AG18: 11 | AH18: 11 | AI18: 9 | AJ18: 11 | AK18: 9 | AL18: 14 | AM18: 12 | AT18: =IF(AD18>AE18,1,0) -> 0 | AU18: =IF(AE18>AD18,1,0) -> 1 | AV18: =IF(AF18>AG18,1,0) -> 0 | AW18: =IF(AG18>AF18,1,0) -> 1 | AX18: =IF(AH18>AI18,1,0) -> 1 | AY18: =IF(AI18>AH18,1,0) -> 0 | AZ18: =IF(AJ18>AK18,1,0) -> 1 | BA18: =IF(AK18>AJ18,1,0) -> 0 | BB18: =IF(AL18>AM18,1,0) -> 1 | BC18: =IF(AM18>AL18,1,0) -> 0 | BD18: =IF(AN18>AO18,1,0) -> 0 | BE18: =IF(AO18>AN18,1,0) -> 0 | BF18: =IF(AP18>AQ18,1,0) -> 0 | BG18: =IF(AQ18>AP18,1,0) -> 0 | BI18: =IF(AB18>AC18,1,0) -> 1 | BJ18: =IF(AB18<AC18,1,0) -> 0 | DC18: < | DD18: > | DE18: < | DF18: > | DG18: < | DH18: > | DI18: < | DJ18: > | DK18: < | DL18: > | DM18: < | DN18: > | DO18: < | DP18: > | DQ18: < | DR18: > | DS18: < | DT18: >
A19: Adı Soyadı | C19: Kulübü | J19: İli | N19: O | O19: G | P19: M | Q19: P | S19: S | U19: 16 | V19: 2-7 | W19: 45278 | X19: 0.83333333 | Y19: 6 | Z19: =REPT($B$5,1) -> MUSTAFA DEMİR | AA19: =REPT($B$10,1) -> MURAT ÖZKARS | AB19: 3 | AC19: 0 | AD19: 11 | AE19: 4 | AF19: 11 | AG19: 6 | AH19: 11 | AI19: 5 | AT19: =IF(AD19>AE19,1,0) -> 1 | AU19: =IF(AE19>AD19,1,0) -> 0 | AV19: =IF(AF19>AG19,1,0) -> 1 | AW19: =IF(AG19>AF19,1,0) -> 0 | AX19: =IF(AH19>AI19,1,0) -> 1 | AY19: =IF(AI19>AH19,1,0) -> 0 | AZ19: =IF(AJ19>AK19,1,0) -> 0 | BA19: =IF(AK19>AJ19,1,0) -> 0 | BB19: =IF(AL19>AM19,1,0) -> 0 | BC19: =IF(AM19>AL19,1,0) -> 0 | BD19: =IF(AN19>AO19,1,0) -> 0 | BE19: =IF(AO19>AN19,1,0) -> 0 | BF19: =IF(AP19>AQ19,1,0) -> 0 | BG19: =IF(AQ19>AP19,1,0) -> 0 | BI19: =IF(AB19>AC19,1,0) -> 1 | BJ19: =IF(AB19<AC19,1,0) -> 0 | DC19: V | DD19: L | DE19: V | DF19: L | DG19: V | DH19: L | DI19: V | DJ19: L | DK19: V | DL19: L | DM19: V | DN19: L | DO19: V | DP19: L | DQ19: V | DR19: L | DS19: V | DT19: L
A20: 1 | U20: 17 | V20: 3-6 | W20: 45278 | X20: 0.83333333 | Y20: 1 | Z20: =REPT($B$6,1) -> RAMAZAN KAPTANOĞLU | AA20: =REPT($B$9,1) -> SELİM ERTUĞTUL | AB20: 3 | AC20: 0 | AD20: 11 | AE20: 5 | AF20: 11 | AG20: 6 | AH20: 11 | AI20: 9 | AT20: =IF(AD20>AE20,1,0) -> 1 | AU20: =IF(AE20>AD20,1,0) -> 0 | AV20: =IF(AF20>AG20,1,0) -> 1 | AW20: =IF(AG20>AF20,1,0) -> 0 | AX20: =IF(AH20>AI20,1,0) -> 1 | AY20: =IF(AI20>AH20,1,0) -> 0 | AZ20: =IF(AJ20>AK20,1,0) -> 0 | BA20: =IF(AK20>AJ20,1,0) -> 0 | BB20: =IF(AL20>AM20,1,0) -> 0 | BC20: =IF(AM20>AL20,1,0) -> 0 | BD20: =IF(AN20>AO20,1,0) -> 0 | BE20: =IF(AO20>AN20,1,0) -> 0 | BF20: =IF(AP20>AQ20,1,0) -> 0 | BG20: =IF(AQ20>AP20,1,0) -> 0 | BI20: =IF(AB20>AC20,1,0) -> 1 | BJ20: =IF(AB20<AC20,1,0) -> 0 | DC20: =IF($Z$13>$AA$13,1,0) -> 1 | DD20: =IF($Z$13<$AA$13,1,0) -> 0 | DE20: =IF($AA$15>$Z$15,1,0) -> 1 | DF20: =IF($AA$15<$Z$15,1,0) -> 0 | DG20: =IF($Z$22>$AA$22,1,0) -> 1 | DH20: =IF($Z$22<$AA$22,1,0) -> 0 | DI20: =IF($AA$26>$Z$26,1,0) -> 0 | DJ20: =IF($AA$26<$Z$26,1,0) -> 1 | DK20: =IF($Z$31>$AA$31,1,0) -> 1 | DL20: =IF($Z$31<$AA$31,1,0) -> 0 | DM20: =IF($AA$37>$Z$37,1,0) -> 1 | DN20: =IF($AA$37<$Z$37,1,0) -> 0 | DO20: =IF($Z$40>$AA$40,1,0) -> 0 | DP20: =IF($Z$40<$AA$40,1,0) -> 1 | DQ20: =IF($AA$48>$Z$48,1,0) -> 1 | DR20: =IF($AA$48<$Z$48,1,0) -> 0 | DS20: =IF($Z$4>$AA$4,1,0) -> 0 | DT20: =IF($Z$4<$AA$4,1,0) -> 1
A21: 2 | U21: 18 | V21: 4-5 | W21: 45278 | X21: 0.83333333 | Y21: 2 | Z21: =REPT($B$7,1) -> FATİH YENİSOLAK | AA21: =REPT($B$8,1) -> ALADDİN ÖZDEMİR | AB21: 3 | AC21: 0 | AD21: 11 | AE21: 9 | AF21: 14 | AG21: 12 | AH21: 11 | AI21: 9 | AT21: =IF(AD21>AE21,1,0) -> 1 | AU21: =IF(AE21>AD21,1,0) -> 0 | AV21: =IF(AF21>AG21,1,0) -> 1 | AW21: =IF(AG21>AF21,1,0) -> 0 | AX21: =IF(AH21>AI21,1,0) -> 1 | AY21: =IF(AI21>AH21,1,0) -> 0 | AZ21: =IF(AJ21>AK21,1,0) -> 0 | BA21: =IF(AK21>AJ21,1,0) -> 0 | BB21: =IF(AL21>AM21,1,0) -> 0 | BC21: =IF(AM21>AL21,1,0) -> 0 | BD21: =IF(AN21>AO21,1,0) -> 0 | BE21: =IF(AO21>AN21,1,0) -> 0 | BF21: =IF(AP21>AQ21,1,0) -> 0 | BG21: =IF(AQ21>AP21,1,0) -> 0 | BI21: =IF(AB21>AC21,1,0) -> 1 | BJ21: =IF(AB21<AC21,1,0) -> 0 | DC21: =IF($Z$13<$AA$13,1,0) -> 0 | DD21: =IF($Z$13>$AA$13,1,0) -> 1 | DE21: =IF($Z$23>$AA$23,1,0) -> 0 | DF21: =IF($Z$23<$AA$23,1,0) -> 1 | DG21: =IF($AA$25>$Z$25,1,0) -> 1 | DH21: =IF($AA$25<$Z$25,1,0) -> 0 | DI21: =IF($Z$32>$AA$32,1,0) -> 1 | DJ21: =IF($Z$32<$AA$32,1,0) -> 0 | DK21: =IF($AA$36>$Z$36,1,0) -> 0 | DL21: =IF($AA$36<$Z$36,1,0) -> 1 | DM21: =IF($Z$41>$AA$41,1,0) -> 1 | DN21: =IF($Z$41<$AA$41,1,0) -> 0 | DO21: =IF($AA$47>$Z$47,1,0) -> 0 | DP21: =IF($AA$47<$Z$47,1,0) -> 1 | DQ21: =IF($Z$5>$AA$5,1,0) -> 1 | DR21: =IF($Z$5<$AA$5,1,0) -> 0 | DS21: =IF($Z$14>$AA$14,1,0) -> 0 | DT21: =IF($Z$14<$AA$14,1,0) -> 1
A22: 3 | U22: 19 | V22: 9-1 | W22: 45278 | X22: 0.875 | Y22: 4 | Z22: =REPT($B$12,1) -> KAMİL BÖRÜBAN | AA22: =REPT($B$4,1) -> FATİH KAYA | AB22: 0 | AC22: 3 | AD22: 5 | AE22: 11 | AF22: 5 | AG22: 11 | AH22: 8 | AI22: 11 | AT22: =IF(AD22>AE22,1,0) -> 0 | AU22: =IF(AE22>AD22,1,0) -> 1 | AV22: =IF(AF22>AG22,1,0) -> 0 | AW22: =IF(AG22>AF22,1,0) -> 1 | AX22: =IF(AH22>AI22,1,0) -> 0 | AY22: =IF(AI22>AH22,1,0) -> 1 | AZ22: =IF(AJ22>AK22,1,0) -> 0 | BA22: =IF(AK22>AJ22,1,0) -> 0 | BB22: =IF(AL22>AM22,1,0) -> 0 | BC22: =IF(AM22>AL22,1,0) -> 0 | BD22: =IF(AN22>AO22,1,0) -> 0 | BE22: =IF(AO22>AN22,1,0) -> 0 | BF22: =IF(AP22>AQ22,1,0) -> 0 | BG22: =IF(AQ22>AP22,1,0) -> 0 | BI22: =IF(AB22>AC22,1,0) -> 0 | BJ22: =IF(AB22<AC22,1,0) -> 1 | DC22: =IF($AA$15<$Z$15,1,0) -> 0 | DD22: =IF($AA$15>$Z$15,1,0) -> 1 | DE22: =IF($Z$23<$AA$23,1,0) -> 1 | DF22: =IF($Z$23>$AA$23,1,0) -> 0 | DG22: =IF($Z$33>$AA$33,1,0) -> 0 | DH22: =IF($Z$33<$AA$33,1,0) -> 1 | DI22: =IF($AA$35>$Z$35,1,0) -> 1 | DJ22: =IF($AA$35<$Z$35,1,0) -> 0 | DK22: =IF($Z$42>$AA$42,1,0) -> 1 | DL22: =IF($Z$42<$AA$42,1,0) -> 0 | DM22: =IF($AA$46>$Z$46,1,0) -> 1 | DN22: =IF($AA$46<$Z$46,1,0) -> 0 | DO22: =IF($Z$6>$AA$6,1,0) -> 1 | DP22: =IF($Z$6<$AA$6,1,0) -> 0 | DQ22: =IF($AA$12>$Z$12,1,0) -> 0 | DR22: =IF($AA$12<$Z$12,1,0) -> 1 | DS22: =IF($Z$24>$AA$24,1,0) -> 0 | DT22: =IF($Z$24<$AA$24,1,0) -> 1
A23: 4 | U23: 20 | V23: 10-8 | W23: 45278 | X23: 0.875 | Y23: 5 | Z23: =REPT($B$13,1) -> ÇETİN KAPTANOĞLU | AA23: =REPT($B$11,1) -> MUSTAFA KURTUL | AB23: 3 | AC23: 2 | AD23: 11 | AE23: 8 | AF23: 11 | AG23: 6 | AH23: 4 | AI23: 11 | AJ23: 4 | AK23: 11 | AL23: 11 | AM23: 9 | AT23: =IF(AD23>AE23,1,0) -> 1 | AU23: =IF(AE23>AD23,1,0) -> 0 | AV23: =IF(AF23>AG23,1,0) -> 1 | AW23: =IF(AG23>AF23,1,0) -> 0 | AX23: =IF(AH23>AI23,1,0) -> 0 | AY23: =IF(AI23>AH23,1,0) -> 1 | AZ23: =IF(AJ23>AK23,1,0) -> 0 | BA23: =IF(AK23>AJ23,1,0) -> 1 | BB23: =IF(AL23>AM23,1,0) -> 1 | BC23: =IF(AM23>AL23,1,0) -> 0 | BD23: =IF(AN23>AO23,1,0) -> 0 | BE23: =IF(AO23>AN23,1,0) -> 0 | BF23: =IF(AP23>AQ23,1,0) -> 0 | BG23: =IF(AQ23>AP23,1,0) -> 0 | BI23: =IF(AB23>AC23,1,0) -> 1 | BJ23: =IF(AB23<AC23,1,0) -> 0 | DC23: =IF($Z$22<$AA$22,1,0) -> 0 | DD23: =IF($Z$22>$AA$22,1,0) -> 1 | DE23: =IF($AA$25<$Z$25,1,0) -> 0 | DF23: =IF($AA$25>$Z$25,1,0) -> 1 | DG23: =IF($Z$33<$AA$33,1,0) -> 1 | DH23: =IF($Z$33>$AA$33,1,0) -> 0 | DI23: =IF($Z$43>$AA$43,1,0) -> 0 | DJ23: =IF($Z$43<$AA$43,1,0) -> 1 | DK23: =IF($AA$45>$Z$45,1,0) -> 1 | DL23: =IF($AA$45<$Z$45,1,0) -> 0 | DM23: =IF($Z$7>$AA$7,1,0) -> 0 | DN23: =IF($Z$7<$AA$7,1,0) -> 1 | DO23: =IF($AA$11>$Z$11,1,0) -> 0 | DP23: =IF($AA$11<$Z$11,1,0) -> 1 | DQ23: =IF($Z$16>$AA$16,1,0) -> 1 | DR23: =IF($Z$16<$AA$16,1,0) -> 0 | DS23: =IF($Z$34>$AA$34,1,0) -> 1 | DT23: =IF($Z$34<$AA$34,1,0) -> 0
A24: 5 | U24: 21 | V24: 11-7 | W24: 45278 | X24: 0.875 | Y24: 6 | Z24: =REPT($B$14,1) -> HAMDİ ÖZKAN | AA24: =REPT($B$10,1) -> MURAT ÖZKARS | AB24: 0 | AC24: 3 | AD24: 6 | AE24: 11 | AF24: 7 | AG24: 11 | AH24: 6 | AI24: 11 | AT24: =IF(AD24>AE24,1,0) -> 0 | AU24: =IF(AE24>AD24,1,0) -> 1 | AV24: =IF(AF24>AG24,1,0) -> 0 | AW24: =IF(AG24>AF24,1,0) -> 1 | AX24: =IF(AH24>AI24,1,0) -> 0 | AY24: =IF(AI24>AH24,1,0) -> 1 | AZ24: =IF(AJ24>AK24,1,0) -> 0 | BA24: =IF(AK24>AJ24,1,0) -> 0 | BB24: =IF(AL24>AM24,1,0) -> 0 | BC24: =IF(AM24>AL24,1,0) -> 0 | BD24: =IF(AN24>AO24,1,0) -> 0 | BE24: =IF(AO24>AN24,1,0) -> 0 | BF24: =IF(AP24>AQ24,1,0) -> 0 | BG24: =IF(AQ24>AP24,1,0) -> 0 | BI24: =IF(AB24>AC24,1,0) -> 0 | BJ24: =IF(AB24<AC24,1,0) -> 1 | DC24: =IF($AA$26<$Z$26,1,0) -> 1 | DD24: =IF($AA$26>$Z$26,1,0) -> 0 | DE24: =IF($Z$32<$AA$32,1,0) -> 0 | DF24: =IF($Z$32>$AA$32,1,0) -> 1 | DG24: =IF($AA$35<$Z$35,1,0) -> 0 | DH24: =IF($AA$35>$Z$35,1,0) -> 1 | DI24: =IF($Z$43<$AA$43,1,0) -> 1 | DJ24: =IF($Z$43>$AA$43,1,0) -> 0 | DK24: =IF($Z$8>$AA$8,1,0) -> 0 | DL24: =IF($Z$8<$AA$8,1,0) -> 1 | DM24: =IF($AA$10>$Z$10,1,0) -> 0 | DN24: =IF($AA$10<$Z$10,1,0) -> 1 | DO24: =IF($Z$17>$AA$17,1,0) -> 0 | DP24: =IF($Z$17<$AA$17,1,0) -> 1 | DQ24: =IF($AA$21>$Z$21,1,0) -> 0 | DR24: =IF($AA$21<$Z$21,1,0) -> 1 | DS24: =IF($Z$44>$AA$44,1,0) -> 0 | DT24: =IF($Z$44<$AA$44,1,0) -> 1
A25: 6 | U25: 22 | V25: 12-6 | W25: 45278 | X25: 0.875 | Y25: 1 | Z25: =REPT($B$15,1) -> SELÇUK KURT | AA25: =REPT($B$9,1) -> SELİM ERTUĞTUL | AB25: 0 | AC25: 3 | AD25: 7 | AE25: 11 | AF25: 12 | AG25: 14 | AH25: 3 | AI25: 11 | AT25: =IF(AD25>AE25,1,0) -> 0 | AU25: =IF(AE25>AD25,1,0) -> 1 | AV25: =IF(AF25>AG25,1,0) -> 0 | AW25: =IF(AG25>AF25,1,0) -> 1 | AX25: =IF(AH25>AI25,1,0) -> 0 | AY25: =IF(AI25>AH25,1,0) -> 1 | AZ25: =IF(AJ25>AK25,1,0) -> 0 | BA25: =IF(AK25>AJ25,1,0) -> 0 | BB25: =IF(AL25>AM25,1,0) -> 0 | BC25: =IF(AM25>AL25,1,0) -> 0 | BD25: =IF(AN25>AO25,1,0) -> 0 | BE25: =IF(AO25>AN25,1,0) -> 0 | BF25: =IF(AP25>AQ25,1,0) -> 0 | BG25: =IF(AQ25>AP25,1,0) -> 0 | BI25: =IF(AB25>AC25,1,0) -> 0 | BJ25: =IF(AB25<AC25,1,0) -> 1 | DC25: =IF($Z$31<$AA$31,1,0) -> 0 | DD25: =IF($Z$31>$AA$31,1,0) -> 1 | DE25: =IF($AA$36<$Z$36,1,0) -> 1 | DF25: =IF($AA$36>$Z$36,1,0) -> 0 | DG25: =IF($Z$42<$AA$42,1,0) -> 0 | DH25: =IF($Z$42>$AA$42,1,0) -> 1 | DI25: =IF($AA$45<$Z$45,1,0) -> 0 | DJ25: =IF($AA$45>$Z$45,1,0) -> 1 | DK25: =IF($Z$8<$AA$8,1,0) -> 1 | DL25: =IF($Z$8>$AA$8,1,0) -> 0 | DM25: =IF($Z$18>$AA$18,1,0) -> 1 | DN25: =IF($Z$18<$AA$18,1,0) -> 0 | DO25: =IF($AA$20>$Z$20,1,0) -> 1 | DP25: =IF($AA$20<$Z$20,1,0) -> 0 | DQ25: =IF($Z$27>$AA$27,1,0) -> 1 | DR25: =IF($Z$27<AC$27,1,0) -> 0 | DS25: =IF($AA$9>$Z$9,1,0) -> 0 | DT25: =IF($AA$9<$Z$9,1,0) -> 1
A26: 7 | U26: 23 | V26: 2-5 | W26: 45278 | X26: 0.875 | Y26: 2 | Z26: =REPT($B$5,1) -> MUSTAFA DEMİR | AA26: =REPT($B$8,1) -> ALADDİN ÖZDEMİR | AB26: 3 | AC26: 1 | AD26: 7 | AE26: 11 | AF26: 11 | AG26: 5 | AH26: 11 | AI26: 9 | AJ26: 11 | AK26: 7 | AT26: =IF(AD26>AE26,1,0) -> 0 | AU26: =IF(AE26>AD26,1,0) -> 1 | AV26: =IF(AF26>AG26,1,0) -> 1 | AW26: =IF(AG26>AF26,1,0) -> 0 | AX26: =IF(AH26>AI26,1,0) -> 1 | AY26: =IF(AI26>AH26,1,0) -> 0 | AZ26: =IF(AJ26>AK26,1,0) -> 1 | BA26: =IF(AK26>AJ26,1,0) -> 0 | BB26: =IF(AL26>AM26,1,0) -> 0 | BC26: =IF(AM26>AL26,1,0) -> 0 | BD26: =IF(AN26>AO26,1,0) -> 0 | BE26: =IF(AO26>AN26,1,0) -> 0 | BF26: =IF(AP26>AQ26,1,0) -> 0 | BG26: =IF(AQ26>AP26,1,0) -> 0 | BI26: =IF(AB26>AC26,1,0) -> 1 | BJ26: =IF(AB26<AC26,1,0) -> 0 | DC26: =IF($AA$37<$Z$37,1,0) -> 0 | DD26: =IF($AA$37>$Z$37,1,0) -> 1 | DE26: =IF($Z$41<$AA$41,1,0) -> 0 | DF26: =IF($Z$41>$AA$41,1,0) -> 1 | DG26: =IF($AA$46<$Z$46,1,0) -> 0 | DH26: =IF($AA$46>$Z$46,1,0) -> 1 | DI26: =IF($Z$7<$AA$7,1,0) -> 1 | DJ26: =IF($Z$7>$AA$7,1,0) -> 0 | DK26: =IF($AA$10<$Z$10,1,0) -> 1 | DL26: =IF($AA$10>$Z$10,1,0) -> 0 | DM26: =IF($Z$18<$AA$18,1,0) -> 0 | DN26: =IF($Z$18>$AA$18,1,0) -> 1 | DO26: =IF($Z$28>$AA$28,1,0) -> 0 | DP26: =IF($Z$28<$AA$28,1,0) -> 1 | DQ26: =IF($AA$30>$Z$30,1,0) -> 1 | DR26: =IF($AA$30<$Z$30,1,0) -> 0 | DS26: =IF($AA$19>$Z$19,1,0) -> 0 | DT26: =IF($AA$19<$Z$19,1,0) -> 1
A27: 8 | U27: 24 | V27: 3-4 | W27: 45278 | X27: 0.875 | Y27: 3 | Z27: =REPT($B$6,1) -> RAMAZAN KAPTANOĞLU | AA27: =REPT($B$7,1) -> FATİH YENİSOLAK | AB27: 3 | AC27: 1 | AD27: 11 | AE27: 9 | AF27: 11 | AG27: 6 | AH27: 7 | AI27: 11 | AJ27: 11 | AK27: 4 | AT27: =IF(AD27>AE27,1,0) -> 1 | AU27: =IF(AE27>AD27,1,0) -> 0 | AV27: =IF(AF27>AG27,1,0) -> 1 | AW27: =IF(AG27>AF27,1,0) -> 0 | AX27: =IF(AH27>AI27,1,0) -> 0 | AY27: =IF(AI27>AH27,1,0) -> 1 | AZ27: =IF(AJ27>AK27,1,0) -> 1 | BA27: =IF(AK27>AJ27,1,0) -> 0 | BB27: =IF(AL27>AM27,1,0) -> 0 | BC27: =IF(AM27>AL27,1,0) -> 0 | BD27: =IF(AN27>AO27,1,0) -> 0 | BE27: =IF(AO27>AN27,1,0) -> 0 | BF27: =IF(AP27>AQ27,1,0) -> 0 | BG27: =IF(AQ27>AP27,1,0) -> 0 | BI27: =IF(AB27>AC27,1,0) -> 1 | BJ27: =IF(AB27<AC27,1,0) -> 0 | DC27: =IF($Z$40<$AA$40,1,0) -> 1 | DD27: =IF($Z$40>$AA$40,1,0) -> 0 | DE27: =IF($AA$47<$Z$47,1,0) -> 1 | DF27: =IF($AA$47>$Z$47,1,0) -> 0 | DG27: =IF($Z$6<$AA$6,1,0) -> 0 | DH27: =IF($Z$6>$AA$6,1,0) -> 1 | DI27: =IF($AA$11<$Z$11,1,0) -> 1 | DJ27: =IF($AA$11>$Z$11,1,0) -> 0 | DK27: =IF($Z$17<$AA$17,1,0) -> 1 | DL27: =IF($Z$17>$AA$17,1,0) -> 0 | DM27: =IF($AA$20<$Z$20,1,0) -> 0 | DN27: =IF($AA$20>$Z$20,1,0) -> 1 | DO27: =IF($Z$28<$AA$28,1,0) -> 1 | DP27: =IF($Z$28>$AA$28,1,0) -> 0 | DQ27: =IF($Z$38>$AA$38,1,0) -> 0 | DR27: =IF($Z$38<$AA$38,1,0) -> 1 | DS27: =IF($AA$29>$Z$29,1,0) -> 1 | DT27: =IF($AA$29<$Z$29,1,0) -> 0
A28: 9 | U28: 25 | V28: 1-8 | W28: 45280 | X28: 0.75 | Y28: 5 | Z28: =REPT($B$4,1) -> FATİH KAYA | AA28: =REPT($B$11,1) -> MUSTAFA KURTUL | AT28: =IF(AD28>AE28,1,0) -> 0 | AU28: =IF(AE28>AD28,1,0) -> 0 | AV28: =IF(AF28>AG28,1,0) -> 0 | AW28: =IF(AG28>AF28,1,0) -> 0 | AX28: =IF(AH28>AI28,1,0) -> 0 | AY28: =IF(AI28>AH28,1,0) -> 0 | AZ28: =IF(AJ28>AK28,1,0) -> 0 | BA28: =IF(AK28>AJ28,1,0) -> 0 | BB28: =IF(AL28>AM28,1,0) -> 0 | BC28: =IF(AM28>AL28,1,0) -> 0 | BD28: =IF(AN28>AO28,1,0) -> 0 | BE28: =IF(AO28>AN28,1,0) -> 0 | BF28: =IF(AP28>AQ28,1,0) -> 0 | BG28: =IF(AQ28>AP28,1,0) -> 0 | BI28: =IF(AB28>AC28,1,0) -> 0 | BJ28: =IF(AB28<AC28,1,0) -> 0 | DC28: =IF($AA$48<$Z$48,1,0) -> 0 | DD28: =IF($AA$48>$Z$48,1,0) -> 1 | DE28: =IF($Z$5<$AA$5,1,0) -> 0 | DF28: =IF($Z$5>$AA$5,1,0) -> 1 | DG28: =IF($AA$12<$Z$12,1,0) -> 1 | DH28: =IF($AA$12>$Z$12,1,0) -> 0 | DI28: =IF($Z$16<$AA$16,1,0) -> 0 | DJ28: =IF($Z$16>$AA$16,1,0) -> 1 | DK28: =IF($AA$21<$Z$21,1,0) -> 1 | DL28: =IF($AA$21>$Z$21,1,0) -> 0 | DM28: =IF($Z$27<$AA$27,1,0) -> 0 | DN28: =IF($Z$27>$AA$27,1,0) -> 1 | DO28: =IF($AA$30<$Z$30,1,0) -> 0 | DP28: =IF($AA$30>$Z$30,1,0) -> 1 | DQ28: =IF($Z$38<$AA$38,1,0) -> 1 | DR28: =IF($Z$38>$AA$38,1,0) -> 0 | DS28: =IF($AA$39>$Z$39,1,0) -> 0 | DT28: =IF($AA$39<$Z$39,1,0) -> 1
A29: 10 | U29: 26 | V29: 9-7 | W29: 45280 | X29: 0.75 | Y29: 6 | Z29: =REPT($B$12,1) -> KAMİL BÖRÜBAN | AA29: =REPT($B$10,1) -> MURAT ÖZKARS | AT29: =IF(AD29>AE29,1,0) -> 0 | AU29: =IF(AE29>AD29,1,0) -> 0 | AV29: =IF(AF29>AG29,1,0) -> 0 | AW29: =IF(AG29>AF29,1,0) -> 0 | AX29: =IF(AH29>AI29,1,0) -> 0 | AY29: =IF(AI29>AH29,1,0) -> 0 | AZ29: =IF(AJ29>AK29,1,0) -> 0 | BA29: =IF(AK29>AJ29,1,0) -> 0 | BB29: =IF(AL29>AM29,1,0) -> 0 | BC29: =IF(AM29>AL29,1,0) -> 0 | BD29: =IF(AN29>AO29,1,0) -> 0 | BE29: =IF(AO29>AN29,1,0) -> 0 | BF29: =IF(AP29>AQ29,1,0) -> 0 | BG29: =IF(AQ29>AP29,1,0) -> 0 | BI29: =IF(AB29>AC29,1,0) -> 0 | BJ29: =IF(AB29<AC29,1,0) -> 0 | DC29: =IF($Z$4<$AA$4,1,0) -> 1 | DD29: =IF($Z$4>$AA$4,1,0) -> 0 | DE29: =IF($Z$14<$AA$14,1,0) -> 1 | DF29: =IF($Z$14>$AA$14,1,0) -> 0 | DG29: =IF($Z$24<$AA$24,1,0) -> 1 | DH29: =IF($Z$24>$AA$24,1,0) -> 0 | DI29: =IF($Z$34<$AA$34,1,0) -> 0 | DJ29: =IF($Z$34>$AA$34,1,0) -> 1 | DK29: =IF($Z$44<$AA$44,1,0) -> 1 | DL29: =IF($Z$44>$AA$44,1,0) -> 0 | DM29: =IF($AA$9<$Z$9,1,0) -> 1 | DN29: =IF($AA$9>$Z$9,1,0) -> 0 | DO29: =IF($AA$19<$Z$19,1,0) -> 1 | DP29: =IF($AA$19>$Z$19,1,0) -> 0 | DQ29: =IF($AA$29<$Z$29,1,0) -> 0 | DR29: =IF($AA$29>$Z$29,1,0) -> 1 | DS29: =IF($AA$39<$Z$39,1,0) -> 1 | DT29: =IF($AA$39>$Z$39,1,0) -> 0
A30: 11 | U30: 27 | V30: 10-6 | W30: 45280 | X30: 0.75 | Y30: 1 | Z30: =REPT($B$13,1) -> ÇETİN KAPTANOĞLU | AA30: =REPT($B$9,1) -> SELİM ERTUĞTUL | AT30: =IF(AD30>AE30,1,0) -> 0 | AU30: =IF(AE30>AD30,1,0) -> 0 | AV30: =IF(AF30>AG30,1,0) -> 0 | AW30: =IF(AG30>AF30,1,0) -> 0 | AX30: =IF(AH30>AI30,1,0) -> 0 | AY30: =IF(AI30>AH30,1,0) -> 0 | AZ30: =IF(AJ30>AK30,1,0) -> 0 | BA30: =IF(AK30>AJ30,1,0) -> 0 | BB30: =IF(AL30>AM30,1,0) -> 0 | BC30: =IF(AM30>AL30,1,0) -> 0 | BD30: =IF(AN30>AO30,1,0) -> 0 | BE30: =IF(AO30>AN30,1,0) -> 0 | BF30: =IF(AP30>AQ30,1,0) -> 0 | BG30: =IF(AQ30>AP30,1,0) -> 0 | BI30: =IF(AB30>AC30,1,0) -> 0 | BJ30: =IF(AB30<AC30,1,0) -> 0
A31: 12 | U31: 28 | V31: 11-5 | W31: 45280 | X31: 0.75 | Y31: 2 | Z31: =REPT($B$14,1) -> HAMDİ ÖZKAN | AA31: =REPT($B$8,1) -> ALADDİN ÖZDEMİR | AT31: =IF(AD31>AE31,1,0) -> 0 | AU31: =IF(AE31>AD31,1,0) -> 0 | AV31: =IF(AF31>AG31,1,0) -> 0 | AW31: =IF(AG31>AF31,1,0) -> 0 | AX31: =IF(AH31>AI31,1,0) -> 0 | AY31: =IF(AI31>AH31,1,0) -> 0 | AZ31: =IF(AJ31>AK31,1,0) -> 0 | BA31: =IF(AK31>AJ31,1,0) -> 0 | BB31: =IF(AL31>AM31,1,0) -> 0 | BC31: =IF(AM31>AL31,1,0) -> 0 | BD31: =IF(AN31>AO31,1,0) -> 0 | BE31: =IF(AO31>AN31,1,0) -> 0 | BF31: =IF(AP31>AQ31,1,0) -> 0 | BG31: =IF(AQ31>AP31,1,0) -> 0 | BI31: =IF(AB31>AC31,1,0) -> 0 | BJ31: =IF(AB31<AC31,1,0) -> 0
U32: 29 | V32: 12-4 | W32: 45280 | X32: 0.75 | Y32: 3 | Z32: =REPT($B$15,1) -> SELÇUK KURT | AA32: =REPT($B$7,1) -> FATİH YENİSOLAK | AT32: =IF(AD32>AE32,1,0) -> 0 | AU32: =IF(AE32>AD32,1,0) -> 0 | AV32: =IF(AF32>AG32,1,0) -> 0 | AW32: =IF(AG32>AF32,1,0) -> 0 | AX32: =IF(AH32>AI32,1,0) -> 0 | AY32: =IF(AI32>AH32,1,0) -> 0 | AZ32: =IF(AJ32>AK32,1,0) -> 0 | BA32: =IF(AK32>AJ32,1,0) -> 0 | BB32: =IF(AL32>AM32,1,0) -> 0 | BC32: =IF(AM32>AL32,1,0) -> 0 | BD32: =IF(AN32>AO32,1,0) -> 0 | BE32: =IF(AO32>AN32,1,0) -> 0 | BF32: =IF(AP32>AQ32,1,0) -> 0 | BG32: =IF(AQ32>AP32,1,0) -> 0 | BI32: =IF(AB32>AC32,1,0) -> 0 | BJ32: =IF(AB32<AC32,1,0) -> 0
U33: 30 | V33: 2-3 | W33: 45280 | X33: 0.75 | Y33: 4 | Z33: =REPT($B$5,1) -> MUSTAFA DEMİR | AA33: =REPT($B$6,1) -> RAMAZAN KAPTANOĞLU | AT33: =IF(AD33>AE33,1,0) -> 0 | AU33: =IF(AE33>AD33,1,0) -> 0 | AV33: =IF(AF33>AG33,1,0) -> 0 | AW33: =IF(AG33>AF33,1,0) -> 0 | AX33: =IF(AH33>AI33,1,0) -> 0 | AY33: =IF(AI33>AH33,1,0) -> 0 | AZ33: =IF(AJ33>AK33,1,0) -> 0 | BA33: =IF(AK33>AJ33,1,0) -> 0 | BB33: =IF(AL33>AM33,1,0) -> 0 | BC33: =IF(AM33>AL33,1,0) -> 0 | BD33: =IF(AN33>AO33,1,0) -> 0 | BE33: =IF(AO33>AN33,1,0) -> 0 | BF33: =IF(AP33>AQ33,1,0) -> 0 | BG33: =IF(AQ33>AP33,1,0) -> 0 | BI33: =IF(AB33>AC33,1,0) -> 0 | BJ33: =IF(AB33<AC33,1,0) -> 0
U34: 31 | V34: 7-1 | W34: 45280 | X34: 0.79166667 | Y34: 6 | Z34: =REPT($B$10,1) -> MURAT ÖZKARS | AA34: =REPT($B$4,1) -> FATİH KAYA | AT34: =IF(AD34>AE34,1,0) -> 0 | AU34: =IF(AE34>AD34,1,0) -> 0 | AV34: =IF(AF34>AG34,1,0) -> 0 | AW34: =IF(AG34>AF34,1,0) -> 0 | AX34: =IF(AH34>AI34,1,0) -> 0 | AY34: =IF(AI34>AH34,1,0) -> 0 | AZ34: =IF(AJ34>AK34,1,0) -> 0 | BA34: =IF(AK34>AJ34,1,0) -> 0 | BB34: =IF(AL34>AM34,1,0) -> 0 | BC34: =IF(AM34>AL34,1,0) -> 0 | BD34: =IF(AN34>AO34,1,0) -> 0 | BE34: =IF(AO34>AN34,1,0) -> 0 | BF34: =IF(AP34>AQ34,1,0) -> 0 | BG34: =IF(AQ34>AP34,1,0) -> 0 | BI34: =IF(AB34>AC34,1,0) -> 0 | BJ34: =IF(AB34<AC34,1,0) -> 0
U35: 32 | V35: 8-6 | W35: 45280 | X35: 0.79166667 | Y35: 1 | Z35: =REPT($B$11,1) -> MUSTAFA KURTUL | AA35: =REPT($B$9,1) -> SELİM ERTUĞTUL | AT35: =IF(AD35>AE35,1,0) -> 0 | AU35: =IF(AE35>AD35,1,0) -> 0 | AV35: =IF(AF35>AG35,1,0) -> 0 | AW35: =IF(AG35>AF35,1,0) -> 0 | AX35: =IF(AH35>AI35,1,0) -> 0 | AY35: =IF(AI35>AH35,1,0) -> 0 | AZ35: =IF(AJ35>AK35,1,0) -> 0 | BA35: =IF(AK35>AJ35,1,0) -> 0 | BB35: =IF(AL35>AM35,1,0) -> 0 | BC35: =IF(AM35>AL35,1,0) -> 0 | BD35: =IF(AN35>AO35,1,0) -> 0 | BE35: =IF(AO35>AN35,1,0) -> 0 | BF35: =IF(AP35>AQ35,1,0) -> 0 | BG35: =IF(AQ35>AP35,1,0) -> 0 | BI35: =IF(AB35>AC35,1,0) -> 0 | BJ35: =IF(AB35<AC35,1,0) -> 0
U36: 33 | V36: 9-5 | W36: 45280 | X36: 0.79166667 | Y36: 2 | Z36: =REPT($B$12,1) -> KAMİL BÖRÜBAN | AA36: =REPT($B$8,1) -> ALADDİN ÖZDEMİR | AT36: =IF(AD36>AE36,1,0) -> 0 | AU36: =IF(AE36>AD36,1,0) -> 0 | AV36: =IF(AF36>AG36,1,0) -> 0 | AW36: =IF(AG36>AF36,1,0) -> 0 | AX36: =IF(AH36>AI36,1,0) -> 0 | AY36: =IF(AI36>AH36,1,0) -> 0 | AZ36: =IF(AJ36>AK36,1,0) -> 0 | BA36: =IF(AK36>AJ36,1,0) -> 0 | BB36: =IF(AL36>AM36,1,0) -> 0 | BC36: =IF(AM36>AL36,1,0) -> 0 | BD36: =IF(AN36>AO36,1,0) -> 0 | BE36: =IF(AO36>AN36,1,0) -> 0 | BF36: =IF(AP36>AQ36,1,0) -> 0 | BG36: =IF(AQ36>AP36,1,0) -> 0 | BI36: =IF(AB36>AC36,1,0) -> 0 | BJ36: =IF(AB36<AC36,1,0) -> 0
U37: 34 | V37: 10-4 | W37: 45280 | X37: 0.79166667 | Y37: 3 | Z37: =REPT($B$13,1) -> ÇETİN KAPTANOĞLU | AA37: =REPT($B$7,1) -> FATİH YENİSOLAK | AT37: =IF(AD37>AE37,1,0) -> 0 | AU37: =IF(AE37>AD37,1,0) -> 0 | AV37: =IF(AF37>AG37,1,0) -> 0 | AW37: =IF(AG37>AF37,1,0) -> 0 | AX37: =IF(AH37>AI37,1,0) -> 0 | AY37: =IF(AI37>AH37,1,0) -> 0 | AZ37: =IF(AJ37>AK37,1,0) -> 0 | BA37: =IF(AK37>AJ37,1,0) -> 0 | BB37: =IF(AL37>AM37,1,0) -> 0 | BC37: =IF(AM37>AL37,1,0) -> 0 | BD37: =IF(AN37>AO37,1,0) -> 0 | BE37: =IF(AO37>AN37,1,0) -> 0 | BF37: =IF(AP37>AQ37,1,0) -> 0 | BG37: =IF(AQ37>AP37,1,0) -> 0 | BI37: =IF(AB37>AC37,1,0) -> 0 | BJ37: =IF(AB37<AC37,1,0) -> 0
U38: 35 | V38: 11-3 | W38: 45280 | X38: 0.79166667 | Y38: 4 | Z38: =REPT($B$14,1) -> HAMDİ ÖZKAN | AA38: =REPT($B$6,1) -> RAMAZAN KAPTANOĞLU | AT38: =IF(AD38>AE38,1,0) -> 0 | AU38: =IF(AE38>AD38,1,0) -> 0 | AV38: =IF(AF38>AG38,1,0) -> 0 | AW38: =IF(AG38>AF38,1,0) -> 0 | AX38: =IF(AH38>AI38,1,0) -> 0 | AY38: =IF(AI38>AH38,1,0) -> 0 | AZ38: =IF(AJ38>AK38,1,0) -> 0 | BA38: =IF(AK38>AJ38,1,0) -> 0 | BB38: =IF(AL38>AM38,1,0) -> 0 | BC38: =IF(AM38>AL38,1,0) -> 0 | BD38: =IF(AN38>AO38,1,0) -> 0 | BE38: =IF(AO38>AN38,1,0) -> 0 | BF38: =IF(AP38>AQ38,1,0) -> 0 | BG38: =IF(AQ38>AP38,1,0) -> 0 | BI38: =IF(AB38>AC38,1,0) -> 0 | BJ38: =IF(AB38<AC38,1,0) -> 0
U39: 36 | V39: 12-2 | W39: 45280 | X39: 0.79166667 | Y39: 5 | Z39: =REPT($B$15,1) -> SELÇUK KURT | AA39: =REPT($B$5,1) -> MUSTAFA DEMİR | AT39: =IF(AD39>AE39,1,0) -> 0 | AU39: =IF(AE39>AD39,1,0) -> 0 | AV39: =IF(AF39>AG39,1,0) -> 0 | AW39: =IF(AG39>AF39,1,0) -> 0 | AX39: =IF(AH39>AI39,1,0) -> 0 | AY39: =IF(AI39>AH39,1,0) -> 0 | AZ39: =IF(AJ39>AK39,1,0) -> 0 | BA39: =IF(AK39>AJ39,1,0) -> 0 | BB39: =IF(AL39>AM39,1,0) -> 0 | BC39: =IF(AM39>AL39,1,0) -> 0 | BD39: =IF(AN39>AO39,1,0) -> 0 | BE39: =IF(AO39>AN39,1,0) -> 0 | BF39: =IF(AP39>AQ39,1,0) -> 0 | BG39: =IF(AQ39>AP39,1,0) -> 0 | BI39: =IF(AB39>AC39,1,0) -> 0 | BJ39: =IF(AB39<AC39,1,0) -> 0
U40: 37 | V40: 1-6 | W40: 45280 | X40: 0.83333333 | Y40: 1 | Z40: =REPT($B$4,1) -> FATİH KAYA | AA40: =REPT($B$9,1) -> SELİM ERTUĞTUL | AT40: =IF(AD40>AE40,1,0) -> 0 | AU40: =IF(AE40>AD40,1,0) -> 0 | AV40: =IF(AF40>AG40,1,0) -> 0 | AW40: =IF(AG40>AF40,1,0) -> 0 | AX40: =IF(AH40>AI40,1,0) -> 0 | AY40: =IF(AI40>AH40,1,0) -> 0 | AZ40: =IF(AJ40>AK40,1,0) -> 0 | BA40: =IF(AK40>AJ40,1,0) -> 0 | BB40: =IF(AL40>AM40,1,0) -> 0 | BC40: =IF(AM40>AL40,1,0) -> 0 | BD40: =IF(AN40>AO40,1,0) -> 0 | BE40: =IF(AO40>AN40,1,0) -> 0 | BF40: =IF(AP40>AQ40,1,0) -> 0 | BG40: =IF(AQ40>AP40,1,0) -> 0 | BI40: =IF(AB40>AC40,1,0) -> 0 | BJ40: =IF(AB40<AC40,1,0) -> 0
U41: 38 | V41: 7-5 | W41: 45280 | X41: 0.83333333 | Y41: 2 | Z41: =REPT($B$10,1) -> MURAT ÖZKARS | AA41: =REPT($B$8,1) -> ALADDİN ÖZDEMİR | AT41: =IF(AD41>AE41,1,0) -> 0 | AU41: =IF(AE41>AD41,1,0) -> 0 | AV41: =IF(AF41>AG41,1,0) -> 0 | AW41: =IF(AG41>AF41,1,0) -> 0 | AX41: =IF(AH41>AI41,1,0) -> 0 | AY41: =IF(AI41>AH41,1,0) -> 0 | AZ41: =IF(AJ41>AK41,1,0) -> 0 | BA41: =IF(AK41>AJ41,1,0) -> 0 | BB41: =IF(AL41>AM41,1,0) -> 0 | BC41: =IF(AM41>AL41,1,0) -> 0 | BD41: =IF(AN41>AO41,1,0) -> 0 | BE41: =IF(AO41>AN41,1,0) -> 0 | BF41: =IF(AP41>AQ41,1,0) -> 0 | BG41: =IF(AQ41>AP41,1,0) -> 0 | BI41: =IF(AB41>AC41,1,0) -> 0 | BJ41: =IF(AB41<AC41,1,0) -> 0
U42: 39 | V42: 8-4 | W42: 45280 | X42: 0.83333333 | Y42: 3 | Z42: =REPT($B$11,1) -> MUSTAFA KURTUL | AA42: =REPT($B$7,1) -> FATİH YENİSOLAK | AT42: =IF(AD42>AE42,1,0) -> 0 | AU42: =IF(AE42>AD42,1,0) -> 0 | AV42: =IF(AF42>AG42,1,0) -> 0 | AW42: =IF(AG42>AF42,1,0) -> 0 | AX42: =IF(AH42>AI42,1,0) -> 0 | AY42: =IF(AI42>AH42,1,0) -> 0 | AZ42: =IF(AJ42>AK42,1,0) -> 0 | BA42: =IF(AK42>AJ42,1,0) -> 0 | BB42: =IF(AL42>AM42,1,0) -> 0 | BC42: =IF(AM42>AL42,1,0) -> 0 | BD42: =IF(AN42>AO42,1,0) -> 0 | BE42: =IF(AO42>AN42,1,0) -> 0 | BF42: =IF(AP42>AQ42,1,0) -> 0 | BG42: =IF(AQ42>AP42,1,0) -> 0 | BI42: =IF(AB42>AC42,1,0) -> 0 | BJ42: =IF(AB42<AC42,1,0) -> 0
U43: 40 | V43: 9-3 | W43: 45280 | X43: 0.83333333 | Y43: 4 | Z43: =REPT($B$12,1) -> KAMİL BÖRÜBAN | AA43: =REPT($B$6,1) -> RAMAZAN KAPTANOĞLU | AT43: =IF(AD43>AE43,1,0) -> 0 | AU43: =IF(AE43>AD43,1,0) -> 0 | AV43: =IF(AF43>AG43,1,0) -> 0 | AW43: =IF(AG43>AF43,1,0) -> 0 | AX43: =IF(AH43>AI43,1,0) -> 0 | AY43: =IF(AI43>AH43,1,0) -> 0 | AZ43: =IF(AJ43>AK43,1,0) -> 0 | BA43: =IF(AK43>AJ43,1,0) -> 0 | BB43: =IF(AL43>AM43,1,0) -> 0 | BC43: =IF(AM43>AL43,1,0) -> 0 | BD43: =IF(AN43>AO43,1,0) -> 0 | BE43: =IF(AO43>AN43,1,0) -> 0 | BF43: =IF(AP43>AQ43,1,0) -> 0 | BG43: =IF(AQ43>AP43,1,0) -> 0 | BI43: =IF(AB43>AC43,1,0) -> 0 | BJ43: =IF(AB43<AC43,1,0) -> 0
U44: 41 | V44: 10-2 | W44: 45280 | X44: 0.83333333 | Y44: 5 | Z44: =REPT($B$13,1) -> ÇETİN KAPTANOĞLU | AA44: =REPT($B$5,1) -> MUSTAFA DEMİR | AT44: =IF(AD44>AE44,1,0) -> 0 | AU44: =IF(AE44>AD44,1,0) -> 0 | AV44: =IF(AF44>AG44,1,0) -> 0 | AW44: =IF(AG44>AF44,1,0) -> 0 | AX44: =IF(AH44>AI44,1,0) -> 0 | AY44: =IF(AI44>AH44,1,0) -> 0 | AZ44: =IF(AJ44>AK44,1,0) -> 0 | BA44: =IF(AK44>AJ44,1,0) -> 0 | BB44: =IF(AL44>AM44,1,0) -> 0 | BC44: =IF(AM44>AL44,1,0) -> 0 | BD44: =IF(AN44>AO44,1,0) -> 0 | BE44: =IF(AO44>AN44,1,0) -> 0 | BF44: =IF(AP44>AQ44,1,0) -> 0 | BG44: =IF(AQ44>AP44,1,0) -> 0 | BI44: =IF(AB44>AC44,1,0) -> 0 | BJ44: =IF(AB44<AC44,1,0) -> 0
U45: 42 | V45: 11-12 | W45: 45280 | X45: 0.83333333 | Y45: 6 | Z45: =REPT($B$14,1) -> HAMDİ ÖZKAN | AA45: =REPT($B$15,1) -> SELÇUK KURT | AT45: =IF(AD45>AE45,1,0) -> 0 | AU45: =IF(AE45>AD45,1,0) -> 0 | AV45: =IF(AF45>AG45,1,0) -> 0 | AW45: =IF(AG45>AF45,1,0) -> 0 | AX45: =IF(AH45>AI45,1,0) -> 0 | AY45: =IF(AI45>AH45,1,0) -> 0 | AZ45: =IF(AJ45>AK45,1,0) -> 0 | BA45: =IF(AK45>AJ45,1,0) -> 0 | BB45: =IF(AL45>AM45,1,0) -> 0 | BC45: =IF(AM45>AL45,1,0) -> 0 | BD45: =IF(AN45>AO45,1,0) -> 0 | BE45: =IF(AO45>AN45,1,0) -> 0 | BF45: =IF(AP45>AQ45,1,0) -> 0 | BG45: =IF(AQ45>AP45,1,0) -> 0 | BI45: =IF(AB45>AC45,1,0) -> 0 | BJ45: =IF(AB45<AC45,1,0) -> 0
U46: 43 | V46: 5-1 | W46: 45280 | X46: 0.875 | Y46: 2 | Z46: =REPT($B$8,1) -> ALADDİN ÖZDEMİR | AA46: =REPT($B$4,1) -> FATİH KAYA | AT46: =IF(AD46>AE46,1,0) -> 0 | AU46: =IF(AE46>AD46,1,0) -> 0 | AV46: =IF(AF46>AG46,1,0) -> 0 | AW46: =IF(AG46>AF46,1,0) -> 0 | AX46: =IF(AH46>AI46,1,0) -> 0 | AY46: =IF(AI46>AH46,1,0) -> 0 | AZ46: =IF(AJ46>AK46,1,0) -> 0 | BA46: =IF(AK46>AJ46,1,0) -> 0 | BB46: =IF(AL46>AM46,1,0) -> 0 | BC46: =IF(AM46>AL46,1,0) -> 0 | BD46: =IF(AN46>AO46,1,0) -> 0 | BE46: =IF(AO46>AN46,1,0) -> 0 | BF46: =IF(AP46>AQ46,1,0) -> 0 | BG46: =IF(AQ46>AP46,1,0) -> 0 | BI46: =IF(AB46>AC46,1,0) -> 0 | BJ46: =IF(AB46<AC46,1,0) -> 0
U47: 44 | V47: 6-4 | W47: 45280 | X47: 0.875 | Y47: 3 | Z47: =REPT($B$9,1) -> SELİM ERTUĞTUL | AA47: =REPT($B$7,1) -> FATİH YENİSOLAK | AT47: =IF(AD47>AE47,1,0) -> 0 | AU47: =IF(AE47>AD47,1,0) -> 0 | AV47: =IF(AF47>AG47,1,0) -> 0 | AW47: =IF(AG47>AF47,1,0) -> 0 | AX47: =IF(AH47>AI47,1,0) -> 0 | AY47: =IF(AI47>AH47,1,0) -> 0 | AZ47: =IF(AJ47>AK47,1,0) -> 0 | BA47: =IF(AK47>AJ47,1,0) -> 0 | BB47: =IF(AL47>AM47,1,0) -> 0 | BC47: =IF(AM47>AL47,1,0) -> 0 | BD47: =IF(AN47>AO47,1,0) -> 0 | BE47: =IF(AO47>AN47,1,0) -> 0 | BF47: =IF(AP47>AQ47,1,0) -> 0 | BG47: =IF(AQ47>AP47,1,0) -> 0 | BI47: =IF(AB47>AC47,1,0) -> 0 | BJ47: =IF(AB47<AC47,1,0) -> 0
U48: 45 | V48: 7-3 | W48: 45280 | X48: 0.875 | Y48: 4 | Z48: =REPT($B$10,1) -> MURAT ÖZKARS | AA48: =REPT($B$6,1) -> RAMAZAN KAPTANOĞLU | AT48: =IF(AD48>AE48,1,0) -> 0 | AU48: =IF(AE48>AD48,1,0) -> 0 | AV48: =IF(AF48>AG48,1,0) -> 0 | AW48: =IF(AG48>AF48,1,0) -> 0 | AX48: =IF(AH48>AI48,1,0) -> 0 | AY48: =IF(AI48>AH48,1,0) -> 0 | AZ48: =IF(AJ48>AK48,1,0) -> 0 | BA48: =IF(AK48>AJ48,1,0) -> 0 | BB48: =IF(AL48>AM48,1,0) -> 0 | BC48: =IF(AM48>AL48,1,0) -> 0 | BD48: =IF(AN48>AO48,1,0) -> 0 | BE48: =IF(AO48>AN48,1,0) -> 0 | BF48: =IF(AP48>AQ48,1,0) -> 0 | BG48: =IF(AQ48>AP48,1,0) -> 0 | BI48: =IF(AB48>AC48,1,0) -> 0 | BJ48: =IF(AB48<AC48,1,0) -> 0
U49: 46 | V49: 8-2 | W49: 45280 | X49: 0.875 | Y49: 5 | Z49: =REPT($B$11,1) -> MUSTAFA KURTUL | AA49: =REPT($B$5,1) -> MUSTAFA DEMİR | AT49: =IF(AD49>AE49,1,0) -> 0 | AU49: =IF(AE49>AD49,1,0) -> 0 | AV49: =IF(AF49>AG49,1,0) -> 0 | AW49: =IF(AG49>AF49,1,0) -> 0 | AX49: =IF(AH49>AI49,1,0) -> 0 | AY49: =IF(AI49>AH49,1,0) -> 0 | AZ49: =IF(AJ49>AK49,1,0) -> 0 | BA49: =IF(AK49>AJ49,1,0) -> 0 | BB49: =IF(AL49>AM49,1,0) -> 0 | BC49: =IF(AM49>AL49,1,0) -> 0 | BD49: =IF(AN49>AO49,1,0) -> 0 | BE49: =IF(AO49>AN49,1,0) -> 0 | BF49: =IF(AP49>AQ49,1,0) -> 0 | BG49: =IF(AQ49>AP49,1,0) -> 0 | BI49: =IF(AB49>AC49,1,0) -> 0 | BJ49: =IF(AB49<AC49,1,0) -> 0
U50: 47 | V50: 9-12 | W50: 45280 | X50: 0.875 | Y50: 6 | Z50: =REPT($B$12,1) -> KAMİL BÖRÜBAN | AA50: =REPT($B$15,1) -> SELÇUK KURT | AT50: =IF(AD50>AE50,1,0) -> 0 | AU50: =IF(AE50>AD50,1,0) -> 0 | AV50: =IF(AF50>AG50,1,0) -> 0 | AW50: =IF(AG50>AF50,1,0) -> 0 | AX50: =IF(AH50>AI50,1,0) -> 0 | AY50: =IF(AI50>AH50,1,0) -> 0 | AZ50: =IF(AJ50>AK50,1,0) -> 0 | BA50: =IF(AK50>AJ50,1,0) -> 0 | BB50: =IF(AL50>AM50,1,0) -> 0 | BC50: =IF(AM50>AL50,1,0) -> 0 | BD50: =IF(AN50>AO50,1,0) -> 0 | BE50: =IF(AO50>AN50,1,0) -> 0 | BF50: =IF(AP50>AQ50,1,0) -> 0 | BG50: =IF(AQ50>AP50,1,0) -> 0 | BI50: =IF(AB50>AC50,1,0) -> 0 | BJ50: =IF(AB50<AC50,1,0) -> 0
U51: 48 | V51: 10-11 | W51: 45280 | X51: 0.875 | Y51: 1 | Z51: =REPT($B$13,1) -> ÇETİN KAPTANOĞLU | AA51: =REPT($B$14,1) -> HAMDİ ÖZKAN | AT51: =IF(AD51>AE51,1,0) -> 0 | AU51: =IF(AE51>AD51,1,0) -> 0 | AV51: =IF(AF51>AG51,1,0) -> 0 | AW51: =IF(AG51>AF51,1,0) -> 0 | AX51: =IF(AH51>AI51,1,0) -> 0 | AY51: =IF(AI51>AH51,1,0) -> 0 | AZ51: =IF(AJ51>AK51,1,0) -> 0 | BA51: =IF(AK51>AJ51,1,0) -> 0 | BB51: =IF(AL51>AM51,1,0) -> 0 | BC51: =IF(AM51>AL51,1,0) -> 0 | BD51: =IF(AN51>AO51,1,0) -> 0 | BE51: =IF(AO51>AN51,1,0) -> 0 | BF51: =IF(AP51>AQ51,1,0) -> 0 | BG51: =IF(AQ51>AP51,1,0) -> 0 | BI51: =IF(AB51>AC51,1,0) -> 0 | BJ51: =IF(AB51<AC51,1,0) -> 0
U52: 49 | V52: 1-4 | W52: 45282 | X52: 0.75 | Y52: 3 | Z52: =REPT($B$4,1) -> FATİH KAYA | AA52: =REPT($B$7,1) -> FATİH YENİSOLAK | AT52: =IF(AD52>AE52,1,0) -> 0 | AU52: =IF(AE52>AD52,1,0) -> 0 | AV52: =IF(AF52>AG52,1,0) -> 0 | AW52: =IF(AG52>AF52,1,0) -> 0 | AX52: =IF(AH52>AI52,1,0) -> 0 | AY52: =IF(AI52>AH52,1,0) -> 0 | AZ52: =IF(AJ52>AK52,1,0) -> 0 | BA52: =IF(AK52>AJ52,1,0) -> 0 | BB52: =IF(AL52>AM52,1,0) -> 0 | BC52: =IF(AM52>AL52,1,0) -> 0 | BD52: =IF(AN52>AO52,1,0) -> 0 | BE52: =IF(AO52>AN52,1,0) -> 0 | BF52: =IF(AP52>AQ52,1,0) -> 0 | BG52: =IF(AQ52>AP52,1,0) -> 0 | BI52: =IF(AB52>AC52,1,0) -> 0 | BJ52: =IF(AB52<AC52,1,0) -> 0
U53: 50 | V53: 5-3 | W53: 45282 | X53: 0.75 | Y53: 4 | Z53: =REPT($B$8,1) -> ALADDİN ÖZDEMİR | AA53: =REPT($B$6,1) -> RAMAZAN KAPTANOĞLU | AT53: =IF(AD53>AE53,1,0) -> 0 | AU53: =IF(AE53>AD53,1,0) -> 0 | AV53: =IF(AF53>AG53,1,0) -> 0 | AW53: =IF(AG53>AF53,1,0) -> 0 | AX53: =IF(AH53>AI53,1,0) -> 0 | AY53: =IF(AI53>AH53,1,0) -> 0 | AZ53: =IF(AJ53>AK53,1,0) -> 0 | BA53: =IF(AK53>AJ53,1,0) -> 0 | BB53: =IF(AL53>AM53,1,0) -> 0 | BC53: =IF(AM53>AL53,1,0) -> 0 | BD53: =IF(AN53>AO53,1,0) -> 0 | BE53: =IF(AO53>AN53,1,0) -> 0 | BF53: =IF(AP53>AQ53,1,0) -> 0 | BG53: =IF(AQ53>AP53,1,0) -> 0 | BI53: =IF(AB53>AC53,1,0) -> 0 | BJ53: =IF(AB53<AC53,1,0) -> 0
U54: 51 | V54: 6-2 | W54: 45282 | X54: 0.75 | Y54: 5 | Z54: =REPT($B$9,1) -> SELİM ERTUĞTUL | AA54: =REPT($B$5,1) -> MUSTAFA DEMİR | AT54: =IF(AD54>AE54,1,0) -> 0 | AU54: =IF(AE54>AD54,1,0) -> 0 | AV54: =IF(AF54>AG54,1,0) -> 0 | AW54: =IF(AG54>AF54,1,0) -> 0 | AX54: =IF(AH54>AI54,1,0) -> 0 | AY54: =IF(AI54>AH54,1,0) -> 0 | AZ54: =IF(AJ54>AK54,1,0) -> 0 | BA54: =IF(AK54>AJ54,1,0) -> 0 | BB54: =IF(AL54>AM54,1,0) -> 0 | BC54: =IF(AM54>AL54,1,0) -> 0 | BD54: =IF(AN54>AO54,1,0) -> 0 | BE54: =IF(AO54>AN54,1,0) -> 0 | BF54: =IF(AP54>AQ54,1,0) -> 0 | BG54: =IF(AQ54>AP54,1,0) -> 0 | BI54: =IF(AB54>AC54,1,0) -> 0 | BJ54: =IF(AB54<AC54,1,0) -> 0
U55: 52 | V55: 7-12 | W55: 45282 | X55: 0.75 | Y55: 6 | Z55: =REPT($B$10,1) -> MURAT ÖZKARS | AA55: =REPT($B$15,1) -> SELÇUK KURT | AT55: =IF(AD55>AE55,1,0) -> 0 | AU55: =IF(AE55>AD55,1,0) -> 0 | AV55: =IF(AF55>AG55,1,0) -> 0 | AW55: =IF(AG55>AF55,1,0) -> 0 | AX55: =IF(AH55>AI55,1,0) -> 0 | AY55: =IF(AI55>AH55,1,0) -> 0 | AZ55: =IF(AJ55>AK55,1,0) -> 0 | BA55: =IF(AK55>AJ55,1,0) -> 0 | BB55: =IF(AL55>AM55,1,0) -> 0 | BC55: =IF(AM55>AL55,1,0) -> 0 | BD55: =IF(AN55>AO55,1,0) -> 0 | BE55: =IF(AO55>AN55,1,0) -> 0 | BF55: =IF(AP55>AQ55,1,0) -> 0 | BG55: =IF(AQ55>AP55,1,0) -> 0 | BI55: =IF(AB55>AC55,1,0) -> 0 | BJ55: =IF(AB55<AC55,1,0) -> 0
U56: 53 | V56: 8-11 | W56: 45282 | X56: 0.75 | Y56: 1 | Z56: =REPT($B$11,1) -> MUSTAFA KURTUL | AA56: =REPT($B$14,1) -> HAMDİ ÖZKAN | AT56: =IF(AD56>AE56,1,0) -> 0 | AU56: =IF(AE56>AD56,1,0) -> 0 | AV56: =IF(AF56>AG56,1,0) -> 0 | AW56: =IF(AG56>AF56,1,0) -> 0 | AX56: =IF(AH56>AI56,1,0) -> 0 | AY56: =IF(AI56>AH56,1,0) -> 0 | AZ56: =IF(AJ56>AK56,1,0) -> 0 | BA56: =IF(AK56>AJ56,1,0) -> 0 | BB56: =IF(AL56>AM56,1,0) -> 0 | BC56: =IF(AM56>AL56,1,0) -> 0 | BD56: =IF(AN56>AO56,1,0) -> 0 | BE56: =IF(AO56>AN56,1,0) -> 0 | BF56: =IF(AP56>AQ56,1,0) -> 0 | BG56: =IF(AQ56>AP56,1,0) -> 0 | BI56: =IF(AB56>AC56,1,0) -> 0 | BJ56: =IF(AB56<AC56,1,0) -> 0
U57: 54 | V57: 9-10 | W57: 45282 | X57: 0.75 | Y57: 2 | Z57: =REPT($B$12,1) -> KAMİL BÖRÜBAN | AA57: =REPT($B$13,1) -> ÇETİN KAPTANOĞLU | AT57: =IF(AD57>AE57,1,0) -> 0 | AU57: =IF(AE57>AD57,1,0) -> 0 | AV57: =IF(AF57>AG57,1,0) -> 0 | AW57: =IF(AG57>AF57,1,0) -> 0 | AX57: =IF(AH57>AI57,1,0) -> 0 | AY57: =IF(AI57>AH57,1,0) -> 0 | AZ57: =IF(AJ57>AK57,1,0) -> 0 | BA57: =IF(AK57>AJ57,1,0) -> 0 | BB57: =IF(AL57>AM57,1,0) -> 0 | BC57: =IF(AM57>AL57,1,0) -> 0 | BD57: =IF(AN57>AO57,1,0) -> 0 | BE57: =IF(AO57>AN57,1,0) -> 0 | BF57: =IF(AP57>AQ57,1,0) -> 0 | BG57: =IF(AQ57>AP57,1,0) -> 0 | BI57: =IF(AB57>AC57,1,0) -> 0 | BJ57: =IF(AB57<AC57,1,0) -> 0
U58: 55 | V58: 3-1 | W58: 45282 | X58: 0.79166667 | Y58: 4 | Z58: =REPT($B$6,1) -> RAMAZAN KAPTANOĞLU | AA58: =REPT($B$4,1) -> FATİH KAYA | AT58: =IF(AD58>AE58,1,0) -> 0 | AU58: =IF(AE58>AD58,1,0) -> 0 | AV58: =IF(AF58>AG58,1,0) -> 0 | AW58: =IF(AG58>AF58,1,0) -> 0 | AX58: =IF(AH58>AI58,1,0) -> 0 | AY58: =IF(AI58>AH58,1,0) -> 0 | AZ58: =IF(AJ58>AK58,1,0) -> 0 | BA58: =IF(AK58>AJ58,1,0) -> 0 | BB58: =IF(AL58>AM58,1,0) -> 0 | BC58: =IF(AM58>AL58,1,0) -> 0 | BD58: =IF(AN58>AO58,1,0) -> 0 | BE58: =IF(AO58>AN58,1,0) -> 0 | BF58: =IF(AP58>AQ58,1,0) -> 0 | BG58: =IF(AQ58>AP58,1,0) -> 0 | BI58: =IF(AB58>AC58,1,0) -> 0 | BJ58: =IF(AB58<AC58,1,0) -> 0
U59: 56 | V59: 4-2 | W59: 45282 | X59: 0.79166667 | Y59: 5 | Z59: =REPT($B$7,1) -> FATİH YENİSOLAK | AA59: =REPT($B$5,1) -> MUSTAFA DEMİR | AT59: =IF(AD59>AE59,1,0) -> 0 | AU59: =IF(AE59>AD59,1,0) -> 0 | AV59: =IF(AF59>AG59,1,0) -> 0 | AW59: =IF(AG59>AF59,1,0) -> 0 | AX59: =IF(AH59>AI59,1,0) -> 0 | AY59: =IF(AI59>AH59,1,0) -> 0 | AZ59: =IF(AJ59>AK59,1,0) -> 0 | BA59: =IF(AK59>AJ59,1,0) -> 0 | BB59: =IF(AL59>AM59,1,0) -> 0 | BC59: =IF(AM59>AL59,1,0) -> 0 | BD59: =IF(AN59>AO59,1,0) -> 0 | BE59: =IF(AO59>AN59,1,0) -> 0 | BF59: =IF(AP59>AQ59,1,0) -> 0 | BG59: =IF(AQ59>AP59,1,0) -> 0 | BI59: =IF(AB59>AC59,1,0) -> 0 | BJ59: =IF(AB59<AC59,1,0) -> 0
U60: 57 | V60: 5-12 | W60: 45282 | X60: 0.79166667 | Y60: 6 | Z60: =REPT($B$8,1) -> ALADDİN ÖZDEMİR | AA60: =REPT($B$15,1) -> SELÇUK KURT | AT60: =IF(AD60>AE60,1,0) -> 0 | AU60: =IF(AE60>AD60,1,0) -> 0 | AV60: =IF(AF60>AG60,1,0) -> 0 | AW60: =IF(AG60>AF60,1,0) -> 0 | AX60: =IF(AH60>AI60,1,0) -> 0 | AY60: =IF(AI60>AH60,1,0) -> 0 | AZ60: =IF(AJ60>AK60,1,0) -> 0 | BA60: =IF(AK60>AJ60,1,0) -> 0 | BB60: =IF(AL60>AM60,1,0) -> 0 | BC60: =IF(AM60>AL60,1,0) -> 0 | BD60: =IF(AN60>AO60,1,0) -> 0 | BE60: =IF(AO60>AN60,1,0) -> 0 | BF60: =IF(AP60>AQ60,1,0) -> 0 | BG60: =IF(AQ60>AP60,1,0) -> 0 | BI60: =IF(AB60>AC60,1,0) -> 0 | BJ60: =IF(AB60<AC60,1,0) -> 0
U61: 58 | V61: 6-11 | W61: 45282 | X61: 0.79166667 | Y61: 1 | Z61: =REPT($B$9,1) -> SELİM ERTUĞTUL | AA61: =REPT($B$14,1) -> HAMDİ ÖZKAN | AT61: =IF(AD61>AE61,1,0) -> 0 | AU61: =IF(AE61>AD61,1,0) -> 0 | AV61: =IF(AF61>AG61,1,0) -> 0 | AW61: =IF(AG61>AF61,1,0) -> 0 | AX61: =IF(AH61>AI61,1,0) -> 0 | AY61: =IF(AI61>AH61,1,0) -> 0 | AZ61: =IF(AJ61>AK61,1,0) -> 0 | BA61: =IF(AK61>AJ61,1,0) -> 0 | BB61: =IF(AL61>AM61,1,0) -> 0 | BC61: =IF(AM61>AL61,1,0) -> 0 | BD61: =IF(AN61>AO61,1,0) -> 0 | BE61: =IF(AO61>AN61,1,0) -> 0 | BF61: =IF(AP61>AQ61,1,0) -> 0 | BG61: =IF(AQ61>AP61,1,0) -> 0 | BI61: =IF(AB61>AC61,1,0) -> 0 | BJ61: =IF(AB61<AC61,1,0) -> 0
U62: 59 | V62: 7-10 | W62: 45282 | X62: 0.79166667 | Y62: 2 | Z62: =REPT($B$10,1) -> MURAT ÖZKARS | AA62: =REPT($B$13,1) -> ÇETİN KAPTANOĞLU | AT62: =IF(AD62>AE62,1,0) -> 0 | AU62: =IF(AE62>AD62,1,0) -> 0 | AV62: =IF(AF62>AG62,1,0) -> 0 | AW62: =IF(AG62>AF62,1,0) -> 0 | AX62: =IF(AH62>AI62,1,0) -> 0 | AY62: =IF(AI62>AH62,1,0) -> 0 | AZ62: =IF(AJ62>AK62,1,0) -> 0 | BA62: =IF(AK62>AJ62,1,0) -> 0 | BB62: =IF(AL62>AM62,1,0) -> 0 | BC62: =IF(AM62>AL62,1,0) -> 0 | BD62: =IF(AN62>AO62,1,0) -> 0 | BE62: =IF(AO62>AN62,1,0) -> 0 | BF62: =IF(AP62>AQ62,1,0) -> 0 | BG62: =IF(AQ62>AP62,1,0) -> 0 | BI62: =IF(AB62>AC62,1,0) -> 0 | BJ62: =IF(AB62<AC62,1,0) -> 0
U63: 60 | V63: 8-9 | W63: 45282 | X63: 0.79166667 | Y63: 3 | Z63: =REPT($B$11,1) -> MUSTAFA KURTUL | AA63: =REPT($B$12,1) -> KAMİL BÖRÜBAN | AT63: =IF(AD63>AE63,1,0) -> 0 | AU63: =IF(AE63>AD63,1,0) -> 0 | AV63: =IF(AF63>AG63,1,0) -> 0 | AW63: =IF(AG63>AF63,1,0) -> 0 | AX63: =IF(AH63>AI63,1,0) -> 0 | AY63: =IF(AI63>AH63,1,0) -> 0 | AZ63: =IF(AJ63>AK63,1,0) -> 0 | BA63: =IF(AK63>AJ63,1,0) -> 0 | BB63: =IF(AL63>AM63,1,0) -> 0 | BC63: =IF(AM63>AL63,1,0) -> 0 | BD63: =IF(AN63>AO63,1,0) -> 0 | BE63: =IF(AO63>AN63,1,0) -> 0 | BF63: =IF(AP63>AQ63,1,0) -> 0 | BG63: =IF(AQ63>AP63,1,0) -> 0 | BI63: =IF(AB63>AC63,1,0) -> 0 | BJ63: =IF(AB63<AC63,1,0) -> 0
U64: 61 | V64: 1-2 | W64: 45282 | X64: 0.83333333 | Y64: 5 | Z64: =REPT($B$4,1) -> FATİH KAYA | AA64: =REPT($B$5,1) -> MUSTAFA DEMİR | AT64: =IF(AD64>AE64,1,0) -> 0 | AU64: =IF(AE64>AD64,1,0) -> 0 | AV64: =IF(AF64>AG64,1,0) -> 0 | AW64: =IF(AG64>AF64,1,0) -> 0 | AX64: =IF(AH64>AI64,1,0) -> 0 | AY64: =IF(AI64>AH64,1,0) -> 0 | AZ64: =IF(AJ64>AK64,1,0) -> 0 | BA64: =IF(AK64>AJ64,1,0) -> 0 | BB64: =IF(AL64>AM64,1,0) -> 0 | BC64: =IF(AM64>AL64,1,0) -> 0 | BD64: =IF(AN64>AO64,1,0) -> 0 | BE64: =IF(AO64>AN64,1,0) -> 0 | BF64: =IF(AP64>AQ64,1,0) -> 0 | BG64: =IF(AQ64>AP64,1,0) -> 0 | BI64: =IF(AB64>AC64,1,0) -> 0 | BJ64: =IF(AB64<AC64,1,0) -> 0
U65: 62 | V65: 3-12 | W65: 45282 | X65: 0.83333333 | Y65: 6 | Z65: =REPT($B$6,1) -> RAMAZAN KAPTANOĞLU | AA65: =REPT($B$15,1) -> SELÇUK KURT | AT65: =IF(AD65>AE65,1,0) -> 0 | AU65: =IF(AE65>AD65,1,0) -> 0 | AV65: =IF(AF65>AG65,1,0) -> 0 | AW65: =IF(AG65>AF65,1,0) -> 0 | AX65: =IF(AH65>AI65,1,0) -> 0 | AY65: =IF(AI65>AH65,1,0) -> 0 | AZ65: =IF(AJ65>AK65,1,0) -> 0 | BA65: =IF(AK65>AJ65,1,0) -> 0 | BB65: =IF(AL65>AM65,1,0) -> 0 | BC65: =IF(AM65>AL65,1,0) -> 0 | BD65: =IF(AN65>AO65,1,0) -> 0 | BE65: =IF(AO65>AN65,1,0) -> 0 | BF65: =IF(AP65>AQ65,1,0) -> 0 | BG65: =IF(AQ65>AP65,1,0) -> 0 | BI65: =IF(AB65>AC65,1,0) -> 0 | BJ65: =IF(AB65<AC65,1,0) -> 0
U66: 63 | V66: 4-11 | W66: 45282 | X66: 0.83333333 | Y66: 1 | Z66: =REPT($B$7,1) -> FATİH YENİSOLAK | AA66: =REPT($B$14,1) -> HAMDİ ÖZKAN | AT66: =IF(AD66>AE66,1,0) -> 0 | AU66: =IF(AE66>AD66,1,0) -> 0 | AV66: =IF(AF66>AG66,1,0) -> 0 | AW66: =IF(AG66>AF66,1,0) -> 0 | AX66: =IF(AH66>AI66,1,0) -> 0 | AY66: =IF(AI66>AH66,1,0) -> 0 | AZ66: =IF(AJ66>AK66,1,0) -> 0 | BA66: =IF(AK66>AJ66,1,0) -> 0 | BB66: =IF(AL66>AM66,1,0) -> 0 | BC66: =IF(AM66>AL66,1,0) -> 0 | BD66: =IF(AN66>AO66,1,0) -> 0 | BE66: =IF(AO66>AN66,1,0) -> 0 | BF66: =IF(AP66>AQ66,1,0) -> 0 | BG66: =IF(AQ66>AP66,1,0) -> 0 | BI66: =IF(AB66>AC66,1,0) -> 0 | BJ66: =IF(AB66<AC66,1,0) -> 0
U67: 64 | V67: 5-10 | W67: 45282 | X67: 0.83333333 | Y67: 2 | Z67: =REPT($B$8,1) -> ALADDİN ÖZDEMİR | AA67: =REPT($B$13,1) -> ÇETİN KAPTANOĞLU | AT67: =IF(AD67>AE67,1,0) -> 0 | AU67: =IF(AE67>AD67,1,0) -> 0 | AV67: =IF(AF67>AG67,1,0) -> 0 | AW67: =IF(AG67>AF67,1,0) -> 0 | AX67: =IF(AH67>AI67,1,0) -> 0 | AY67: =IF(AI67>AH67,1,0) -> 0 | AZ67: =IF(AJ67>AK67,1,0) -> 0 | BA67: =IF(AK67>AJ67,1,0) -> 0 | BB67: =IF(AL67>AM67,1,0) -> 0 | BC67: =IF(AM67>AL67,1,0) -> 0 | BD67: =IF(AN67>AO67,1,0) -> 0 | BE67: =IF(AO67>AN67,1,0) -> 0 | BF67: =IF(AP67>AQ67,1,0) -> 0 | BG67: =IF(AQ67>AP67,1,0) -> 0 | BI67: =IF(AB67>AC67,1,0) -> 0 | BJ67: =IF(AB67<AC67,1,0) -> 0
U68: 65 | V68: 6-9 | W68: 45282 | X68: 0.83333333 | Y68: 3 | Z68: =REPT($B$9,1) -> SELİM ERTUĞTUL | AA68: =REPT($B$12,1) -> KAMİL BÖRÜBAN | AT68: =IF(AD68>AE68,1,0) -> 0 | AU68: =IF(AE68>AD68,1,0) -> 0 | AV68: =IF(AF68>AG68,1,0) -> 0 | AW68: =IF(AG68>AF68,1,0) -> 0 | AX68: =IF(AH68>AI68,1,0) -> 0 | AY68: =IF(AI68>AH68,1,0) -> 0 | AZ68: =IF(AJ68>AK68,1,0) -> 0 | BA68: =IF(AK68>AJ68,1,0) -> 0 | BB68: =IF(AL68>AM68,1,0) -> 0 | BC68: =IF(AM68>AL68,1,0) -> 0 | BD68: =IF(AN68>AO68,1,0) -> 0 | BE68: =IF(AO68>AN68,1,0) -> 0 | BF68: =IF(AP68>AQ68,1,0) -> 0 | BG68: =IF(AQ68>AP68,1,0) -> 0 | BI68: =IF(AB68>AC68,1,0) -> 0 | BJ68: =IF(AB68<AC68,1,0) -> 0
U69: 66 | V69: 7-8 | W69: 45282 | X69: 0.83333333 | Y69: 4 | Z69: =REPT($B$10,1) -> MURAT ÖZKARS | AA69: =REPT($B$11,1) -> MUSTAFA KURTUL | AT69: =IF(AD69>AE69,1,0) -> 0 | AU69: =IF(AE69>AD69,1,0) -> 0 | AV69: =IF(AF69>AG69,1,0) -> 0 | AW69: =IF(AG69>AF69,1,0) -> 0 | AX69: =IF(AH69>AI69,1,0) -> 0 | AY69: =IF(AI69>AH69,1,0) -> 0 | AZ69: =IF(AJ69>AK69,1,0) -> 0 | BA69: =IF(AK69>AJ69,1,0) -> 0 | BB69: =IF(AL69>AM69,1,0) -> 0 | BC69: =IF(AM69>AL69,1,0) -> 0 | BD69: =IF(AN69>AO69,1,0) -> 0 | BE69: =IF(AO69>AN69,1,0) -> 0 | BF69: =IF(AP69>AQ69,1,0) -> 0 | BG69: =IF(AQ69>AP69,1,0) -> 0 | BI69: =IF(AB69>AC69,1,0) -> 0 | BJ69: =IF(AB69<AC69,1,0) -> 0

Sheet MAÇ KAĞIDI 7 SET
B1: =[1]Grup!B1 -> TÜRKİYE MASA TENİSİ FEDERASYONU | X1: =B1 -> TÜRKİYE MASA TENİSİ FEDERASYONU
B2: =FİKSTÜR!A1 -> SÜPER LİG | X2: =B2 -> SÜPER LİG
B4: Maç No | D4: Yarışma | O4: Tarih | R4: Saat | T4: Masa | X4: Maç No | Z4: Yarışma | AK4: Tarih | AN4: Saat | AP4: Masa
B5: 1 | D5: =VLOOKUP(B5,' MAÇLAR'!A2:G67,2,FALSE) -> SÜPER LİG 1. ETAP.1. TUR | O5: =VLOOKUP(B5,' MAÇLAR'!A2:G67,5,FALSE) -> 45278 | R5: =VLOOKUP(B5,' MAÇLAR'!A2:G67,6,FALSE) -> 0.75 | T5: =VLOOKUP(B5,' MAÇLAR'!A2:G67,7,FALSE) -> 1 | X5: =1+B5 -> 2 | Z5: =VLOOKUP(X5,' MAÇLAR'!A2:G67,2,FALSE) -> SÜPER LİG 1. ETAP.1. TUR | AK5: =VLOOKUP(X5,' MAÇLAR'!A2:G67,5,FALSE) -> 45278 | AN5: =VLOOKUP(X5,' MAÇLAR'!A2:G67,6,FALSE) -> 0.75 | AP5: =VLOOKUP(X5,' MAÇLAR'!A2:G67,7,FALSE) -> 2
K7: Setler | S7: Sporcu | U7: Öğ. | AG7: Setler | AO7: Sporcu | AQ7: Öğ.
C8: Nr | D8: Oyuncular | K8: 1. | L8: 2. | M8: 3. | N8: 4. | O8: 5. | P8: 6. | Q8: 7. | R8: N | S8: M | T8: SKK | U8: SK | Y8: Nr | Z8: Oyuncular | AG8: 1. | AH8: 2. | AI8: 3. | AJ8: 4. | AK8: 5. | AL8: 6. | AM8: 7. | AN8: N | AO8: M | AP8: SKK | AQ8: SK
B9: A | C9: =IF(ISERROR(VLOOKUP(D9,' SÜPER LİG OLUŞUM'!B1:C16,2,FALSE)),"",VLOOKUP(D9,' SÜPER LİG OLUŞUM'!B1:C16,2,FALSE)) -> 1 | D9: =VLOOKUP(B5,' MAÇLAR'!A2:G67,3,FALSE) -> FATİH KAYA | X9: A | Y9: =IF(ISERROR(VLOOKUP(Z9,' SÜPER LİG OLUŞUM'!B1:C16,2,FALSE)),"",VLOOKUP(Z9,' SÜPER LİG OLUŞUM'!B1:C16,2,FALSE)) -> 2 | Z9: =VLOOKUP(X5,' MAÇLAR'!A2:G67,3,FALSE) -> MUSTAFA DEMİR
C10: FR | Y10: FR
B11: X | C11: =IF(ISERROR(VLOOKUP(D11,' SÜPER LİG OLUŞUM'!B1:C16,2,FALSE)),"",VLOOKUP(D11,' SÜPER LİG OLUŞUM'!B1:C16,2,FALSE)) -> 12 | D11: =VLOOKUP(B5,' MAÇLAR'!A2:G67,4,FALSE) -> SELÇUK KURT | X11: X | Y11: =IF(ISERROR(VLOOKUP(Z11,' SÜPER LİG OLUŞUM'!B1:C16,2,FALSE)),"",VLOOKUP(Z11,' SÜPER LİG OLUŞUM'!B1:C16,2,FALSE)) -> 11 | Z11: =VLOOKUP(X5,' MAÇLAR'!A2:G67,4,FALSE) -> HAMDİ ÖZKAN
C12: FR | Y12: FR
B14: Lütfen, kazananın ismini daire içine alınız !! | X14: Lütfen, kazananın ismini daire içine alınız !!
B16: Nr. | C16: Galip: Adı Soyadı / İmza | J16: SONUÇ | L16: Hakem Adı Soyadı / İmza | R16: Başhakem | X16: Nr. | Y16: Galip: Adı Soyadı / İmza | AF16: SONUÇ | AH16: Hakem Adı Soyadı / İmza | AN16: Başhakem
J17: 4 - 2 | AF17: 4 - 2
B20: =B1 -> TÜRKİYE MASA TENİSİ FEDERASYONU | X20: =B20 -> TÜRKİYE MASA TENİSİ FEDERASYONU
B21: =B2 -> SÜPER LİG | X21: =B21 -> SÜPER LİG
B23: Maç No | D23: Yarışma | O23: Tarih | R23: Saat | T23: Masa | X23: Maç No | Z23: Yarışma | AK23: Tarih | AN23: Saat | AP23: Masa
B24: =2+B5 -> 3 | D24: =VLOOKUP(B24,' MAÇLAR'!A2:G67,2,FALSE) -> SÜPER LİG 1. ETAP.1. TUR | O24: =VLOOKUP(B24,' MAÇLAR'!A2:G67,5,FALSE) -> 45278 | R24: =VLOOKUP(B24,' MAÇLAR'!A2:G67,6,FALSE) -> 0.75 | T24: =VLOOKUP(B24,' MAÇLAR'!A2:G67,7,FALSE) -> 3 | X24: =1+B24 -> 4 | Z24: =VLOOKUP(X24,' MAÇLAR'!A2:G67,2,FALSE) -> SÜPER LİG 1. ETAP.1. TUR | AK24: =VLOOKUP(X24,' MAÇLAR'!A2:G67,5,FALSE) -> 45278 | AN24: =VLOOKUP(X24,' MAÇLAR'!A2:G67,6,FALSE) -> 0.75 | AP24: =VLOOKUP(X24,' MAÇLAR'!A2:G67,7,FALSE) -> 4
K26: Setler | S26: Sporcu | U26: Öğ. | AG26: Setler | AO26: Sporcu | AQ26: Öğ.
C27: Nr | D27: Oyuncular | K27: 1. | L27: 2. | M27: 3. | N27: 4. | O27: 5. | P27: 6. | Q27: 7. | R27: N | S27: M | T27: SKK | U27: SK | Y27: Nr | Z27: Oyuncular | AG27: 1. | AH27: 2. | AI27: 3. | AJ27: 4. | AK27: 5. | AL27: 6. | AM27: 7. | AN27: N | AO27: M | AP27: SKK | AQ27: SK
B28: A | C28: =IF(ISERROR(VLOOKUP(D28,' SÜPER LİG OLUŞUM'!B1:C16,2,FALSE)),"",VLOOKUP(D28,' SÜPER LİG OLUŞUM'!B1:C16,2,FALSE)) -> 3 | D28: =VLOOKUP(B24,' MAÇLAR'!A2:G67,3,FALSE) -> RAMAZAN KAPTANOĞLU | X28: A | Y28: =IF(ISERROR(VLOOKUP(Z28,' SÜPER LİG OLUŞUM'!B1:C16,2,FALSE)),"",VLOOKUP(Z28,' SÜPER LİG OLUŞUM'!B1:C16,2,FALSE)) -> 4 | Z28: =VLOOKUP(X24,' MAÇLAR'!A2:G67,3,FALSE) -> FATİH YENİSOLAK
C29: FR | Y29: FR
B30: X | C30: =IF(ISERROR(VLOOKUP(D30,' SÜPER LİG OLUŞUM'!B1:C16,2,FALSE)),"",VLOOKUP(D30,' SÜPER LİG OLUŞUM'!B1:C16,2,FALSE)) -> 10 | D30: =VLOOKUP(B24,' MAÇLAR'!A2:G67,4,FALSE) -> ÇETİN KAPTANOĞLU | X30: X | Y30: =IF(ISERROR(VLOOKUP(Z30,' SÜPER LİG OLUŞUM'!B1:C16,2,FALSE)),"",VLOOKUP(Z30,' SÜPER LİG OLUŞUM'!B1:C16,2,FALSE)) -> 9 | Z30: =VLOOKUP(X24,' MAÇLAR'!A2:G67,4,FALSE) -> KAMİL BÖRÜBAN
C31: FR | Y31: FR
B33: Lütfen, kazananın ismini daire içine alınız !! | X33: Lütfen, kazananın ismini daire içine alınız !!
B35: Nr. | C35: Galip: Adı Soyadı / İmza | J35: SONUÇ | L35: Hakem Adı Soyadı / İmza | R35: Başhakem | X35: Nr. | Y35: Galip: Adı Soyadı / İmza | AF35: SONUÇ | AH35: Hakem Adı Soyadı / İmza | AN35: Başhakem
J36: 4 - 2 | AF36: 4 - 2

Sheet MAÇ KAĞIDI 5 SET
B1: =FİKSTÜR!A1 -> SÜPER LİG | V1: =B1 -> SÜPER LİG
B4: Maç No | D4: Yarışma | M4: Tarih | P4: Saat | R4: Masa | V4: Maç No | X4: Yarışma | AG4: Tarih | AJ4: Saat | AL4: Masa
B5: 1 | D5: =VLOOKUP(B5,' MAÇLAR'!A2:G67,2,FALSE) -> SÜPER LİG 1. ETAP.1. TUR | M5: =VLOOKUP(B5,' MAÇLAR'!A2:G67,5,FALSE) -> 45278 | P5: =VLOOKUP(B5,' MAÇLAR'!A2:G67,6,FALSE) -> 0.75 | R5: =VLOOKUP(B5,' MAÇLAR'!A2:G67,7,FALSE) -> 1 | V5: =1+B5 -> 2 | X5: =VLOOKUP(V5,' MAÇLAR'!A2:G67,2,FALSE) -> SÜPER LİG 1. ETAP.1. TUR | AG5: =VLOOKUP(V5,' MAÇLAR'!A2:G67,5,FALSE) -> 45278 | AJ5: =VLOOKUP(V5,' MAÇLAR'!A2:G67,6,FALSE) -> 0.75 | AL5: =VLOOKUP(V5,' MAÇLAR'!A2:G67,7,FALSE) -> 2
K7: Setler | Q7: Oyuncu | S7: Öğ. | AE7: Setler | AK7: Oyuncu | AM7: Öğ.
C8: Nr | D8: Oyuncular | K8: 1. | L8: 2. | M8: 3. | N8: 4. | O8: 5. | P8: NTC | Q8: MOLA | R8: SKK | S8: SK | W8: Nr | X8: Oyuncular | AE8: 1. | AF8: 2. | AG8: 3. | AH8: 4. | AI8: 5. | AJ8: NTC | AK8: MOLA | AL8: SKK | AM8: SK
B9: A | C9: =IF(ISERROR(VLOOKUP(D9,' SÜPER LİG OLUŞUM'!B1:C16,2,FALSE)),"",VLOOKUP(D9,' SÜPER LİG OLUŞUM'!B1:C16,2,FALSE)) -> 1 | D9: =VLOOKUP(B5,' MAÇLAR'!A2:G67,3,FALSE) -> FATİH KAYA | V9: A | W9: =IF(ISERROR(VLOOKUP(X9,' SÜPER LİG OLUŞUM'!B1:C16,2,FALSE)),"",VLOOKUP(X9,' SÜPER LİG OLUŞUM'!B1:C16,2,FALSE)) -> 2 | X9: =VLOOKUP(V5,' MAÇLAR'!A2:G67,3,FALSE) -> MUSTAFA DEMİR
C10: FR | W10: FR
B11: X | C11: =IF(ISERROR(VLOOKUP(D11,' SÜPER LİG OLUŞUM'!B1:C16,2,FALSE)),"",VLOOKUP(D11,' SÜPER LİG OLUŞUM'!B1:C16,2,FALSE)) -> 12 | D11: =VLOOKUP(B5,' MAÇLAR'!A2:G67,4,FALSE) -> SELÇUK KURT | V11: X | W11: =IF(ISERROR(VLOOKUP(X11,' SÜPER LİG OLUŞUM'!B1:C16,2,FALSE)),"",VLOOKUP(X11,' SÜPER LİG OLUŞUM'!B1:C16,2,FALSE)) -> 11 | X11: =VLOOKUP(V5,' MAÇLAR'!A2:G67,4,FALSE) -> HAMDİ ÖZKAN
C12: FR | W12: FR
B14: Lütfen, kazananın ismini daire içine alınız !! | V14: Lütfen, kazananın ismini daire içine alınız !!
B16: Nr. | C16: Galip: Adı Soyadı / İmza | J16: SONUÇ | L16: Hakem Adı Soyadı / İmza | Q16: Başhakem | V16: Nr. | W16: Galip: Adı Soyadı / İmza | AD16: SONUÇ | AF16: Hakem Adı Soyadı / İmza | AK16: Başhakem
J17: 3 - | AD17: 3 -
B20: =B1 -> SÜPER LİG | V20: =B20 -> SÜPER LİG
B23: Maç No | D23: Yarışma | M23: Tarih | P23: Saat | R23: Masa | V23: Maç No | X23: Yarışma | AG23: Tarih | AJ23: Saat | AL23: Masa
B24: =2+B5 -> 3 | D24: =VLOOKUP(B24,' MAÇLAR'!A2:G67,2,FALSE) -> SÜPER LİG 1. ETAP.1. TUR | M24: =VLOOKUP(B24,' MAÇLAR'!A2:G67,5,FALSE) -> 45278 | P24: =VLOOKUP(B24,' MAÇLAR'!A2:G67,6,FALSE) -> 0.75 | R24: =VLOOKUP(B24,' MAÇLAR'!A2:G67,7,FALSE) -> 3 | V24: =1+B24 -> 4 | X24: =VLOOKUP(V24,' MAÇLAR'!A2:G67,2,FALSE) -> SÜPER LİG 1. ETAP.1. TUR | AG24: =VLOOKUP(V24,' MAÇLAR'!A2:G67,5,FALSE) -> 45278 | AJ24: =VLOOKUP(V24,' MAÇLAR'!A2:G67,6,FALSE) -> 0.75 | AL24: =VLOOKUP(V24,' MAÇLAR'!A2:G67,7,FALSE) -> 4
K26: Setler | Q26: Oyuncu | S26: Öğ. | AE26: Setler | AK26: Oyuncu | AM26: Öğ.
C27: Nr | D27: Oyuncular | K27: 1. | L27: 2. | M27: 3. | N27: 4. | O27: 5. | P27: NTC | Q27: MOLA | R27: SKK | S27: SK | W27: Nr | X27: Oyuncular | AE27: 1. | AF27: 2. | AG27: 3. | AH27: 4. | AI27: 5. | AJ27: NTC | AK27: MOLA | AL27: SKK | AM27: SK
B28: A | C28: =IF(ISERROR(VLOOKUP(D28,' SÜPER LİG OLUŞUM'!B1:C16,2,FALSE)),"",VLOOKUP(D28,' SÜPER LİG OLUŞUM'!B1:C16,2,FALSE)) -> 3 | D28: =VLOOKUP(B24,' MAÇLAR'!A2:G67,3,FALSE) -> RAMAZAN KAPTANOĞLU | V28: A | W28: =IF(ISERROR(VLOOKUP(X28,' SÜPER LİG OLUŞUM'!B1:C16,2,FALSE)),"",VLOOKUP(X28,' SÜPER LİG OLUŞUM'!B1:C16,2,FALSE)) -> 4 | X28: =VLOOKUP(V24,' MAÇLAR'!A2:G67,3,FALSE) -> FATİH YENİSOLAK
C29: FR | W29: FR
B30: X | C30: =IF(ISERROR(VLOOKUP(D30,' SÜPER LİG OLUŞUM'!B1:C16,2,FALSE)),"",VLOOKUP(D30,' SÜPER LİG OLUŞUM'!B1:C16,2,FALSE)) -> 10 | D30: =VLOOKUP(B24,' MAÇLAR'!A2:G67,4,FALSE) -> ÇETİN KAPTANOĞLU | V30: X | W30: =IF(ISERROR(VLOOKUP(X30,' SÜPER LİG OLUŞUM'!B1:C16,2,FALSE)),"",VLOOKUP(X30,' SÜPER LİG OLUŞUM'!B1:C16,2,FALSE)) -> 9 | X30: =VLOOKUP(V24,' MAÇLAR'!A2:G67,4,FALSE) -> KAMİL BÖRÜBAN
C31: FR | W31: FR
B33: Lütfen, kazananın ismini daire içine alınız !! | V33: Lütfen, kazananın ismini daire içine alınız !!
B35: Nr. | C35: Galip: Adı Soyadı / İmza | J35: SONUÇ | L35: Hakemler | Q35: Başhakem | V35: Nr. | W35: Galip: Adı Soyadı / İmza | AD35: SONUÇ | AF35: Hakem Adı Soyadı / İmza | AK35: Başhakem
J36: 3 - | AD36: 3 -
